BEGIN:VCALENDAR
VERSION:2.0
PRODID:-//JOKA Rules Tournament Series - ECPv6.15.11//NONSGML v1.0//EN
CALSCALE:GREGORIAN
METHOD:PUBLISH
X-WR-CALNAME:JOKA Rules Tournament Series
X-ORIGINAL-URL:https://www.joka.golf
X-WR-CALDESC:Veranstaltungen für JOKA Rules Tournament Series
REFRESH-INTERVAL;VALUE=DURATION:PT1H
X-Robots-Tag:noindex
X-PUBLISHED-TTL:PT1H
BEGIN:VTIMEZONE
TZID:Europe/Berlin
BEGIN:DAYLIGHT
TZOFFSETFROM:+0100
TZOFFSETTO:+0200
TZNAME:CEST
DTSTART:20250330T010000
END:DAYLIGHT
BEGIN:STANDARD
TZOFFSETFROM:+0200
TZOFFSETTO:+0100
TZNAME:CET
DTSTART:20251026T010000
END:STANDARD
BEGIN:DAYLIGHT
TZOFFSETFROM:+0100
TZOFFSETTO:+0200
TZNAME:CEST
DTSTART:20260329T010000
END:DAYLIGHT
BEGIN:STANDARD
TZOFFSETFROM:+0200
TZOFFSETTO:+0100
TZNAME:CET
DTSTART:20261025T010000
END:STANDARD
BEGIN:DAYLIGHT
TZOFFSETFROM:+0100
TZOFFSETTO:+0200
TZNAME:CEST
DTSTART:20270328T010000
END:DAYLIGHT
BEGIN:STANDARD
TZOFFSETFROM:+0200
TZOFFSETTO:+0100
TZNAME:CET
DTSTART:20271031T010000
END:STANDARD
END:VTIMEZONE
BEGIN:VEVENT
DTSTART;VALUE=DATE:20260703
DTEND;VALUE=DATE:20260704
DTSTAMP:20260420T180152
CREATED:20260115T065126Z
LAST-MODIFIED:20260115T065126Z
UID:10001871-1783036800-1783123199@www.joka.golf
SUMMARY:Golfclub Thülsfelde JOKA After-Work Trophy
DESCRIPTION:
URL:https://www.joka.golf/event/golfclub-thuelsfelde-joka-after-work-trophy-2/2026-07-03/
LOCATION:Golfclub Thülsfelder Talsperre\, Mühlenweg 9\, Molbergen\, 49696\, Deutschland
CATEGORIES:Turniere,Turnierkalender
ATTACH;FMTTYPE=image/jpeg:https://www.joka.golf/wp-content/uploads/GC-Thuelsfelder-Talsperre-2.jpg
ORGANIZER;CN="Golf Emotion":MAILTO:info@golf-emotion.eu
END:VEVENT
BEGIN:VEVENT
DTSTART;VALUE=DATE:20260717
DTEND;VALUE=DATE:20260718
DTSTAMP:20260420T180152
CREATED:20260115T065126Z
LAST-MODIFIED:20260115T065126Z
UID:10001872-1784246400-1784332799@www.joka.golf
SUMMARY:Golfclub Thülsfelde JOKA After-Work Trophy
DESCRIPTION:
URL:https://www.joka.golf/event/golfclub-thuelsfelde-joka-after-work-trophy-2/2026-07-17/
LOCATION:Golfclub Thülsfelder Talsperre\, Mühlenweg 9\, Molbergen\, 49696\, Deutschland
CATEGORIES:Turniere,Turnierkalender
ATTACH;FMTTYPE=image/jpeg:https://www.joka.golf/wp-content/uploads/GC-Thuelsfelder-Talsperre-2.jpg
ORGANIZER;CN="Golf Emotion":MAILTO:info@golf-emotion.eu
END:VEVENT
BEGIN:VEVENT
DTSTART;VALUE=DATE:20260731
DTEND;VALUE=DATE:20260801
DTSTAMP:20260420T180152
CREATED:20260115T065126Z
LAST-MODIFIED:20260115T065126Z
UID:10001873-1785456000-1785542399@www.joka.golf
SUMMARY:Golfclub Thülsfelde JOKA After-Work Trophy
DESCRIPTION:
URL:https://www.joka.golf/event/golfclub-thuelsfelde-joka-after-work-trophy-2/2026-07-31/
LOCATION:Golfclub Thülsfelder Talsperre\, Mühlenweg 9\, Molbergen\, 49696\, Deutschland
CATEGORIES:Turniere,Turnierkalender
ATTACH;FMTTYPE=image/jpeg:https://www.joka.golf/wp-content/uploads/GC-Thuelsfelder-Talsperre-2.jpg
ORGANIZER;CN="Golf Emotion":MAILTO:info@golf-emotion.eu
END:VEVENT
BEGIN:VEVENT
DTSTART;VALUE=DATE:20260814
DTEND;VALUE=DATE:20260815
DTSTAMP:20260420T180152
CREATED:20260115T065126Z
LAST-MODIFIED:20260115T065126Z
UID:10001874-1786665600-1786751999@www.joka.golf
SUMMARY:Golfclub Thülsfelde JOKA After-Work Trophy
DESCRIPTION:
URL:https://www.joka.golf/event/golfclub-thuelsfelde-joka-after-work-trophy-2/2026-08-14/
LOCATION:Golfclub Thülsfelder Talsperre\, Mühlenweg 9\, Molbergen\, 49696\, Deutschland
CATEGORIES:Turniere,Turnierkalender
ATTACH;FMTTYPE=image/jpeg:https://www.joka.golf/wp-content/uploads/GC-Thuelsfelder-Talsperre-2.jpg
ORGANIZER;CN="Golf Emotion":MAILTO:info@golf-emotion.eu
END:VEVENT
BEGIN:VEVENT
DTSTART;VALUE=DATE:20260828
DTEND;VALUE=DATE:20260829
DTSTAMP:20260420T180152
CREATED:20260115T065126Z
LAST-MODIFIED:20260115T065126Z
UID:10001875-1787875200-1787961599@www.joka.golf
SUMMARY:Golfclub Thülsfelde JOKA After-Work Trophy
DESCRIPTION:
URL:https://www.joka.golf/event/golfclub-thuelsfelde-joka-after-work-trophy-2/2026-08-28/
LOCATION:Golfclub Thülsfelder Talsperre\, Mühlenweg 9\, Molbergen\, 49696\, Deutschland
CATEGORIES:Turniere,Turnierkalender
ATTACH;FMTTYPE=image/jpeg:https://www.joka.golf/wp-content/uploads/GC-Thuelsfelder-Talsperre-2.jpg
ORGANIZER;CN="Golf Emotion":MAILTO:info@golf-emotion.eu
END:VEVENT
END:VCALENDAR