BEGIN:VCALENDAR
VERSION:2.0
PRODID:-//JOKA Rules Tournament Series - ECPv6.15.11//NONSGML v1.0//EN
CALSCALE:GREGORIAN
METHOD:PUBLISH
X-WR-CALNAME:JOKA Rules Tournament Series
X-ORIGINAL-URL:https://www.joka.golf
X-WR-CALDESC:Veranstaltungen für JOKA Rules Tournament Series
REFRESH-INTERVAL;VALUE=DURATION:PT1H
X-Robots-Tag:noindex
X-PUBLISHED-TTL:PT1H
BEGIN:VTIMEZONE
TZID:Europe/Berlin
BEGIN:DAYLIGHT
TZOFFSETFROM:+0100
TZOFFSETTO:+0200
TZNAME:CEST
DTSTART:20250330T010000
END:DAYLIGHT
BEGIN:STANDARD
TZOFFSETFROM:+0200
TZOFFSETTO:+0100
TZNAME:CET
DTSTART:20251026T010000
END:STANDARD
BEGIN:DAYLIGHT
TZOFFSETFROM:+0100
TZOFFSETTO:+0200
TZNAME:CEST
DTSTART:20260329T010000
END:DAYLIGHT
BEGIN:STANDARD
TZOFFSETFROM:+0200
TZOFFSETTO:+0100
TZNAME:CET
DTSTART:20261025T010000
END:STANDARD
BEGIN:DAYLIGHT
TZOFFSETFROM:+0100
TZOFFSETTO:+0200
TZNAME:CEST
DTSTART:20270328T010000
END:DAYLIGHT
BEGIN:STANDARD
TZOFFSETFROM:+0200
TZOFFSETTO:+0100
TZNAME:CET
DTSTART:20271031T010000
END:STANDARD
END:VTIMEZONE
BEGIN:VEVENT
DTSTART;VALUE=DATE:20260422
DTEND;VALUE=DATE:20260423
DTSTAMP:20260420T172509
CREATED:20240206T230000Z
LAST-MODIFIED:20251216T081553Z
UID:10000689-1776816000-1776902399@www.joka.golf
SUMMARY:Küsten Golfclub Hohe Klint JOKA Matchday-Plus 2er Texas-Scramble Tagesturnier -Herren-
DESCRIPTION:
URL:https://www.joka.golf/event/kuesten-golfclub-hohe-klint-joka-matchday-plus-2er-texas-scramble-tagesturnier-herren/
LOCATION:Küsten-Golfclub Hohe Klint\, Hohe Klint 32\, Cuxhaven\, 27478\, Deutschland
CATEGORIES:Turniere,Turnierkalender
ATTACH;FMTTYPE=image/jpeg:https://www.joka.golf/wp-content/uploads/GC-Kuesten-Golfclub-Hohe-Klint.jpg
ORGANIZER;CN="Golf Emotion":MAILTO:info@golf-emotion.eu
END:VEVENT
BEGIN:VEVENT
DTSTART;VALUE=DATE:20260422
DTEND;VALUE=DATE:20260423
DTSTAMP:20260420T172509
CREATED:20251216T110243Z
LAST-MODIFIED:20251216T110244Z
UID:10001566-1776816000-1776902399@www.joka.golf
SUMMARY:Golfclub Ansbach JOKA After-Work Trophy
DESCRIPTION:
URL:https://www.joka.golf/event/golfclub-ansbach-joka-after-work-trophy-2/2026-04-22/
LOCATION:Golfclub Ansbach\, Rothenburgerstr.35\, Colmberg\, 91598\, Deutschland
CATEGORIES:Turniere,Turnierkalender
ATTACH;FMTTYPE=image/jpeg:https://www.joka.golf/wp-content/uploads/GC-Ansbach-3.jpg
ORGANIZER;CN="Golf Emotion":MAILTO:info@golf-emotion.eu
END:VEVENT
BEGIN:VEVENT
DTSTART;VALUE=DATE:20260422
DTEND;VALUE=DATE:20260423
DTSTAMP:20260420T172509
CREATED:20260109T055232Z
LAST-MODIFIED:20260109T055232Z
UID:10001821-1776816000-1776902399@www.joka.golf
SUMMARY:Golfclub Der Lüderich JOKA After-Work Trophy
DESCRIPTION:
URL:https://www.joka.golf/event/golfclub-der-luederich-joka-after-work-trophy/
LOCATION:Golfclub Am Lüderich\, Am Golfplatz 1\, Overath\, 51491\, Deutschland
CATEGORIES:Turniere,Turnierkalender
ATTACH;FMTTYPE=image/jpeg:https://www.joka.golf/wp-content/uploads/GC-Am-Luederich-3.jpg
ORGANIZER;CN="Golf Emotion":MAILTO:info@golf-emotion.eu
END:VEVENT
END:VCALENDAR