BEGIN:VCALENDAR
VERSION:2.0
PRODID:-//JOKA Rules Tournament Series - ECPv6.15.11//NONSGML v1.0//EN
CALSCALE:GREGORIAN
METHOD:PUBLISH
X-WR-CALNAME:JOKA Rules Tournament Series
X-ORIGINAL-URL:https://www.joka.golf
X-WR-CALDESC:Veranstaltungen für JOKA Rules Tournament Series
REFRESH-INTERVAL;VALUE=DURATION:PT1H
X-Robots-Tag:noindex
X-PUBLISHED-TTL:PT1H
BEGIN:VTIMEZONE
TZID:Europe/Berlin
BEGIN:DAYLIGHT
TZOFFSETFROM:+0100
TZOFFSETTO:+0200
TZNAME:CEST
DTSTART:20250330T010000
END:DAYLIGHT
BEGIN:STANDARD
TZOFFSETFROM:+0200
TZOFFSETTO:+0100
TZNAME:CET
DTSTART:20251026T010000
END:STANDARD
BEGIN:DAYLIGHT
TZOFFSETFROM:+0100
TZOFFSETTO:+0200
TZNAME:CEST
DTSTART:20260329T010000
END:DAYLIGHT
BEGIN:STANDARD
TZOFFSETFROM:+0200
TZOFFSETTO:+0100
TZNAME:CET
DTSTART:20261025T010000
END:STANDARD
BEGIN:DAYLIGHT
TZOFFSETFROM:+0100
TZOFFSETTO:+0200
TZNAME:CEST
DTSTART:20270328T010000
END:DAYLIGHT
BEGIN:STANDARD
TZOFFSETFROM:+0200
TZOFFSETTO:+0100
TZNAME:CET
DTSTART:20271031T010000
END:STANDARD
END:VTIMEZONE
BEGIN:VEVENT
DTSTART;VALUE=DATE:20260424
DTEND;VALUE=DATE:20260425
DTSTAMP:20260422T141851
CREATED:20240206T230000Z
LAST-MODIFIED:20251220T062219Z
UID:10001713-1776988800-1777075199@www.joka.golf
SUMMARY:Golfclub Fulda-Rhön JOKA After-Work Trophy
DESCRIPTION:
URL:https://www.joka.golf/event/golfclub-fulda-rhoen-joka-after-work-trophy-2/2026-04-24/
LOCATION:Golfclub Fulda Rhön\, Am Golfplatz 35\, Hofbieber\, 36145\, Deutschland
CATEGORIES:Turniere,Turnierkalender
ATTACH;FMTTYPE=image/jpeg:https://www.joka.golf/wp-content/uploads/GC-Fulda-Rhoen-3.jpg
ORGANIZER;CN="Golf Emotion":MAILTO:info@golf-emotion.eu
END:VEVENT
BEGIN:VEVENT
DTSTART;VALUE=DATE:20260424
DTEND;VALUE=DATE:20260425
DTSTAMP:20260422T141851
CREATED:20240206T230000Z
LAST-MODIFIED:20251216T133715Z
UID:10001628-1776988800-1777075199@www.joka.golf
SUMMARY:Golfclub Hofgut Praforst JOKA After-Work Trophy
DESCRIPTION:
URL:https://www.joka.golf/event/golfclub-hofgut-praforst-joka-after-work-trophy/2026-04-24/
LOCATION:Golfclub Praforst\, Dr.-Detlev-Rudelsdorff-Allee 3\, Hünfeld\, 36088\, Deutschland
CATEGORIES:Turniere,Turnierkalender
ATTACH;FMTTYPE=image/jpeg:https://www.joka.golf/wp-content/uploads/GC-Praforst-2.jpg
ORGANIZER;CN="Golf Emotion":MAILTO:info@golf-emotion.eu
END:VEVENT
BEGIN:VEVENT
DTSTART;VALUE=DATE:20260424
DTEND;VALUE=DATE:20260425
DTSTAMP:20260422T141851
CREATED:20250124T070316Z
LAST-MODIFIED:20251216T132929Z
UID:10001624-1776988800-1777075199@www.joka.golf
SUMMARY:Golfclub Bad Kissingen JOKA After-Work Trophy
DESCRIPTION:
URL:https://www.joka.golf/event/golfclub-bad-kissingen-joka-after-work-trophy/2026-04-24/
LOCATION:Golfclub Bad Kissingen\, Euerdorferstr. 11d\, Bad Kissingen\, 97688\, Deutschland
CATEGORIES:Turniere,Turnierkalender
ATTACH;FMTTYPE=image/jpeg:https://www.joka.golf/wp-content/uploads/GC-Bad-Kissingen-2.jpg
ORGANIZER;CN="Golf Emotion":MAILTO:info@golf-emotion.eu
END:VEVENT
BEGIN:VEVENT
DTSTART;VALUE=DATE:20260424
DTEND;VALUE=DATE:20260425
DTSTAMP:20260422T141851
CREATED:20250316T152501Z
LAST-MODIFIED:20251216T134146Z
UID:10001636-1776988800-1777075199@www.joka.golf
SUMMARY:Golfclub Sinsheim-Buchenauerhof JOKA After-Work Trophy
DESCRIPTION:
URL:https://www.joka.golf/event/golfclub-sinsheim-buchenauerhof-joka-after-work-trophy-3/2026-04-24/
LOCATION:Golfclub Sinsheim\, Buchenauerhof 4\, Sinsheim-Weiler\, 74889\, Deutschland
CATEGORIES:Turniere,Turnierkalender
ATTACH;FMTTYPE=image/jpeg:https://www.joka.golf/wp-content/uploads/GC-Sinsheim-3.jpg
ORGANIZER;CN="Golf Emotion":MAILTO:info@golf-emotion.eu
END:VEVENT
BEGIN:VEVENT
DTSTART;VALUE=DATE:20260424
DTEND;VALUE=DATE:20260425
DTSTAMP:20260422T141851
CREATED:20251216T124357Z
LAST-MODIFIED:20251216T124358Z
UID:10001580-1776988800-1777075199@www.joka.golf
SUMMARY:Golfclub Zum Fischland JOKA After-Work Trophy
DESCRIPTION:
URL:https://www.joka.golf/event/golfclub-zum-fischland-joka-after-work-trophy/2026-04-24/
LOCATION:Golfclub Zum Fischland\, Pappelalle 23a\, Ribnitz-Damgarten\, 18311\, Deutschland
CATEGORIES:Turniere,Turnierkalender
ATTACH;FMTTYPE=image/jpeg:https://www.joka.golf/wp-content/uploads/GC-Zum-Fischland.jpg
ORGANIZER;CN="Golf Emotion":MAILTO:info@golf-emotion.eu
END:VEVENT
BEGIN:VEVENT
DTSTART;VALUE=DATE:20260424
DTEND;VALUE=DATE:20260425
DTSTAMP:20260422T141851
CREATED:20260120T152038Z
LAST-MODIFIED:20260120T152039Z
UID:10001889-1776988800-1777075199@www.joka.golf
SUMMARY:Golfclub Leinetal-Einbeck JOKA After-Work Trophy
DESCRIPTION:
URL:https://www.joka.golf/event/golfclub-leinetal-einbeck-joka-after-work-trophy-2/2026-04-24/
LOCATION:Golfclub Leinetal-Einbeck\, Am Holzgrund\, Einbeck\, 37574\, Deutschland
CATEGORIES:Turniere,Turnierkalender
ATTACH;FMTTYPE=image/jpeg:https://www.joka.golf/wp-content/uploads/GC-Einbeck-1.jpg
ORGANIZER;CN="Golf Emotion":MAILTO:info@golf-emotion.eu
END:VEVENT
BEGIN:VEVENT
DTSTART;VALUE=DATE:20260424
DTEND;VALUE=DATE:20260425
DTSTAMP:20260422T141851
CREATED:20260122T061159Z
LAST-MODIFIED:20260122T061159Z
UID:10001904-1776988800-1777075199@www.joka.golf
SUMMARY:GLC Haghof JOKA After-Work Trophy
DESCRIPTION:
URL:https://www.joka.golf/event/glc-haghof-joka-after-work-trophy/2026-04-24/
LOCATION:Golfclub Haghof\, Haghof 7\, Alfdorf\, 73553\, Deutschland
CATEGORIES:Turniere,Turnierkalender
ATTACH;FMTTYPE=image/jpeg:https://www.joka.golf/wp-content/uploads/GC-Haghof-1.jpg
ORGANIZER;CN="Golf Emotion":MAILTO:info@golf-emotion.eu
END:VEVENT
BEGIN:VEVENT
DTSTART;VALUE=DATE:20260424
DTEND;VALUE=DATE:20260425
DTSTAMP:20260422T141851
CREATED:20260203T123003Z
LAST-MODIFIED:20260203T123003Z
UID:10001957-1776988800-1777075199@www.joka.golf
SUMMARY:Golfclub Gifhorn JOKA After-Work Trophy
DESCRIPTION:
URL:https://www.joka.golf/event/golfclub-gifhorn-joka-after-work-trophy/2026-04-24/
LOCATION:Golfclub Gifhorn\, Wilscher Weg\, Gifhorn\, 38518\, Germany
CATEGORIES:Turniere,Turnierkalender
ATTACH;FMTTYPE=image/jpeg:https://www.joka.golf/wp-content/uploads/GC-Gifhorn-2.jpg
ORGANIZER;CN="Golf Emotion":MAILTO:info@golf-emotion.eu
END:VEVENT
END:VCALENDAR