BEGIN:VCALENDAR
VERSION:2.0
PRODID:-//JOKA Rules Tournament Series - ECPv6.15.11//NONSGML v1.0//EN
CALSCALE:GREGORIAN
METHOD:PUBLISH
X-WR-CALNAME:JOKA Rules Tournament Series
X-ORIGINAL-URL:https://www.joka.golf
X-WR-CALDESC:Veranstaltungen für JOKA Rules Tournament Series
REFRESH-INTERVAL;VALUE=DURATION:PT1H
X-Robots-Tag:noindex
X-PUBLISHED-TTL:PT1H
BEGIN:VTIMEZONE
TZID:Europe/Berlin
BEGIN:DAYLIGHT
TZOFFSETFROM:+0100
TZOFFSETTO:+0200
TZNAME:CEST
DTSTART:20250330T010000
END:DAYLIGHT
BEGIN:STANDARD
TZOFFSETFROM:+0200
TZOFFSETTO:+0100
TZNAME:CET
DTSTART:20251026T010000
END:STANDARD
BEGIN:DAYLIGHT
TZOFFSETFROM:+0100
TZOFFSETTO:+0200
TZNAME:CEST
DTSTART:20260329T010000
END:DAYLIGHT
BEGIN:STANDARD
TZOFFSETFROM:+0200
TZOFFSETTO:+0100
TZNAME:CET
DTSTART:20261025T010000
END:STANDARD
BEGIN:DAYLIGHT
TZOFFSETFROM:+0100
TZOFFSETTO:+0200
TZNAME:CEST
DTSTART:20270328T010000
END:DAYLIGHT
BEGIN:STANDARD
TZOFFSETFROM:+0200
TZOFFSETTO:+0100
TZNAME:CET
DTSTART:20271031T010000
END:STANDARD
END:VTIMEZONE
BEGIN:VEVENT
DTSTART;VALUE=DATE:20260510
DTEND;VALUE=DATE:20260511
DTSTAMP:20260424T141926
CREATED:20240206T230000Z
LAST-MODIFIED:20260109T152557Z
UID:10000952-1778371200-1778457599@www.joka.golf
SUMMARY:Golfclub Salzgitter JOKA Matchday-Plus Tagesturnier
DESCRIPTION:
URL:https://www.joka.golf/event/golfclub-salzgitter-joka-matchday-plus-tagesturnier/
LOCATION:Golfclub Salzgitter\, Mahner Berg\, Salzgitter\, 38259\, Deutschland
CATEGORIES:Turniere,Turnierkalender
ATTACH;FMTTYPE=image/jpeg:https://www.joka.golf/wp-content/uploads/GC-Salzgitter-2.jpg
ORGANIZER;CN="Golf Emotion":MAILTO:info@golf-emotion.eu
END:VEVENT
BEGIN:VEVENT
DTSTART;VALUE=DATE:20260510
DTEND;VALUE=DATE:20260511
DTSTAMP:20260424T141926
CREATED:20240206T230000Z
LAST-MODIFIED:20260203T090043Z
UID:10001951-1778371200-1778457599@www.joka.golf
SUMMARY:Golfclub Bad Schlema JOKA After-Work Trophy
DESCRIPTION:
URL:https://www.joka.golf/event/golfclub-bad-schlema-joka-after-work-trophy/2026-05-10/
LOCATION:Golfclub Bad Schlema\, Grubenstr.24\, Bad Schlema\, 08301\, Deutschland
CATEGORIES:Turniere,Turnierkalender
ATTACH;FMTTYPE=image/jpeg:https://www.joka.golf/wp-content/uploads/GC-Westerzgebirge.jpg
ORGANIZER;CN="Golf Emotion":MAILTO:info@golf-emotion.eu
END:VEVENT
BEGIN:VEVENT
DTSTART;VALUE=DATE:20260510
DTEND;VALUE=DATE:20260511
DTSTAMP:20260424T141926
CREATED:20250118T125934Z
LAST-MODIFIED:20260115T051121Z
UID:10001233-1778371200-1778457599@www.joka.golf
SUMMARY:Golfclub Gut Ottenhausen JOKA Matchday-Plus Tagesturnier
DESCRIPTION:
URL:https://www.joka.golf/event/golfclub-gut-ottenhausen-joka-matchday-plus-tagesturnier/
LOCATION:Golfclub Gut Ottenhausen\, Ottenhauser Straße\, Lage\, Detmold\, 32791\, Germany
CATEGORIES:Turniere,Turnierkalender
ATTACH;FMTTYPE=image/jpeg:https://www.joka.golf/wp-content/uploads/GC-Gut-Ottenhausen.jpeg
ORGANIZER;CN="Golf Emotion":MAILTO:info@golf-emotion.eu
GEO:51.9722942;8.8073808
X-APPLE-STRUCTURED-LOCATION;VALUE=URI;X-ADDRESS=Golfclub Gut Ottenhausen Ottenhauser Straße Lage Detmold 32791 Germany;X-APPLE-RADIUS=500;X-TITLE=Ottenhauser Straße:geo:8.8073808,51.9722942
END:VEVENT
BEGIN:VEVENT
DTSTART;VALUE=DATE:20260510
DTEND;VALUE=DATE:20260511
DTSTAMP:20260424T141926
CREATED:20250127T171309Z
LAST-MODIFIED:20251216T135044Z
UID:10001641-1778371200-1778457599@www.joka.golf
SUMMARY:Golfclub Hamburg Gut Waldhof JOKA After-Work Trophy
DESCRIPTION:
URL:https://www.joka.golf/event/golfclub-hamburg-gut-waldhof-joka-after-work-trophy-2/2026-05-10/
LOCATION:Golfclub Hamburg Gut Waldhof\, Am Waldhof 3\, Kisdorf\, 24629\, Deutschland
CATEGORIES:Turniere,Turnierkalender
ATTACH;FMTTYPE=image/jpeg:https://www.joka.golf/wp-content/uploads/GC-Gut-Waldhof.jpg
ORGANIZER;CN="Golf Emotion":MAILTO:info@golf-emotion.eu
END:VEVENT
END:VCALENDAR