BEGIN:VCALENDAR
VERSION:2.0
PRODID:-//JOKA Rules Tournament Series - ECPv6.15.11//NONSGML v1.0//EN
CALSCALE:GREGORIAN
METHOD:PUBLISH
X-WR-CALNAME:JOKA Rules Tournament Series
X-ORIGINAL-URL:https://www.joka.golf
X-WR-CALDESC:Veranstaltungen für JOKA Rules Tournament Series
REFRESH-INTERVAL;VALUE=DURATION:PT1H
X-Robots-Tag:noindex
X-PUBLISHED-TTL:PT1H
BEGIN:VTIMEZONE
TZID:Europe/Berlin
BEGIN:DAYLIGHT
TZOFFSETFROM:+0100
TZOFFSETTO:+0200
TZNAME:CEST
DTSTART:20250330T010000
END:DAYLIGHT
BEGIN:STANDARD
TZOFFSETFROM:+0200
TZOFFSETTO:+0100
TZNAME:CET
DTSTART:20251026T010000
END:STANDARD
BEGIN:DAYLIGHT
TZOFFSETFROM:+0100
TZOFFSETTO:+0200
TZNAME:CEST
DTSTART:20260329T010000
END:DAYLIGHT
BEGIN:STANDARD
TZOFFSETFROM:+0200
TZOFFSETTO:+0100
TZNAME:CET
DTSTART:20261025T010000
END:STANDARD
BEGIN:DAYLIGHT
TZOFFSETFROM:+0100
TZOFFSETTO:+0200
TZNAME:CEST
DTSTART:20270328T010000
END:DAYLIGHT
BEGIN:STANDARD
TZOFFSETFROM:+0200
TZOFFSETTO:+0100
TZNAME:CET
DTSTART:20271031T010000
END:STANDARD
END:VTIMEZONE
BEGIN:VEVENT
DTSTART;VALUE=DATE:20260512
DTEND;VALUE=DATE:20260513
DTSTAMP:20260420T172751
CREATED:20240206T230000Z
LAST-MODIFIED:20251216T130309Z
UID:10001613-1778544000-1778630399@www.joka.golf
SUMMARY:Köln Golf JOKA After-Work Trophy
DESCRIPTION:
URL:https://www.joka.golf/event/koeln-golf-joka-after-work-trophy-2/2026-05-12/
LOCATION:KölnGolf\, Parallelweg 1\, Köln\, 50769\, Deutschland
CATEGORIES:Turniere,Turnierkalender
ATTACH;FMTTYPE=image/jpeg:https://www.joka.golf/wp-content/uploads/GC-KoelnGolf.jpg
ORGANIZER;CN="Golf Emotion":MAILTO:info@golf-emotion.eu
END:VEVENT
BEGIN:VEVENT
DTSTART;VALUE=DATE:20260512
DTEND;VALUE=DATE:20260513
DTSTAMP:20260420T172751
CREATED:20251216T125957Z
LAST-MODIFIED:20251216T125957Z
UID:10001610-1778544000-1778630399@www.joka.golf
SUMMARY:Hamelner Golfclub JOKA After-Work Trophy
DESCRIPTION:
URL:https://www.joka.golf/event/hamelner-golfclub-joka-after-work-trophy/2026-05-12/
LOCATION:Hamelner Golfclub\, Schwöbber 8\, Aerzen\, 31855\, Deutschland
CATEGORIES:Turniere,Turnierkalender
ATTACH;FMTTYPE=image/jpeg:https://www.joka.golf/wp-content/uploads/GC-Hameln-1.jpg
ORGANIZER;CN="Golf Emotion":MAILTO:info@golf-emotion.eu
END:VEVENT
BEGIN:VEVENT
DTSTART;VALUE=DATE:20260512
DTEND;VALUE=DATE:20260513
DTSTAMP:20260420T172751
CREATED:20251217T054023Z
LAST-MODIFIED:20251217T054023Z
UID:10001684-1778544000-1778630399@www.joka.golf
SUMMARY:Golfclub Stiftland JOKA After-Work Trophy
DESCRIPTION:
URL:https://www.joka.golf/event/golfclub-stiftland-joka-after-work-trophy-2/2026-05-12/
LOCATION:Golfclub Stiftland\, Ottengrün 50\, Bad Neualbenreuth\, 95698\, Germany
CATEGORIES:Turniere,Turnierkalender
ATTACH;FMTTYPE=image/jpeg:https://www.joka.golf/wp-content/uploads/GC-Stiftland.jpeg
ORGANIZER;CN="Golf Emotion":MAILTO:info@golf-emotion.eu
GEO:49.9600506;12.425703
X-APPLE-STRUCTURED-LOCATION;VALUE=URI;X-ADDRESS=Golfclub Stiftland Ottengrün 50 Bad Neualbenreuth 95698 Germany;X-APPLE-RADIUS=500;X-TITLE=Ottengrün 50:geo:12.425703,49.9600506
END:VEVENT
BEGIN:VEVENT
DTSTART;VALUE=DATE:20260512
DTEND;VALUE=DATE:20260513
DTSTAMP:20260420T172751
CREATED:20260115T052938Z
LAST-MODIFIED:20260115T052938Z
UID:10001852-1778544000-1778630399@www.joka.golf
SUMMARY:Golfclub Hauptsmoorwald JOKA After-Work Trophy
DESCRIPTION:
URL:https://www.joka.golf/event/golfclub-hauptsmoorwald-joka-after-work-trophy/2026-05-12/
LOCATION:Golfclub Hauptsmoorwald\, Zollnerstraße\, Bamberg\, 96052\, Deutschland
CATEGORIES:Turniere,Turnierkalender
ATTACH;FMTTYPE=image/jpeg:https://www.joka.golf/wp-content/uploads/GC-Hauptsmoorwald-2.jpg
ORGANIZER;CN="Golf Emotion":MAILTO:info@golf-emotion.eu
END:VEVENT
BEGIN:VEVENT
DTSTART;VALUE=DATE:20260512
DTEND;VALUE=DATE:20260513
DTSTAMP:20260420T172751
CREATED:20260213T053108Z
LAST-MODIFIED:20260213T053108Z
UID:10001982-1778544000-1778630399@www.joka.golf
SUMMARY:Golfclub Westheim JOKA After-Work Trophy
DESCRIPTION:
URL:https://www.joka.golf/event/golfclub-westheim-joka-after-work-trophy/
LOCATION:Golfclub Westheim\, Kastanienweg 16b\, Marsberg-Westheim\, 34431\, Deutschland
CATEGORIES:Turniere,Turnierkalender
ATTACH;FMTTYPE=image/jpeg:https://www.joka.golf/wp-content/uploads/GC-Westheim_3.jpg
ORGANIZER;CN="Golf Emotion":MAILTO:info@golf-emotion.eu
END:VEVENT
END:VCALENDAR