BEGIN:VCALENDAR
VERSION:2.0
PRODID:-//JOKA Rules Tournament Series - ECPv6.15.11//NONSGML v1.0//EN
CALSCALE:GREGORIAN
METHOD:PUBLISH
X-WR-CALNAME:JOKA Rules Tournament Series
X-ORIGINAL-URL:https://www.joka.golf
X-WR-CALDESC:Veranstaltungen für JOKA Rules Tournament Series
REFRESH-INTERVAL;VALUE=DURATION:PT1H
X-Robots-Tag:noindex
X-PUBLISHED-TTL:PT1H
BEGIN:VTIMEZONE
TZID:Europe/Berlin
BEGIN:DAYLIGHT
TZOFFSETFROM:+0100
TZOFFSETTO:+0200
TZNAME:CEST
DTSTART:20250330T010000
END:DAYLIGHT
BEGIN:STANDARD
TZOFFSETFROM:+0200
TZOFFSETTO:+0100
TZNAME:CET
DTSTART:20251026T010000
END:STANDARD
BEGIN:DAYLIGHT
TZOFFSETFROM:+0100
TZOFFSETTO:+0200
TZNAME:CEST
DTSTART:20260329T010000
END:DAYLIGHT
BEGIN:STANDARD
TZOFFSETFROM:+0200
TZOFFSETTO:+0100
TZNAME:CET
DTSTART:20261025T010000
END:STANDARD
BEGIN:DAYLIGHT
TZOFFSETFROM:+0100
TZOFFSETTO:+0200
TZNAME:CEST
DTSTART:20270328T010000
END:DAYLIGHT
BEGIN:STANDARD
TZOFFSETFROM:+0200
TZOFFSETTO:+0100
TZNAME:CET
DTSTART:20271031T010000
END:STANDARD
END:VTIMEZONE
BEGIN:VEVENT
DTSTART;VALUE=DATE:20260515
DTEND;VALUE=DATE:20260516
DTSTAMP:20260424T141956
CREATED:20240206T230000Z
LAST-MODIFIED:20260120T151820Z
UID:10001885-1778803200-1778889599@www.joka.golf
SUMMARY:Golfclub Leinetal-Einbeck JOKA After-Work Trophy
DESCRIPTION:
URL:https://www.joka.golf/event/golfclub-leinetal-einbeck-joka-after-work-trophy/2026-05-15/
LOCATION:Golfclub Leinetal-Einbeck\, Am Holzgrund\, Einbeck\, 37574\, Deutschland
CATEGORIES:Turniere,Turnierkalender
ATTACH;FMTTYPE=image/jpeg:https://www.joka.golf/wp-content/uploads/GC-Leinetal-Einbeck-1.jpg
ORGANIZER;CN="Golf Emotion":MAILTO:info@golf-emotion.eu
END:VEVENT
BEGIN:VEVENT
DTSTART;VALUE=DATE:20260515
DTEND;VALUE=DATE:20260516
DTSTAMP:20260424T141956
CREATED:20250130T105616Z
LAST-MODIFIED:20260116T170647Z
UID:10001877-1778803200-1778889599@www.joka.golf
SUMMARY:Golfclub Rehburg-Loccum JOKA After-Work Trophy
DESCRIPTION:
URL:https://www.joka.golf/event/golfclub-rehburg-loccum-joka-after-work-trophy-3/2026-05-15/
LOCATION:Golfclub Rehburg-Loccum\, Hormannshausen 2a\, Rehburg-Loccum\, 31547\, Deutschland
CATEGORIES:Turniere,Turnierkalender
ATTACH;FMTTYPE=image/jpeg:https://www.joka.golf/wp-content/uploads/GC-Rehburg-Loccum-4.jpg
ORGANIZER;CN="Golf Emotion":MAILTO:info@golf-emotion.eu
END:VEVENT
BEGIN:VEVENT
DTSTART;VALUE=DATE:20260515
DTEND;VALUE=DATE:20260516
DTSTAMP:20260424T141956
CREATED:20251216T124357Z
LAST-MODIFIED:20251216T124358Z
UID:10001583-1778803200-1778889599@www.joka.golf
SUMMARY:Golfclub Zum Fischland JOKA After-Work Trophy
DESCRIPTION:
URL:https://www.joka.golf/event/golfclub-zum-fischland-joka-after-work-trophy/2026-05-15/
LOCATION:Golfclub Zum Fischland\, Pappelalle 23a\, Ribnitz-Damgarten\, 18311\, Deutschland
CATEGORIES:Turniere,Turnierkalender
ATTACH;FMTTYPE=image/jpeg:https://www.joka.golf/wp-content/uploads/GC-Zum-Fischland.jpg
ORGANIZER;CN="Golf Emotion":MAILTO:info@golf-emotion.eu
END:VEVENT
BEGIN:VEVENT
DTSTART;VALUE=DATE:20260515
DTEND;VALUE=DATE:20260516
DTSTAMP:20260424T141956
CREATED:20251217T051720Z
LAST-MODIFIED:20251217T051720Z
UID:10001673-1778803200-1778889599@www.joka.golf
SUMMARY:Golfclub Ruhpolding JOKA After-Work Trophy
DESCRIPTION:
URL:https://www.joka.golf/event/golfclub-ruhpolding-joka-after-work-trophy-2/2026-05-15/
LOCATION:Golfclub Ruhpolding\, Rauschbergstr.1a\, Ruhpolding\, 83324\, Deutschland
CATEGORIES:Turniere,Turnierkalender
ATTACH;FMTTYPE=image/jpeg:https://www.joka.golf/wp-content/uploads/GC-Ruhpolding-5.jpg
ORGANIZER;CN="Golf Emotion":MAILTO:info@golf-emotion.eu
END:VEVENT
BEGIN:VEVENT
DTSTART;VALUE=DATE:20260515
DTEND;VALUE=DATE:20260516
DTSTAMP:20260424T141956
CREATED:20260106T124024Z
LAST-MODIFIED:20260106T124025Z
UID:10001734-1778803200-1778889599@www.joka.golf
SUMMARY:Golfclub Bad Pyrmont JOKA After Work Trophy
DESCRIPTION:
URL:https://www.joka.golf/event/golfclub-bad-pyrmont-joka-after-work-trophy/2026-05-15/
LOCATION:Golfclub Bad Pyrmont\, Am Golfplatz 2\, Lügde\, 32676\, Deutschland
CATEGORIES:Turniere,Turnierkalender
ATTACH;FMTTYPE=image/jpeg:https://www.joka.golf/wp-content/uploads/GC-Bad-Pyrmont-2.jpg
ORGANIZER;CN="Golf Emotion":MAILTO:info@golf-emotion.eu
END:VEVENT
BEGIN:VEVENT
DTSTART;VALUE=DATE:20260515
DTEND;VALUE=DATE:20260516
DTSTAMP:20260424T141956
CREATED:20260107T051648Z
LAST-MODIFIED:20260107T051649Z
UID:10001746-1778803200-1778889599@www.joka.golf
SUMMARY:Golfclub Emstal JOKA After-Work Trophy
DESCRIPTION:
URL:https://www.joka.golf/event/golfclub-emstal-joka-after-work-trophy-3/2026-05-15/
LOCATION:Golfclub Emstal
CATEGORIES:Turniere,Turnierkalender
ATTACH;FMTTYPE=image/jpeg:https://www.joka.golf/wp-content/uploads/GC-Emstal-3.jpg
ORGANIZER;CN="Golf Emotion":MAILTO:info@golf-emotion.eu
END:VEVENT
BEGIN:VEVENT
DTSTART;VALUE=DATE:20260515
DTEND;VALUE=DATE:20260516
DTSTAMP:20260424T141956
CREATED:20260108T054914Z
LAST-MODIFIED:20260108T054914Z
UID:10001777-1778803200-1778889599@www.joka.golf
SUMMARY:Golfclub Lauterbach JOKA After-Work Trophy
DESCRIPTION:
URL:https://www.joka.golf/event/golfclub-lauterbach-joka-after-work-trophy/2026-05-15/
LOCATION:Golfclub Lauterbach\, Hofstr.9\, Lauterbach\, 36341\, Deutschland
CATEGORIES:Turniere,Turnierkalender
ATTACH;FMTTYPE=image/jpeg:https://www.joka.golf/wp-content/uploads/GC-Lauterbach-5.jpg
ORGANIZER;CN="Golf Emotion":MAILTO:info@golf-emotion.eu
END:VEVENT
BEGIN:VEVENT
DTSTART;VALUE=DATE:20260515
DTEND;VALUE=DATE:20260516
DTSTAMP:20260424T141956
CREATED:20260115T064912Z
LAST-MODIFIED:20260115T064912Z
UID:10001868-1778803200-1778889599@www.joka.golf
SUMMARY:Golfclub Thülsfelde JOKA After-Work Trophy
DESCRIPTION:
URL:https://www.joka.golf/event/golfclub-thuelsfelde-joka-after-work-trophy/2026-05-15/
LOCATION:Golfclub Thülsfelder Talsperre\, Mühlenweg 9\, Molbergen\, 49696\, Deutschland
CATEGORIES:Turniere,Turnierkalender
ATTACH;FMTTYPE=image/jpeg:https://www.joka.golf/wp-content/uploads/GC-Thuelsfelder-Talsperre-2.jpg
ORGANIZER;CN="Golf Emotion":MAILTO:info@golf-emotion.eu
END:VEVENT
BEGIN:VEVENT
DTSTART;VALUE=DATE:20260515
DTEND;VALUE=DATE:20260516
DTSTAMP:20260424T141956
CREATED:20260120T042649Z
LAST-MODIFIED:20260120T042649Z
UID:10001883-1778803200-1778889599@www.joka.golf
SUMMARY:Golfclub Plauen JOKA After-Work Trophy
DESCRIPTION:
URL:https://www.joka.golf/event/golfclub-plauen-joka-after-work-trophy/
LOCATION:Golfclub Plauen\, Cossengrünerstr.\, Plauen\, 08547\, Deutschland
CATEGORIES:Turniere,Turnierkalender
ATTACH;FMTTYPE=image/jpeg:https://www.joka.golf/wp-content/uploads/GC-Plauen-3.jpg
ORGANIZER;CN="Golf Emotion":MAILTO:info@golf-emotion.eu
END:VEVENT
END:VCALENDAR