BEGIN:VCALENDAR
VERSION:2.0
PRODID:-//JOKA Rules Tournament Series - ECPv6.15.11//NONSGML v1.0//EN
CALSCALE:GREGORIAN
METHOD:PUBLISH
X-ORIGINAL-URL:https://www.joka.golf
X-WR-CALDESC:Veranstaltungen für JOKA Rules Tournament Series
REFRESH-INTERVAL;VALUE=DURATION:PT1H
X-Robots-Tag:noindex
X-PUBLISHED-TTL:PT1H
BEGIN:VTIMEZONE
TZID:Europe/Berlin
BEGIN:DAYLIGHT
TZOFFSETFROM:+0100
TZOFFSETTO:+0200
TZNAME:CEST
DTSTART:20250330T010000
END:DAYLIGHT
BEGIN:STANDARD
TZOFFSETFROM:+0200
TZOFFSETTO:+0100
TZNAME:CET
DTSTART:20251026T010000
END:STANDARD
BEGIN:DAYLIGHT
TZOFFSETFROM:+0100
TZOFFSETTO:+0200
TZNAME:CEST
DTSTART:20260329T010000
END:DAYLIGHT
BEGIN:STANDARD
TZOFFSETFROM:+0200
TZOFFSETTO:+0100
TZNAME:CET
DTSTART:20261025T010000
END:STANDARD
BEGIN:DAYLIGHT
TZOFFSETFROM:+0100
TZOFFSETTO:+0200
TZNAME:CEST
DTSTART:20270328T010000
END:DAYLIGHT
BEGIN:STANDARD
TZOFFSETFROM:+0200
TZOFFSETTO:+0100
TZNAME:CET
DTSTART:20271031T010000
END:STANDARD
END:VTIMEZONE
BEGIN:VEVENT
DTSTART;VALUE=DATE:20260522
DTEND;VALUE=DATE:20260523
DTSTAMP:20260424T140850
CREATED:20240206T230000Z
LAST-MODIFIED:20251217T062840Z
UID:10001690-1779408000-1779494399@www.joka.golf
SUMMARY:Golfclub Miltenberg-Erftal JOKA After-Work Trophy
DESCRIPTION:
URL:https://www.joka.golf/event/golfclub-miltenberg-erftal-joka-matchday-plus-tagesturnier/2026-05-22/
LOCATION:Golfclub Miltenberg-Erftal\, Ortsstraße 30\, Eichenbühl\,OT Guggenberg\, 63928\, Deutschland
CATEGORIES:Turniere,Turnierkalender
ATTACH;FMTTYPE=image/jpeg:https://www.joka.golf/wp-content/uploads/GC-Miltenberg-Erftal-1.jpg
ORGANIZER;CN="Golf Emotion":MAILTO:info@golf-emotion.eu
END:VEVENT
BEGIN:VEVENT
DTSTART;VALUE=DATE:20260522
DTEND;VALUE=DATE:20260523
DTSTAMP:20260424T140850
CREATED:20240206T230000Z
LAST-MODIFIED:20251221T065545Z
UID:10001718-1779408000-1779494399@www.joka.golf
SUMMARY:Golfclub Burg Konradsheim JOKA After-Work Trophy
DESCRIPTION:
URL:https://www.joka.golf/event/golfclub-burg-konradsheim-joka-after-work-trophy-3/2026-05-22/
LOCATION:Golfclub Burg Konradsheim\, Am Golfplatz 1\, Erftstadt\, 50374\, Deutschland
CATEGORIES:Turniere,Turnierkalender
ATTACH;FMTTYPE=image/jpeg:https://www.joka.golf/wp-content/uploads/GC-Burg-Konradsheim.jpg
ORGANIZER;CN="Golf Emotion":MAILTO:info@golf-emotion.eu
END:VEVENT
BEGIN:VEVENT
DTSTART;VALUE=DATE:20260522
DTEND;VALUE=DATE:20260523
DTSTAMP:20260424T140850
CREATED:20240206T230000Z
LAST-MODIFIED:20260120T151820Z
UID:10001886-1779408000-1779494399@www.joka.golf
SUMMARY:Golfclub Leinetal-Einbeck JOKA After-Work Trophy
DESCRIPTION:
URL:https://www.joka.golf/event/golfclub-leinetal-einbeck-joka-after-work-trophy/2026-05-22/
LOCATION:Golfclub Leinetal-Einbeck\, Am Holzgrund\, Einbeck\, 37574\, Deutschland
CATEGORIES:Turniere,Turnierkalender
ATTACH;FMTTYPE=image/jpeg:https://www.joka.golf/wp-content/uploads/GC-Leinetal-Einbeck-1.jpg
ORGANIZER;CN="Golf Emotion":MAILTO:info@golf-emotion.eu
END:VEVENT
BEGIN:VEVENT
DTSTART;VALUE=DATE:20260522
DTEND;VALUE=DATE:20260523
DTSTAMP:20260424T140850
CREATED:20240206T230000Z
LAST-MODIFIED:20251216T133715Z
UID:10001630-1779408000-1779494399@www.joka.golf
SUMMARY:Golfclub Hofgut Praforst JOKA After-Work Trophy
DESCRIPTION:
URL:https://www.joka.golf/event/golfclub-hofgut-praforst-joka-after-work-trophy/2026-05-22/
LOCATION:Golfclub Praforst\, Dr.-Detlev-Rudelsdorff-Allee 3\, Hünfeld\, 36088\, Deutschland
CATEGORIES:Turniere,Turnierkalender
ATTACH;FMTTYPE=image/jpeg:https://www.joka.golf/wp-content/uploads/GC-Praforst-2.jpg
ORGANIZER;CN="Golf Emotion":MAILTO:info@golf-emotion.eu
END:VEVENT
BEGIN:VEVENT
DTSTART;VALUE=DATE:20260522
DTEND;VALUE=DATE:20260523
DTSTAMP:20260424T140850
CREATED:20240206T230000Z
LAST-MODIFIED:20251216T142321Z
UID:10001659-1779408000-1779494399@www.joka.golf
SUMMARY:Golfclub Plauen JOKA After-Wok Trophy
DESCRIPTION:
URL:https://www.joka.golf/event/golfclub-plauen-joka-after-wok-trophy/2026-05-22/
LOCATION:Golfclub Plauen\, Cossengrünerstr.\, Plauen\, 08547\, Deutschland
CATEGORIES:Turniere,Turnierkalender
ATTACH;FMTTYPE=image/jpeg:https://www.joka.golf/wp-content/uploads/GC-Plauen-2.jpg
ORGANIZER;CN="Golf Emotion":MAILTO:info@golf-emotion.eu
END:VEVENT
BEGIN:VEVENT
DTSTART;VALUE=DATE:20260522
DTEND;VALUE=DATE:20260523
DTSTAMP:20260424T140850
CREATED:20250316T152501Z
LAST-MODIFIED:20251216T134146Z
UID:10001637-1779408000-1779494399@www.joka.golf
SUMMARY:Golfclub Sinsheim-Buchenauerhof JOKA After-Work Trophy
DESCRIPTION:
URL:https://www.joka.golf/event/golfclub-sinsheim-buchenauerhof-joka-after-work-trophy-3/2026-05-22/
LOCATION:Golfclub Sinsheim\, Buchenauerhof 4\, Sinsheim-Weiler\, 74889\, Deutschland
CATEGORIES:Turniere,Turnierkalender
ATTACH;FMTTYPE=image/jpeg:https://www.joka.golf/wp-content/uploads/GC-Sinsheim-3.jpg
ORGANIZER;CN="Golf Emotion":MAILTO:info@golf-emotion.eu
END:VEVENT
BEGIN:VEVENT
DTSTART;VALUE=DATE:20260522
DTEND;VALUE=DATE:20260523
DTSTAMP:20260424T140850
CREATED:20251216T124357Z
LAST-MODIFIED:20251216T124358Z
UID:10001584-1779408000-1779494399@www.joka.golf
SUMMARY:Golfclub Zum Fischland JOKA After-Work Trophy
DESCRIPTION:
URL:https://www.joka.golf/event/golfclub-zum-fischland-joka-after-work-trophy/2026-05-22/
LOCATION:Golfclub Zum Fischland\, Pappelalle 23a\, Ribnitz-Damgarten\, 18311\, Deutschland
CATEGORIES:Turniere,Turnierkalender
ATTACH;FMTTYPE=image/jpeg:https://www.joka.golf/wp-content/uploads/GC-Zum-Fischland.jpg
ORGANIZER;CN="Golf Emotion":MAILTO:info@golf-emotion.eu
END:VEVENT
BEGIN:VEVENT
DTSTART;VALUE=DATE:20260522
DTEND;VALUE=DATE:20260523
DTSTAMP:20260424T140850
CREATED:20260108T073116Z
LAST-MODIFIED:20260108T073117Z
UID:10001804-1779408000-1779494399@www.joka.golf
SUMMARY:Golfclub Burgwedel JOKA After-Work Trophy
DESCRIPTION:
URL:https://www.joka.golf/event/golfclub-burgwedel-joka-after-work-trophy/2026-05-22/
LOCATION:Golfclub Burgwedel\, Wettmarerstr. 13\, Burgwedel\, 30938\, Deutschland
CATEGORIES:Turniere,Turnierkalender
ATTACH;FMTTYPE=image/jpeg:https://www.joka.golf/wp-content/uploads/GC-Burgwedel-4.jpg
ORGANIZER;CN="Golf Emotion":MAILTO:info@golf-emotion.eu
END:VEVENT
BEGIN:VEVENT
DTSTART;VALUE=DATE:20260522
DTEND;VALUE=DATE:20260523
DTSTAMP:20260424T140850
CREATED:20260109T055425Z
LAST-MODIFIED:20260109T055425Z
UID:10001822-1779408000-1779494399@www.joka.golf
SUMMARY:Golfclub Der Lüderich JOKA After-Work Trophy
DESCRIPTION:
URL:https://www.joka.golf/event/golfclub-der-luederich-joka-after-work-trophy-2/2026-05-22/
LOCATION:Golfclub Am Lüderich\, Am Golfplatz 1\, Overath\, 51491\, Deutschland
CATEGORIES:Turniere,Turnierkalender
ATTACH;FMTTYPE=image/jpeg:https://www.joka.golf/wp-content/uploads/GC-Am-Luederich-3.jpg
ORGANIZER;CN="Golf Emotion":MAILTO:info@golf-emotion.eu
END:VEVENT
BEGIN:VEVENT
DTSTART;VALUE=DATE:20260522
DTEND;VALUE=DATE:20260523
DTSTAMP:20260424T140850
CREATED:20260122T061159Z
LAST-MODIFIED:20260122T061159Z
UID:10001905-1779408000-1779494399@www.joka.golf
SUMMARY:GLC Haghof JOKA After-Work Trophy
DESCRIPTION:
URL:https://www.joka.golf/event/glc-haghof-joka-after-work-trophy/2026-05-22/
LOCATION:Golfclub Haghof\, Haghof 7\, Alfdorf\, 73553\, Deutschland
CATEGORIES:Turniere,Turnierkalender
ATTACH;FMTTYPE=image/jpeg:https://www.joka.golf/wp-content/uploads/GC-Haghof-1.jpg
ORGANIZER;CN="Golf Emotion":MAILTO:info@golf-emotion.eu
END:VEVENT
BEGIN:VEVENT
DTSTART;VALUE=DATE:20260522
DTEND;VALUE=DATE:20260523
DTSTAMP:20260424T140850
CREATED:20260203T123003Z
LAST-MODIFIED:20260203T123003Z
UID:10001958-1779408000-1779494399@www.joka.golf
SUMMARY:Golfclub Gifhorn JOKA After-Work Trophy
DESCRIPTION:
URL:https://www.joka.golf/event/golfclub-gifhorn-joka-after-work-trophy/2026-05-22/
LOCATION:Golfclub Gifhorn\, Wilscher Weg\, Gifhorn\, 38518\, Germany
CATEGORIES:Turniere,Turnierkalender
ATTACH;FMTTYPE=image/jpeg:https://www.joka.golf/wp-content/uploads/GC-Gifhorn-2.jpg
ORGANIZER;CN="Golf Emotion":MAILTO:info@golf-emotion.eu
END:VEVENT
END:VCALENDAR