BEGIN:VCALENDAR
VERSION:2.0
PRODID:-//JOKA Rules Tournament Series - ECPv6.15.11//NONSGML v1.0//EN
CALSCALE:GREGORIAN
METHOD:PUBLISH
X-ORIGINAL-URL:https://www.joka.golf
X-WR-CALDESC:Veranstaltungen für JOKA Rules Tournament Series
REFRESH-INTERVAL;VALUE=DURATION:PT1H
X-Robots-Tag:noindex
X-PUBLISHED-TTL:PT1H
BEGIN:VTIMEZONE
TZID:Europe/Berlin
BEGIN:DAYLIGHT
TZOFFSETFROM:+0100
TZOFFSETTO:+0200
TZNAME:CEST
DTSTART:20250330T010000
END:DAYLIGHT
BEGIN:STANDARD
TZOFFSETFROM:+0200
TZOFFSETTO:+0100
TZNAME:CET
DTSTART:20251026T010000
END:STANDARD
BEGIN:DAYLIGHT
TZOFFSETFROM:+0100
TZOFFSETTO:+0200
TZNAME:CEST
DTSTART:20260329T010000
END:DAYLIGHT
BEGIN:STANDARD
TZOFFSETFROM:+0200
TZOFFSETTO:+0100
TZNAME:CET
DTSTART:20261025T010000
END:STANDARD
BEGIN:DAYLIGHT
TZOFFSETFROM:+0100
TZOFFSETTO:+0200
TZNAME:CEST
DTSTART:20270328T010000
END:DAYLIGHT
BEGIN:STANDARD
TZOFFSETFROM:+0200
TZOFFSETTO:+0100
TZNAME:CET
DTSTART:20271031T010000
END:STANDARD
END:VTIMEZONE
BEGIN:VEVENT
DTSTART;VALUE=DATE:20260531
DTEND;VALUE=DATE:20260601
DTSTAMP:20260424T123246
CREATED:20240206T230000Z
LAST-MODIFIED:20260203T090043Z
UID:10001952-1780185600-1780271999@www.joka.golf
SUMMARY:Golfclub Bad Schlema JOKA After-Work Trophy
DESCRIPTION:
URL:https://www.joka.golf/event/golfclub-bad-schlema-joka-after-work-trophy/2026-05-31/
LOCATION:Golfclub Bad Schlema\, Grubenstr.24\, Bad Schlema\, 08301\, Deutschland
CATEGORIES:Turniere,Turnierkalender
ATTACH;FMTTYPE=image/jpeg:https://www.joka.golf/wp-content/uploads/GC-Westerzgebirge.jpg
ORGANIZER;CN="Golf Emotion":MAILTO:info@golf-emotion.eu
END:VEVENT
BEGIN:VEVENT
DTSTART;VALUE=DATE:20260531
DTEND;VALUE=DATE:20260601
DTSTAMP:20260424T123246
CREATED:20240206T230000Z
LAST-MODIFIED:20260204T132601Z
UID:10001963-1780185600-1780271999@www.joka.golf
SUMMARY:Golfclub Schwanhof JOKA After-Work Trophy
DESCRIPTION:
URL:https://www.joka.golf/event/golfclub-schwanhof-joka-after-work-trophy-3/2026-05-31/
LOCATION:Golfclub Schwanhof\, Klaus-Conrad-Allee 1\, Luhe-Wildenau\, 92706\, Deutschland
CATEGORIES:Turniere,Turnierkalender
ATTACH;FMTTYPE=image/jpeg:https://www.joka.golf/wp-content/uploads/GC-Schwanhof-2.jpg
ORGANIZER;CN="Golf Emotion":MAILTO:info@golf-emotion.eu
END:VEVENT
BEGIN:VEVENT
DTSTART;VALUE=DATE:20260531
DTEND;VALUE=DATE:20260601
DTSTAMP:20260424T123246
CREATED:20240206T230000Z
LAST-MODIFIED:20260107T152435Z
UID:10001096-1780185600-1780271999@www.joka.golf
SUMMARY:Golfclub Peine-Edemissen JOKA Matchday-Plus Tagesturnier
DESCRIPTION:
URL:https://www.joka.golf/event/golfclub-peine-edemissen-joka-matchday-plus-tagesturnier/
LOCATION:Golfclub Peine-Edemissen\, Dahlkampsweg 2\, Edemissen\, 31234\, Deutschland
CATEGORIES:Turniere,Turnierkalender
ATTACH;FMTTYPE=image/jpeg:https://www.joka.golf/wp-content/uploads/GC-Peine-Edemissen.jpg
ORGANIZER;CN="Golf Emotion":MAILTO:info@golf-emotion.eu
END:VEVENT
BEGIN:VEVENT
DTSTART;VALUE=DATE:20260531
DTEND;VALUE=DATE:20260601
DTSTAMP:20260424T123246
CREATED:20250127T171112Z
LAST-MODIFIED:20251216T135345Z
UID:10001643-1780185600-1780271999@www.joka.golf
SUMMARY:Golfclub Hamburg Gut Waldhof JOKA After-Work Trophy
DESCRIPTION:
URL:https://www.joka.golf/event/golfclub-hamburg-gut-waldhof-joka-after-work-trophy/2026-05-31/
LOCATION:Golfclub Hamburg Gut Waldhof\, Am Waldhof 3\, Kisdorf\, 24629\, Deutschland
CATEGORIES:Turniere,Turnierkalender
ATTACH;FMTTYPE=image/jpeg:https://www.joka.golf/wp-content/uploads/GC-Gut-Waldhof.jpg
ORGANIZER;CN="Golf Emotion":MAILTO:info@golf-emotion.eu
END:VEVENT
BEGIN:VEVENT
DTSTART;VALUE=DATE:20260531
DTEND;VALUE=DATE:20260601
DTSTAMP:20260424T123246
CREATED:20260202T133158Z
LAST-MODIFIED:20260202T133158Z
UID:10001947-1780185600-1780271999@www.joka.golf
SUMMARY:Golfclub Siegerland JOKA After-Work Trophy
DESCRIPTION:
URL:https://www.joka.golf/event/golfclub-siegerland-joka-after-work-trophy-5/2026-05-31/
LOCATION:Golfclub Siegerland\, Berghäuserweg\, Kreuztal\, 57223\, Deutschland
CATEGORIES:Turniere,Turnierkalender
ATTACH;FMTTYPE=image/jpeg:https://www.joka.golf/wp-content/uploads/GC-Siegerland-5.jpg
ORGANIZER;CN="Golf Emotion":MAILTO:info@golf-emotion.eu
END:VEVENT
END:VCALENDAR