BEGIN:VCALENDAR
VERSION:2.0
PRODID:-//JOKA Rules Tournament Series - ECPv6.15.11//NONSGML v1.0//EN
CALSCALE:GREGORIAN
METHOD:PUBLISH
X-ORIGINAL-URL:https://www.joka.golf
X-WR-CALDESC:Veranstaltungen für JOKA Rules Tournament Series
REFRESH-INTERVAL;VALUE=DURATION:PT1H
X-Robots-Tag:noindex
X-PUBLISHED-TTL:PT1H
BEGIN:VTIMEZONE
TZID:Europe/Berlin
BEGIN:DAYLIGHT
TZOFFSETFROM:+0100
TZOFFSETTO:+0200
TZNAME:CEST
DTSTART:20250330T010000
END:DAYLIGHT
BEGIN:STANDARD
TZOFFSETFROM:+0200
TZOFFSETTO:+0100
TZNAME:CET
DTSTART:20251026T010000
END:STANDARD
BEGIN:DAYLIGHT
TZOFFSETFROM:+0100
TZOFFSETTO:+0200
TZNAME:CEST
DTSTART:20260329T010000
END:DAYLIGHT
BEGIN:STANDARD
TZOFFSETFROM:+0200
TZOFFSETTO:+0100
TZNAME:CET
DTSTART:20261025T010000
END:STANDARD
BEGIN:DAYLIGHT
TZOFFSETFROM:+0100
TZOFFSETTO:+0200
TZNAME:CEST
DTSTART:20270328T010000
END:DAYLIGHT
BEGIN:STANDARD
TZOFFSETFROM:+0200
TZOFFSETTO:+0100
TZNAME:CET
DTSTART:20271031T010000
END:STANDARD
END:VTIMEZONE
BEGIN:VEVENT
DTSTART;VALUE=DATE:20260426
DTEND;VALUE=DATE:20260427
DTSTAMP:20260421T165103
CREATED:20240206T230000Z
LAST-MODIFIED:20260106T123523Z
UID:10001190-1777161600-1777247999@www.joka.golf
SUMMARY:Golfclub Bad Pyrmont JOKA Matchday-Plus Tagesturnier
DESCRIPTION:
URL:https://www.joka.golf/event/golfclub-bad-pyrmont-joka-matchday-plus-tagesturnier/
LOCATION:Golfclub Bad Pyrmont\, Am Golfplatz 2\, Lügde\, 32676\, Deutschland
CATEGORIES:Turniere,Turnierkalender
ATTACH;FMTTYPE=image/jpeg:https://www.joka.golf/wp-content/uploads/GC-Bad-Pyrmont-1.jpg
ORGANIZER;CN="Golf Emotion":MAILTO:info@golf-emotion.eu
END:VEVENT
BEGIN:VEVENT
DTSTART;VALUE=DATE:20260426
DTEND;VALUE=DATE:20260427
DTSTAMP:20260421T165103
CREATED:20251216T082202Z
LAST-MODIFIED:20251216T082202Z
UID:10001559-1777161600-1777247999@www.joka.golf
SUMMARY:Golfclub Main-Spessart JOKA Matchday-Plus 2er Texas-Scramble Tagesturnier
DESCRIPTION:
URL:https://www.joka.golf/event/golfclub-main-spessart-joka-matchday-plus-2er-texas-scramble-tagesturnier/
LOCATION:Golfclub Main-Spessart\, Eichenfürst 9\, Marktheidenfeld\, 97828\, Deutschland
CATEGORIES:Turniere,Turnierkalender
ATTACH;FMTTYPE=image/jpeg:https://www.joka.golf/wp-content/uploads/GC-Main-Spessart-4.jpg
ORGANIZER;CN="Golf Emotion":MAILTO:info@golf-emotion.eu
END:VEVENT
BEGIN:VEVENT
DTSTART;VALUE=DATE:20260426
DTEND;VALUE=DATE:20260427
DTSTAMP:20260421T165103
CREATED:20260122T051507Z
LAST-MODIFIED:20260122T051507Z
UID:10001894-1777161600-1777247999@www.joka.golf
SUMMARY:Golfclub Schloss Weitenburg JOKA After-Work Trophy
DESCRIPTION:
URL:https://www.joka.golf/event/golfclub-schloss-weitenburg-joka-after-work-trophy/
LOCATION:Golfclub Schloss Weitenburg\, Sommerhalde 11\, Starzach\, 72181\, Deutschland
CATEGORIES:Turniere,Turnierkalender
ATTACH;FMTTYPE=image/webp:https://www.joka.golf/wp-content/uploads/GC-Schloss-Weitenburg-1.webp
ORGANIZER;CN="Golf Emotion":MAILTO:info@golf-emotion.eu
END:VEVENT
BEGIN:VEVENT
DTSTART;VALUE=DATE:20260427
DTEND;VALUE=DATE:20260428
DTSTAMP:20260421T165103
CREATED:20251216T125224Z
LAST-MODIFIED:20251216T125224Z
UID:10001604-1777248000-1777334399@www.joka.golf
SUMMARY:Golfclub Gudensberg JOKA After-Work Trophy
DESCRIPTION:
URL:https://www.joka.golf/event/golfclub-gudensberg-joka-after-work-trophy/2026-04-27/
LOCATION:Golfpark Gudensberg\, Gudensberg\, Kassel\, 34281\, Germany
CATEGORIES:Turniere,Turnierkalender
ATTACH;FMTTYPE=image/jpeg:https://www.joka.golf/wp-content/uploads/GC-Gudensberg-1.jpeg
ORGANIZER;CN="Golf Emotion":MAILTO:info@golf-emotion.eu
GEO:51.178114;9.3642206
END:VEVENT
BEGIN:VEVENT
DTSTART;VALUE=DATE:20260427
DTEND;VALUE=DATE:20260428
DTSTAMP:20260421T165103
CREATED:20260115T050816Z
LAST-MODIFIED:20260115T050816Z
UID:10001844-1777248000-1777334399@www.joka.golf
SUMMARY:Golfclub Segeberg JOKA After-Work Trophy
DESCRIPTION:
URL:https://www.joka.golf/event/golfclub-segeberg-joka-after-work-trophy/2026-04-27/
LOCATION:Golfclub Segeberg\, Feldscheide 2\, Wensin\, 23827\, Deutschland
CATEGORIES:Turniere,Turnierkalender
ATTACH;FMTTYPE=image/jpeg:https://www.joka.golf/wp-content/uploads/GC-Segeberg-5.jpg
ORGANIZER;CN="Golf Emotion":MAILTO:info@golf-emotion.eu
END:VEVENT
BEGIN:VEVENT
DTSTART;VALUE=DATE:20260428
DTEND;VALUE=DATE:20260429
DTSTAMP:20260421T165103
CREATED:20260115T052938Z
LAST-MODIFIED:20260115T052938Z
UID:10001851-1777334400-1777420799@www.joka.golf
SUMMARY:Golfclub Hauptsmoorwald JOKA After-Work Trophy
DESCRIPTION:
URL:https://www.joka.golf/event/golfclub-hauptsmoorwald-joka-after-work-trophy/2026-04-28/
LOCATION:Golfclub Hauptsmoorwald\, Zollnerstraße\, Bamberg\, 96052\, Deutschland
CATEGORIES:Turniere,Turnierkalender
ATTACH;FMTTYPE=image/jpeg:https://www.joka.golf/wp-content/uploads/GC-Hauptsmoorwald-2.jpg
ORGANIZER;CN="Golf Emotion":MAILTO:info@golf-emotion.eu
END:VEVENT
BEGIN:VEVENT
DTSTART;VALUE=DATE:20260429
DTEND;VALUE=DATE:20260430
DTSTAMP:20260421T165103
CREATED:20240206T230000Z
LAST-MODIFIED:20260120T153249Z
UID:10000688-1777420800-1777507199@www.joka.golf
SUMMARY:Donau Golfclub Passau-Raßbach JOKA After-Work Trophy
DESCRIPTION:
URL:https://www.joka.golf/event/donau-golfclub-passau-rassbach-joka-after-work-trophy-2/
LOCATION:Donau Golfclub Passau-Rassbach\, Raßbach 8\, Thyrnau\, 94136\, Deutschland
CATEGORIES:Turniere,Turnierkalender
ATTACH;FMTTYPE=image/jpeg:https://www.joka.golf/wp-content/uploads/GC-Donau-Passau-1.jpg
ORGANIZER;CN="Golf Emotion":MAILTO:info@golf-emotion.eu
END:VEVENT
BEGIN:VEVENT
DTSTART;VALUE=DATE:20260429
DTEND;VALUE=DATE:20260430
DTSTAMP:20260421T165103
CREATED:20251216T131038Z
LAST-MODIFIED:20251216T131038Z
UID:10001617-1777420800-1777507199@www.joka.golf
SUMMARY:Golfclub Munster JOKA After-Work Trophy
DESCRIPTION:
URL:https://www.joka.golf/event/golfclub-munster-joka-after-work-trophy/2026-04-29/
LOCATION:Golfclub Munster\, Kohlenbissen\, Munster\, 29633\, Germany
CATEGORIES:Turniere,Turnierkalender
ATTACH;FMTTYPE=image/jpeg:https://www.joka.golf/wp-content/uploads/GC-Munster-2.jpg
ORGANIZER;CN="Golf Emotion":MAILTO:info@golf-emotion.eu
END:VEVENT
BEGIN:VEVENT
DTSTART;VALUE=DATE:20260501
DTEND;VALUE=DATE:20260502
DTSTAMP:20260421T165103
CREATED:20240206T230000Z
LAST-MODIFIED:20260108T072339Z
UID:10000723-1777593600-1777679999@www.joka.golf
SUMMARY:Golfclub Burgwedel JOKA 2er Texas-Scramble Tagesturnier
DESCRIPTION:
URL:https://www.joka.golf/event/golfclub-burgwedel-joka-2er-texas-scramble-tagesturnier/
LOCATION:Golfclub Burgwedel\, Wettmarerstr. 13\, Burgwedel\, 30938\, Deutschland
CATEGORIES:Turniere,Turnierkalender
ATTACH;FMTTYPE=image/jpeg:https://www.joka.golf/wp-content/uploads/GC-Burgwedel-3.jpg
ORGANIZER;CN="Golf Emotion":MAILTO:info@golf-emotion.eu
END:VEVENT
BEGIN:VEVENT
DTSTART;VALUE=DATE:20260501
DTEND;VALUE=DATE:20260502
DTSTAMP:20260421T165103
CREATED:20240206T230000Z
LAST-MODIFIED:20260121T155619Z
UID:10001238-1777593600-1777679999@www.joka.golf
SUMMARY:Golfclub Reutlingen-Sonnenbühl JOKA Matchday-Plus 2er Texas-Scramble Tagesturnier
DESCRIPTION:
URL:https://www.joka.golf/event/golfclub-reutlingen-sonnenbuehl-joka-matchday-plus-2er-texas-scramble-tagesturnier/
LOCATION:Golfclub Reutlingen-Sonnenbühl\, Gewann vor Staudach 2\, Sonnenbühl\, 72820\, Deutschland
CATEGORIES:Turniere,Turnierkalender
ATTACH;FMTTYPE=image/jpeg:https://www.joka.golf/wp-content/uploads/GC-Reutlingen.jpg
ORGANIZER;CN="Golf Emotion":MAILTO:info@golf-emotion.eu
END:VEVENT
BEGIN:VEVENT
DTSTART;VALUE=DATE:20260501
DTEND;VALUE=DATE:20260502
DTSTAMP:20260421T165103
CREATED:20250422T140236Z
LAST-MODIFIED:20260121T112545Z
UID:10001554-1777593600-1777679999@www.joka.golf
SUMMARY:Golfclub Chemnitz JOKA 2er Texas-Scramble Tagesturnier
DESCRIPTION:
URL:https://www.joka.golf/event/golfclub-chemnitz-joka-2er-texas-scramble-tagesturnier/
LOCATION:Golfclub Chemnitz\, Wasserschlossweg 6\, Chemnitz\, 09123\, Deutschland
CATEGORIES:Turniere,Turnierkalender
ATTACH;FMTTYPE=image/jpeg:https://www.joka.golf/wp-content/uploads/GC-Chemnitz-4.jpg
ORGANIZER;CN="Golf Emotion":MAILTO:info@golf-emotion.eu
END:VEVENT
BEGIN:VEVENT
DTSTART;VALUE=DATE:20260501
DTEND;VALUE=DATE:20260502
DTSTAMP:20260421T165103
CREATED:20251216T124357Z
LAST-MODIFIED:20251216T124358Z
UID:10001581-1777593600-1777679999@www.joka.golf
SUMMARY:Golfclub Zum Fischland JOKA After-Work Trophy
DESCRIPTION:
URL:https://www.joka.golf/event/golfclub-zum-fischland-joka-after-work-trophy/2026-05-01/
LOCATION:Golfclub Zum Fischland\, Pappelalle 23a\, Ribnitz-Damgarten\, 18311\, Deutschland
CATEGORIES:Turniere,Turnierkalender
ATTACH;FMTTYPE=image/jpeg:https://www.joka.golf/wp-content/uploads/GC-Zum-Fischland.jpg
ORGANIZER;CN="Golf Emotion":MAILTO:info@golf-emotion.eu
END:VEVENT
BEGIN:VEVENT
DTSTART;VALUE=DATE:20260501
DTEND;VALUE=DATE:20260502
DTSTAMP:20260421T165103
CREATED:20260106T124024Z
LAST-MODIFIED:20260106T124025Z
UID:10001733-1777593600-1777679999@www.joka.golf
SUMMARY:Golfclub Bad Pyrmont JOKA After Work Trophy
DESCRIPTION:
URL:https://www.joka.golf/event/golfclub-bad-pyrmont-joka-after-work-trophy/2026-05-01/
LOCATION:Golfclub Bad Pyrmont\, Am Golfplatz 2\, Lügde\, 32676\, Deutschland
CATEGORIES:Turniere,Turnierkalender
ATTACH;FMTTYPE=image/jpeg:https://www.joka.golf/wp-content/uploads/GC-Bad-Pyrmont-2.jpg
ORGANIZER;CN="Golf Emotion":MAILTO:info@golf-emotion.eu
END:VEVENT
BEGIN:VEVENT
DTSTART;VALUE=DATE:20260501
DTEND;VALUE=DATE:20260502
DTSTAMP:20260421T165103
CREATED:20260108T054914Z
LAST-MODIFIED:20260108T054914Z
UID:10001776-1777593600-1777679999@www.joka.golf
SUMMARY:Golfclub Lauterbach JOKA After-Work Trophy
DESCRIPTION:
URL:https://www.joka.golf/event/golfclub-lauterbach-joka-after-work-trophy/2026-05-01/
LOCATION:Golfclub Lauterbach\, Hofstr.9\, Lauterbach\, 36341\, Deutschland
CATEGORIES:Turniere,Turnierkalender
ATTACH;FMTTYPE=image/jpeg:https://www.joka.golf/wp-content/uploads/GC-Lauterbach-5.jpg
ORGANIZER;CN="Golf Emotion":MAILTO:info@golf-emotion.eu
END:VEVENT
BEGIN:VEVENT
DTSTART;VALUE=DATE:20260502
DTEND;VALUE=DATE:20260503
DTSTAMP:20260421T165103
CREATED:20240206T230000Z
LAST-MODIFIED:20251216T083001Z
UID:10000949-1777680000-1777766399@www.joka.golf
SUMMARY:Golfclub Markkleeberg JOKA Matchday-Plus Tagesturnier "by Elektro Service Wendrich"
DESCRIPTION:
URL:https://www.joka.golf/event/golfclub-markkleeberg-joka-matchday-plus-tagesturnier-by-elektro-service-wendrich/
LOCATION:Golfclub Markkleeberg\, Mühlweg\, Markkleeberg\, 04416\, Deutschland
CATEGORIES:Turniere,Turnierkalender
ATTACH;FMTTYPE=image/jpeg:https://www.joka.golf/wp-content/uploads/GC-Markkleeberg-1.jpg
ORGANIZER;CN="Golf Emotion":MAILTO:info@golf-emotion.eu
END:VEVENT
BEGIN:VEVENT
DTSTART;VALUE=DATE:20260502
DTEND;VALUE=DATE:20260503
DTSTAMP:20260421T165103
CREATED:20240206T230000Z
LAST-MODIFIED:20260203T113629Z
UID:10001465-1777680000-1777766399@www.joka.golf
SUMMARY:Berliner Golfclub Gatow Joka Matchday-Plus Tagesturnier
DESCRIPTION:
URL:https://www.joka.golf/event/berliner-golfclub-gatow-joka-matchday-plus-tagesturnier/
LOCATION:Golfclub Gatow\, Sparneckerweg 100\, Berlin\, 14089\, Deutschland
CATEGORIES:Turniere,Turnierkalender
ATTACH;FMTTYPE=image/jpeg:https://www.joka.golf/wp-content/uploads/GC-Gatow-1.jpg
ORGANIZER;CN="Golf Emotion":MAILTO:info@golf-emotion.eu
END:VEVENT
BEGIN:VEVENT
DTSTART;VALUE=DATE:20260502
DTEND;VALUE=DATE:20260503
DTSTAMP:20260421T165103
CREATED:20251216T084219Z
LAST-MODIFIED:20251216T084219Z
UID:10001560-1777680000-1777766399@www.joka.golf
SUMMARY:Golfclub Steinhuder Meer JOKA Matchday-Plus Tagesturnier
DESCRIPTION:
URL:https://www.joka.golf/event/golfclub-steinhuder-meer-joka-matchday-plus-tagesturnier/
LOCATION:Golfclub Steinhuder Meer\, Vor der Mühle 10a\, Neustadt\, 31535\, Deutschland
CATEGORIES:Turniere,Turnierkalender
ATTACH;FMTTYPE=image/jpeg:https://www.joka.golf/wp-content/uploads/GC-Steinhuder-Meer.jpg
ORGANIZER;CN="Golf Emotion":MAILTO:info@golf-emotion.eu
END:VEVENT
BEGIN:VEVENT
DTSTART;VALUE=DATE:20260502
DTEND;VALUE=DATE:20260503
DTSTAMP:20260421T165103
CREATED:20260122T065154Z
LAST-MODIFIED:20260122T065155Z
UID:10001909-1777680000-1777766399@www.joka.golf
SUMMARY:Golfclub Berchtesgaden JOKA Matchday-Plus 2er Texas Scramble Tagesturnier
DESCRIPTION:
URL:https://www.joka.golf/event/golfclub-berchtesgaden-joka-matchday-plus-2er-texas-scramble-tagesturnier/
LOCATION:Golfclub Berchtesgaden\, Salzbergstraße 33\, Berchtesgaden\, 83471\, Germany
CATEGORIES:Turniere,Turnierkalender
ATTACH;FMTTYPE=image/jpeg:https://www.joka.golf/wp-content/uploads/GC-Berchtesgaden-2.jpg
ORGANIZER;CN="Golf Emotion":MAILTO:info@golf-emotion.eu
END:VEVENT
BEGIN:VEVENT
DTSTART;VALUE=DATE:20260503
DTEND;VALUE=DATE:20260504
DTSTAMP:20260421T165103
CREATED:20240206T230000Z
LAST-MODIFIED:20251216T084437Z
UID:10001175-1777766400-1777852799@www.joka.golf
SUMMARY:Golfclub Harz JOKA Matchday-Plus Tagesturnier
DESCRIPTION:
URL:https://www.joka.golf/event/golfclub-harz-joka-matchday-plus-tagesturnier/
LOCATION:Golfclub Harz\, Am Breitenberg 107\, Bad Harzburg\, 38667\, Deutschland
CATEGORIES:Turniere,Turnierkalender
ATTACH;FMTTYPE=image/jpeg:https://www.joka.golf/wp-content/uploads/GC-Harz-2.jpg
ORGANIZER;CN="Golf Emotion":MAILTO:info@golf-emotion.eu
END:VEVENT
BEGIN:VEVENT
DTSTART;VALUE=DATE:20260503
DTEND;VALUE=DATE:20260504
DTSTAMP:20260421T165103
CREATED:20240206T230000Z
LAST-MODIFIED:20260202T100221Z
UID:10001417-1777766400-1777852799@www.joka.golf
SUMMARY:Golfclub Siegerland JOKA Matchday-Plus Tagesturnier
DESCRIPTION:
URL:https://www.joka.golf/event/golfclub-siegerland-joka-matchday-plus-tagesturnier/
LOCATION:Golfclub Siegerland\, Berghäuserweg\, Kreuztal\, 57223\, Deutschland
CATEGORIES:Turniere,Turnierkalender
ATTACH;FMTTYPE=image/jpeg:https://www.joka.golf/wp-content/uploads/GC-Siegerland-3.jpg
ORGANIZER;CN="Golf Emotion":MAILTO:info@golf-emotion.eu
END:VEVENT
BEGIN:VEVENT
DTSTART;VALUE=DATE:20260503
DTEND;VALUE=DATE:20260504
DTSTAMP:20260421T165103
CREATED:20250127T171309Z
LAST-MODIFIED:20251216T135044Z
UID:10001640-1777766400-1777852799@www.joka.golf
SUMMARY:Golfclub Hamburg Gut Waldhof JOKA After-Work Trophy
DESCRIPTION:
URL:https://www.joka.golf/event/golfclub-hamburg-gut-waldhof-joka-after-work-trophy-2/2026-05-03/
LOCATION:Golfclub Hamburg Gut Waldhof\, Am Waldhof 3\, Kisdorf\, 24629\, Deutschland
CATEGORIES:Turniere,Turnierkalender
ATTACH;FMTTYPE=image/jpeg:https://www.joka.golf/wp-content/uploads/GC-Gut-Waldhof.jpg
ORGANIZER;CN="Golf Emotion":MAILTO:info@golf-emotion.eu
END:VEVENT
BEGIN:VEVENT
DTSTART;VALUE=DATE:20260504
DTEND;VALUE=DATE:20260505
DTSTAMP:20260421T165103
CREATED:20251217T072456Z
LAST-MODIFIED:20251217T072456Z
UID:10001710-1777852800-1777939199@www.joka.golf
SUMMARY:Golfclub Erding-Grünbach JOKA After-Work Trophy
DESCRIPTION:
URL:https://www.joka.golf/event/golfclub-erding-gruenbach-joka-after-work-trophy/2026-05-04/
LOCATION:Golfclub Erding-Grünbach\, Kellerberg 13\, Grünbach\, 85461\, Germany
CATEGORIES:Turniere,Turnierkalender
ATTACH;FMTTYPE=image/jpeg:https://www.joka.golf/wp-content/uploads/GC-Erding-Gruenbach.jpg
ORGANIZER;CN="Golf Emotion":MAILTO:info@golf-emotion.eu
END:VEVENT
BEGIN:VEVENT
DTSTART;VALUE=DATE:20260505
DTEND;VALUE=DATE:20260506
DTSTAMP:20260421T165103
CREATED:20240206T230000Z
LAST-MODIFIED:20251216T084714Z
UID:10000951-1777939200-1778025599@www.joka.golf
SUMMARY:Golfclub Bad Pyrmont JOKA Matchday-Plus -Damentag-
DESCRIPTION:
URL:https://www.joka.golf/event/golfclub-bad-pyrmont-joka-matchday-plus-damentag/
LOCATION:Golfclub Bad Pyrmont\, Am Golfplatz 2\, Lügde\, 32676\, Deutschland
CATEGORIES:Turniere,Turnierkalender
ATTACH;FMTTYPE=image/jpeg:https://www.joka.golf/wp-content/uploads/GC-Bad-Pyrmont-1.jpg
ORGANIZER;CN="Golf Emotion":MAILTO:info@golf-emotion.eu
END:VEVENT
BEGIN:VEVENT
DTSTART;VALUE=DATE:20260506
DTEND;VALUE=DATE:20260507
DTSTAMP:20260421T165103
CREATED:20240206T230000Z
LAST-MODIFIED:20251216T105703Z
UID:10001034-1778025600-1778111999@www.joka.golf
SUMMARY:Golfclub Ansbach JOKA After-Work Trophy
DESCRIPTION:
URL:https://www.joka.golf/event/golfclub-ansbach-joka-after-work-trophy-4/
LOCATION:Golfclub Ansbach\, Rothenburgerstr.35\, Colmberg\, 91598\, Deutschland
CATEGORIES:Turniere,Turnierkalender
ATTACH;FMTTYPE=image/jpeg:https://www.joka.golf/wp-content/uploads/GC-Ansbach-2.jpg
ORGANIZER;CN="Golf Emotion":MAILTO:info@golf-emotion.eu
END:VEVENT
BEGIN:VEVENT
DTSTART;VALUE=DATE:20260506
DTEND;VALUE=DATE:20260507
DTSTAMP:20260421T165103
CREATED:20251216T163858Z
LAST-MODIFIED:20251216T163858Z
UID:10001667-1778025600-1778111999@www.joka.golf
SUMMARY:Golfclub Mecklenburg-Strelitz JOKA After-Work Trophy
DESCRIPTION:
URL:https://www.joka.golf/event/golfclub-mecklenburg-strelitz-joka-after-work-trophy-2/2026-05-06/
LOCATION:Golfclub Mecklenburg-Strelitz\, Bornmühle 1a\, Groß Nemerow\, 17094\, Deutschland
CATEGORIES:Turniere,Turnierkalender
ATTACH;FMTTYPE=image/jpeg:https://www.joka.golf/wp-content/uploads/GC-Mecklenburg-Strelitz-4.jpg
ORGANIZER;CN="Golf Emotion":MAILTO:info@golf-emotion.eu
END:VEVENT
BEGIN:VEVENT
DTSTART;VALUE=DATE:20260506
DTEND;VALUE=DATE:20260507
DTSTAMP:20260421T165103
CREATED:20251217T051416Z
LAST-MODIFIED:20251217T051416Z
UID:10001671-1778025600-1778111999@www.joka.golf
SUMMARY:Golfclub Ruhpolding JOKA After-Work Trophy
DESCRIPTION:
URL:https://www.joka.golf/event/golfclub-ruhpolding-joka-after-work-trophy/2026-05-06/
LOCATION:Golfclub Ruhpolding\, Rauschbergstr.1a\, Ruhpolding\, 83324\, Deutschland
CATEGORIES:Turniere,Turnierkalender
ATTACH;FMTTYPE=image/jpeg:https://www.joka.golf/wp-content/uploads/GC-Ruhpolding-5.jpg
ORGANIZER;CN="Golf Emotion":MAILTO:info@golf-emotion.eu
END:VEVENT
BEGIN:VEVENT
DTSTART;VALUE=DATE:20260506
DTEND;VALUE=DATE:20260507
DTSTAMP:20260421T165104
CREATED:20260108T073351Z
LAST-MODIFIED:20260108T073351Z
UID:10001805-1778025600-1778111999@www.joka.golf
SUMMARY:Golfclub Burgwedel JOKA After-Work Trophy
DESCRIPTION:
URL:https://www.joka.golf/event/golfclub-burgwedel-joka-after-work-trophy-2/2026-05-06/
LOCATION:Golfclub Burgwedel\, Wettmarerstr. 13\, Burgwedel\, 30938\, Deutschland
CATEGORIES:Turniere,Turnierkalender
ATTACH;FMTTYPE=image/jpeg:https://www.joka.golf/wp-content/uploads/GC-Burgwedel-4.jpg
ORGANIZER;CN="Golf Emotion":MAILTO:info@golf-emotion.eu
END:VEVENT
BEGIN:VEVENT
DTSTART;VALUE=DATE:20260506
DTEND;VALUE=DATE:20260507
DTSTAMP:20260421T165104
CREATED:20260108T075211Z
LAST-MODIFIED:20260108T075211Z
UID:10001810-1778025600-1778111999@www.joka.golf
SUMMARY:Golfclub Lütetsburg JOKA After Work -HeMiGo-
DESCRIPTION:
URL:https://www.joka.golf/event/golfclub-luetetsburg-joka-after-work-hemigo-2/2026-05-06/
LOCATION:Golfclub Schloss Lütetsburg\, Landstr.36\, Lütetsburg\, 26524\, Deutschland
CATEGORIES:Turniere,Turnierkalender
ATTACH;FMTTYPE=image/jpeg:https://www.joka.golf/wp-content/uploads/GC-Luetetsburg-4.jpg
ORGANIZER;CN="Golf Emotion":MAILTO:info@golf-emotion.eu
END:VEVENT
BEGIN:VEVENT
DTSTART;VALUE=DATE:20260507
DTEND;VALUE=DATE:20260508
DTSTAMP:20260421T165104
CREATED:20240206T230000Z
LAST-MODIFIED:20251216T121450Z
UID:10001572-1778112000-1778198399@www.joka.golf
SUMMARY:West Golf JOKA After-Work Trophy
DESCRIPTION:
URL:https://www.joka.golf/event/west-golf-joka-after-work-trophy-3/2026-05-07/
LOCATION:West Golf\, Am Golfplatz 1\, Troisdorf\, 53844\, Deutschland
CATEGORIES:Turniere,Turnierkalender
ATTACH;FMTTYPE=image/jpeg:https://www.joka.golf/wp-content/uploads/GC-West-Golf-Troisdorf-4.jpg
ORGANIZER;CN="Golf Emotion":MAILTO:info@golf-emotion.eu
END:VEVENT
BEGIN:VEVENT
DTSTART;VALUE=DATE:20260507
DTEND;VALUE=DATE:20260508
DTSTAMP:20260421T165104
CREATED:20240206T230000Z
LAST-MODIFIED:20260202T045151Z
UID:10001935-1778112000-1778198399@www.joka.golf
SUMMARY:Golfclub Gutshof JOKA After-Work Trophy 2
DESCRIPTION:
URL:https://www.joka.golf/event/golfclub-gutshof-joka-after-work-trophy-2-2/2026-05-07/
LOCATION:Golfclub Gutshof Papenburg\, Gutshofstr.141\, Papenburg\, 26871\, Deutschland
CATEGORIES:Turniere,Turnierkalender
ATTACH;FMTTYPE=image/jpeg:https://www.joka.golf/wp-content/uploads/GC-Gutshof-Papenburg-2.jpg
ORGANIZER;CN="Golf Emotion":MAILTO:info@golf-emotion.eu
END:VEVENT
END:VCALENDAR