BEGIN:VCALENDAR
VERSION:2.0
PRODID:-//JOKA Rules Tournament Series - ECPv6.15.11//NONSGML v1.0//EN
CALSCALE:GREGORIAN
METHOD:PUBLISH
X-WR-CALNAME:JOKA Rules Tournament Series
X-ORIGINAL-URL:https://www.joka.golf
X-WR-CALDESC:Veranstaltungen für JOKA Rules Tournament Series
REFRESH-INTERVAL;VALUE=DURATION:PT1H
X-Robots-Tag:noindex
X-PUBLISHED-TTL:PT1H
BEGIN:VTIMEZONE
TZID:Europe/Berlin
BEGIN:DAYLIGHT
TZOFFSETFROM:+0100
TZOFFSETTO:+0200
TZNAME:CEST
DTSTART:20240331T010000
END:DAYLIGHT
BEGIN:STANDARD
TZOFFSETFROM:+0200
TZOFFSETTO:+0100
TZNAME:CET
DTSTART:20241027T010000
END:STANDARD
BEGIN:DAYLIGHT
TZOFFSETFROM:+0100
TZOFFSETTO:+0200
TZNAME:CEST
DTSTART:20250330T010000
END:DAYLIGHT
BEGIN:STANDARD
TZOFFSETFROM:+0200
TZOFFSETTO:+0100
TZNAME:CET
DTSTART:20251026T010000
END:STANDARD
BEGIN:DAYLIGHT
TZOFFSETFROM:+0100
TZOFFSETTO:+0200
TZNAME:CEST
DTSTART:20260329T010000
END:DAYLIGHT
BEGIN:STANDARD
TZOFFSETFROM:+0200
TZOFFSETTO:+0100
TZNAME:CET
DTSTART:20261025T010000
END:STANDARD
END:VTIMEZONE
BEGIN:VEVENT
DTSTART;VALUE=DATE:20250501
DTEND;VALUE=DATE:20250502
DTSTAMP:20260424T204856
CREATED:20250303T145629Z
LAST-MODIFIED:20250424T090152Z
UID:10001483-1746057600-1746143999@www.joka.golf
SUMMARY:Golfclub Bad Arolsen Joka After-Work Trophy
DESCRIPTION:
URL:https://www.joka.golf/event/golfclub-bad-arolsen-joka-after-work-trophy/
LOCATION:Golfclub Bad Arolsen\, Zum Wiggenberg 33\, Bad Arolsen\, 34454\, Deutschland
CATEGORIES:Turniere,Turnierkalender
ATTACH;FMTTYPE=image/jpeg:https://www.joka.golf/wp-content/uploads/GC-Bad-Arolsen-2.jpg
ORGANIZER;CN="Golf Emotion":MAILTO:info@golf-emotion.eu
END:VEVENT
BEGIN:VEVENT
DTSTART;VALUE=DATE:20250511
DTEND;VALUE=DATE:20250512
DTSTAMP:20260424T204856
CREATED:20240206T230000Z
LAST-MODIFIED:20260302T163208Z
UID:10000633-1746921600-1747007999@www.joka.golf
SUMMARY:Golfclub Bergen-Hohne JOKA Matchday-Plus Tagesturnier
DESCRIPTION:
URL:https://www.joka.golf/event/golfclub-bergen-hohne-joka-matchday-plus-tagesturnier/
LOCATION:Golfclub Bergen-Hohne\, Panzerstr.1\, Bergen-Lohheide\, 29303\, Deutschland
CATEGORIES:Turniere,Turnierkalender
ATTACH;FMTTYPE=image/jpeg:https://www.joka.golf/wp-content/uploads/GC-Bergen-Hohne-1.jpg
ORGANIZER;CN="Golf Emotion":MAILTO:info@golf-emotion.eu
END:VEVENT
BEGIN:VEVENT
DTSTART;VALUE=DATE:20250524
DTEND;VALUE=DATE:20250525
DTSTAMP:20260424T204856
CREATED:20250310T133832Z
LAST-MODIFIED:20250310T133832Z
UID:10001496-1748044800-1748131199@www.joka.golf
SUMMARY:Golfclub Vilsbiburg Joka Matchday-Plus Tagesturnier
DESCRIPTION:
URL:https://www.joka.golf/event/golfclub-vilsbiburg-joka-matchday-plus-tagesturnier/
LOCATION:Golfclub Vilsbiburg\, Trauterfing\, Vilsbiburg\, Niederbayern\, 84137\, Germany
CATEGORIES:Turniere,Turnierkalender
ATTACH;FMTTYPE=image/jpeg:https://www.joka.golf/wp-content/uploads/GC-Vilsbiburg.jpeg
ORGANIZER;CN="Golf Emotion":MAILTO:info@golf-emotion.eu
GEO:48.4122482;12.3330461
X-APPLE-STRUCTURED-LOCATION;VALUE=URI;X-ADDRESS=Golfclub Vilsbiburg Trauterfing Vilsbiburg Niederbayern 84137 Germany;X-APPLE-RADIUS=500;X-TITLE=Trauterfing:geo:12.3330461,48.4122482
END:VEVENT
BEGIN:VEVENT
DTSTART;VALUE=DATE:20250526
DTEND;VALUE=DATE:20250527
DTSTAMP:20260424T204856
CREATED:20250321T111719Z
LAST-MODIFIED:20250321T111719Z
UID:10001534-1748217600-1748303999@www.joka.golf
SUMMARY:Golfclub Chemnitz Joka After-Work Trophy
DESCRIPTION:
URL:https://www.joka.golf/event/golfclub-chemnitz-joka-after-work-trophy-3/
LOCATION:Golfclub Chemnitz\, Wasserschlossweg 6\, Chemnitz\, 09123\, Deutschland
CATEGORIES:Turniere,Turnierkalender
ATTACH;FMTTYPE=image/jpeg:https://www.joka.golf/wp-content/uploads/GC-Chemnitz-4.jpg
ORGANIZER;CN="Golf Emotion":MAILTO:info@golf-emotion.eu
END:VEVENT
BEGIN:VEVENT
DTSTART;VALUE=DATE:20250531
DTEND;VALUE=DATE:20250601
DTSTAMP:20260424T204856
CREATED:20240206T230000Z
LAST-MODIFIED:20260219T070723Z
UID:10000901-1748649600-1748735999@www.joka.golf
SUMMARY:Golfclub Bad Salzdetfurth JOKA Matchday-Plus Tagesturnier
DESCRIPTION:
URL:https://www.joka.golf/event/golfclub-bad-salzdetfurth-joka-matchday-plus-tagesturnier/
LOCATION:Golfclub Bad Salzdetfurth\, Dr.Jochen Schneider Weg 1\, Bad Salzdetfurth\, 31162\, Deutschland
CATEGORIES:Turniere,Turnierkalender
ATTACH;FMTTYPE=image/jpeg:https://www.joka.golf/wp-content/uploads/GC-Bad-Salzdetfurth.jpg
ORGANIZER;CN="Golf Emotion":MAILTO:info@golf-emotion.eu
END:VEVENT
END:VCALENDAR