BEGIN:VCALENDAR
VERSION:2.0
PRODID:-//JOKA Rules Tournament Series - ECPv6.15.11//NONSGML v1.0//EN
CALSCALE:GREGORIAN
METHOD:PUBLISH
X-ORIGINAL-URL:https://www.joka.golf
X-WR-CALDESC:Veranstaltungen für JOKA Rules Tournament Series
REFRESH-INTERVAL;VALUE=DURATION:PT1H
X-Robots-Tag:noindex
X-PUBLISHED-TTL:PT1H
BEGIN:VTIMEZONE
TZID:Europe/Berlin
BEGIN:DAYLIGHT
TZOFFSETFROM:+0100
TZOFFSETTO:+0200
TZNAME:CEST
DTSTART:20250330T010000
END:DAYLIGHT
BEGIN:STANDARD
TZOFFSETFROM:+0200
TZOFFSETTO:+0100
TZNAME:CET
DTSTART:20251026T010000
END:STANDARD
BEGIN:DAYLIGHT
TZOFFSETFROM:+0100
TZOFFSETTO:+0200
TZNAME:CEST
DTSTART:20260329T010000
END:DAYLIGHT
BEGIN:STANDARD
TZOFFSETFROM:+0200
TZOFFSETTO:+0100
TZNAME:CET
DTSTART:20261025T010000
END:STANDARD
BEGIN:DAYLIGHT
TZOFFSETFROM:+0100
TZOFFSETTO:+0200
TZNAME:CEST
DTSTART:20270328T010000
END:DAYLIGHT
BEGIN:STANDARD
TZOFFSETFROM:+0200
TZOFFSETTO:+0100
TZNAME:CET
DTSTART:20271031T010000
END:STANDARD
END:VTIMEZONE
BEGIN:VEVENT
DTSTART;VALUE=DATE:20260701
DTEND;VALUE=DATE:20260702
DTSTAMP:20260423T200908
CREATED:20240206T230000Z
LAST-MODIFIED:20260108T072723Z
UID:10001801-1782864000-1782950399@www.joka.golf
SUMMARY:Golfclub Burgwedel JOKA After-Work Trophy
DESCRIPTION:
URL:https://www.joka.golf/event/golfclub-burgwedel-joka-friday-masters-serie-4/2026-07-01/
LOCATION:Golfclub Burgwedel\, Wettmarerstr. 13\, Burgwedel\, 30938\, Deutschland
CATEGORIES:Turniere,Turnierkalender
ATTACH;FMTTYPE=image/jpeg:https://www.joka.golf/wp-content/uploads/GC-Burgwedel-3.jpg
ORGANIZER;CN="Golf Emotion":MAILTO:info@golf-emotion.eu
END:VEVENT
BEGIN:VEVENT
DTSTART;VALUE=DATE:20260702
DTEND;VALUE=DATE:20260703
DTSTAMP:20260423T200908
CREATED:20240206T230000Z
LAST-MODIFIED:20251216T122755Z
UID:10001575-1782950400-1783036799@www.joka.golf
SUMMARY:West Golf JOKA After-Work Trophy
DESCRIPTION:
URL:https://www.joka.golf/event/west-golf-joka-after-work-trophy-4/2026-07-02/
LOCATION:West Golf\, Am Golfplatz 1\, Troisdorf\, 53844\, Deutschland
CATEGORIES:Turniere,Turnierkalender
ATTACH;FMTTYPE=image/jpeg:https://www.joka.golf/wp-content/uploads/GC-West-Golf-Troisdorf-4.jpg
ORGANIZER;CN="Golf Emotion":MAILTO:info@golf-emotion.eu
END:VEVENT
BEGIN:VEVENT
DTSTART;VALUE=DATE:20260702
DTEND;VALUE=DATE:20260703
DTSTAMP:20260423T200908
CREATED:20250225T063130Z
LAST-MODIFIED:20260109T061321Z
UID:10001831-1782950400-1783036799@www.joka.golf
SUMMARY:Golfclub Reinfeld JOKA After-Work Trophy
DESCRIPTION:
URL:https://www.joka.golf/event/golfclub-reinfeld-joka-after-work-trophy-2/2026-07-02/
LOCATION:Golfclub Reinfeld\, Binnenkamp 29\, Reinfeld\, 23858\, Deutschland
CATEGORIES:Turniere,Turnierkalender
ATTACH;FMTTYPE=image/jpeg:https://www.joka.golf/wp-content/uploads/GC-Reinfeld-3.jpg
ORGANIZER;CN="Golf Emotion":MAILTO:info@golf-emotion.eu
END:VEVENT
BEGIN:VEVENT
DTSTART;VALUE=DATE:20260702
DTEND;VALUE=DATE:20260703
DTSTAMP:20260423T200908
CREATED:20260207T055500Z
LAST-MODIFIED:20260207T055501Z
UID:10001970-1782950400-1783036799@www.joka.golf
SUMMARY:Golf am Haus Amecke JOKA After-Work Trophy
DESCRIPTION:
URL:https://www.joka.golf/event/golf-am-haus-amecke-joka-after-work-trophy-2/2026-07-02/
LOCATION:Golf am Haus Amecke\, Haus Amecke\, Sundern\, 59846\, Deutschland
CATEGORIES:Turniere,Turnierkalender
ATTACH;FMTTYPE=image/jpeg:https://www.joka.golf/wp-content/uploads/GC-Amecke-1.jpeg
ORGANIZER;CN="Golf Emotion":MAILTO:info@golf-emotion.eu
END:VEVENT
BEGIN:VEVENT
DTSTART;VALUE=DATE:20260703
DTEND;VALUE=DATE:20260704
DTSTAMP:20260423T200908
CREATED:20240206T230000Z
LAST-MODIFIED:20251216T124756Z
UID:10001601-1783036800-1783123199@www.joka.golf
SUMMARY:Golfclub Serrahn JOKA After-Work Trophy
DESCRIPTION:
URL:https://www.joka.golf/event/golfclub-serrahn-joka-matchday-plus-tagesturnier/2026-07-03/
LOCATION:Golfclub Serrahn\, Dobbinerweg 24\, Serrahn\, 18292\, Deutschland
CATEGORIES:Turniere,Turnierkalender
ATTACH;FMTTYPE=image/jpeg:https://www.joka.golf/wp-content/uploads/GC-Serrahn-2.jpg
ORGANIZER;CN="Golf Emotion":MAILTO:info@golf-emotion.eu
END:VEVENT
BEGIN:VEVENT
DTSTART;VALUE=DATE:20260703
DTEND;VALUE=DATE:20260704
DTSTAMP:20260423T200908
CREATED:20240206T230000Z
LAST-MODIFIED:20251220T062219Z
UID:10001715-1783036800-1783123199@www.joka.golf
SUMMARY:Golfclub Fulda-Rhön JOKA After-Work Trophy
DESCRIPTION:
URL:https://www.joka.golf/event/golfclub-fulda-rhoen-joka-after-work-trophy-2/2026-07-03/
LOCATION:Golfclub Fulda Rhön\, Am Golfplatz 35\, Hofbieber\, 36145\, Deutschland
CATEGORIES:Turniere,Turnierkalender
ATTACH;FMTTYPE=image/jpeg:https://www.joka.golf/wp-content/uploads/GC-Fulda-Rhoen-3.jpg
ORGANIZER;CN="Golf Emotion":MAILTO:info@golf-emotion.eu
END:VEVENT
BEGIN:VEVENT
DTSTART;VALUE=DATE:20260703
DTEND;VALUE=DATE:20260704
DTSTAMP:20260423T200908
CREATED:20240206T230000Z
LAST-MODIFIED:20251216T133715Z
UID:10001633-1783036800-1783123199@www.joka.golf
SUMMARY:Golfclub Hofgut Praforst JOKA After-Work Trophy
DESCRIPTION:
URL:https://www.joka.golf/event/golfclub-hofgut-praforst-joka-after-work-trophy/2026-07-03/
LOCATION:Golfclub Praforst\, Dr.-Detlev-Rudelsdorff-Allee 3\, Hünfeld\, 36088\, Deutschland
CATEGORIES:Turniere,Turnierkalender
ATTACH;FMTTYPE=image/jpeg:https://www.joka.golf/wp-content/uploads/GC-Praforst-2.jpg
ORGANIZER;CN="Golf Emotion":MAILTO:info@golf-emotion.eu
END:VEVENT
BEGIN:VEVENT
DTSTART;VALUE=DATE:20260703
DTEND;VALUE=DATE:20260704
DTSTAMP:20260423T200908
CREATED:20240206T230000Z
LAST-MODIFIED:20251216T142321Z
UID:10001662-1783036800-1783123199@www.joka.golf
SUMMARY:Golfclub Plauen JOKA After-Wok Trophy
DESCRIPTION:
URL:https://www.joka.golf/event/golfclub-plauen-joka-after-wok-trophy/2026-07-03/
LOCATION:Golfclub Plauen\, Cossengrünerstr.\, Plauen\, 08547\, Deutschland
CATEGORIES:Turniere,Turnierkalender
ATTACH;FMTTYPE=image/jpeg:https://www.joka.golf/wp-content/uploads/GC-Plauen-2.jpg
ORGANIZER;CN="Golf Emotion":MAILTO:info@golf-emotion.eu
END:VEVENT
BEGIN:VEVENT
DTSTART;VALUE=DATE:20260703
DTEND;VALUE=DATE:20260704
DTSTAMP:20260423T200908
CREATED:20250130T105444Z
LAST-MODIFIED:20260116T170856Z
UID:10001880-1783036800-1783123199@www.joka.golf
SUMMARY:Golfclub Rehburg-Loccum JOKA After-Work Trophy
DESCRIPTION:
URL:https://www.joka.golf/event/golfclub-rehburg-loccum-joka-after-work-trophy/2026-07-03/
LOCATION:Golfclub Rehburg-Loccum\, Hormannshausen 2a\, Rehburg-Loccum\, 31547\, Deutschland
CATEGORIES:Turniere,Turnierkalender
ATTACH;FMTTYPE=image/jpeg:https://www.joka.golf/wp-content/uploads/GC-Rehburg-Loccum-4.jpg
ORGANIZER;CN="Golf Emotion":MAILTO:info@golf-emotion.eu
END:VEVENT
BEGIN:VEVENT
DTSTART;VALUE=DATE:20260703
DTEND;VALUE=DATE:20260704
DTSTAMP:20260423T200908
CREATED:20251216T124357Z
LAST-MODIFIED:20251216T124358Z
UID:10001590-1783036800-1783123199@www.joka.golf
SUMMARY:Golfclub Zum Fischland JOKA After-Work Trophy
DESCRIPTION:
URL:https://www.joka.golf/event/golfclub-zum-fischland-joka-after-work-trophy/2026-07-03/
LOCATION:Golfclub Zum Fischland\, Pappelalle 23a\, Ribnitz-Damgarten\, 18311\, Deutschland
CATEGORIES:Turniere,Turnierkalender
ATTACH;FMTTYPE=image/jpeg:https://www.joka.golf/wp-content/uploads/GC-Zum-Fischland.jpg
ORGANIZER;CN="Golf Emotion":MAILTO:info@golf-emotion.eu
END:VEVENT
BEGIN:VEVENT
DTSTART;VALUE=DATE:20260703
DTEND;VALUE=DATE:20260704
DTSTAMP:20260423T200908
CREATED:20251217T054909Z
LAST-MODIFIED:20251217T054909Z
UID:10001688-1783036800-1783123199@www.joka.golf
SUMMARY:Golfclub Wittgensteiner Land JOKA After-Work Trophy
DESCRIPTION:
URL:https://www.joka.golf/event/golfclub-wittgensteiner-land-joka-after-work-trophy-3/
LOCATION:Golfclub Wittgensteiner Land\, Kappelenstr.10\, Bad Berleburg\, 57319\, Deutschland
CATEGORIES:Turniere,Turnierkalender
ATTACH;FMTTYPE=image/jpeg:https://www.joka.golf/wp-content/uploads/GC-Wittgensteiner-Land-2.jpg
ORGANIZER;CN="Golf Emotion":MAILTO:info@golf-emotion.eu
END:VEVENT
BEGIN:VEVENT
DTSTART;VALUE=DATE:20260703
DTEND;VALUE=DATE:20260704
DTSTAMP:20260423T200908
CREATED:20251217T070431Z
LAST-MODIFIED:20251217T070431Z
UID:10001701-1783036800-1783123199@www.joka.golf
SUMMARY:Golf-Club Neumarkt JOKA After-Work Trophy
DESCRIPTION:
URL:https://www.joka.golf/event/golf-club-neumarkt-joka-after-work-trophy-2/2026-07-03/
LOCATION:Golf-Club Neumarkt\, Neumarkt in der Oberpfalz\, Upper Palatinate\, 92318\, Germany
CATEGORIES:Turniere,Turnierkalender
ATTACH;FMTTYPE=image/jpeg:https://www.joka.golf/wp-content/uploads/GC-Neumarkt.jpg
ORGANIZER;CN="Golf Emotion":MAILTO:info@golf-emotion.eu
GEO:49.2742045;11.4668023
END:VEVENT
BEGIN:VEVENT
DTSTART;VALUE=DATE:20260703
DTEND;VALUE=DATE:20260704
DTSTAMP:20260423T200908
CREATED:20251217T071511Z
LAST-MODIFIED:20251217T071511Z
UID:10001706-1783036800-1783123199@www.joka.golf
SUMMARY:Golfclub Stadtwald JOKA After-Work Trophy
DESCRIPTION:
URL:https://www.joka.golf/event/golfclub-stadtwald-joka-after-work-trophy-3/2026-07-03/
LOCATION:Golfclub Stadtwald Krefeld\, Hüttenallee 188\, Krefeld\, 47800\, Deutschland
CATEGORIES:Turniere,Turnierkalender
ATTACH;FMTTYPE=image/jpeg:https://www.joka.golf/wp-content/uploads/GC-Stadtwald-2.jpg
ORGANIZER;CN="Golf Emotion":MAILTO:info@golf-emotion.eu
END:VEVENT
BEGIN:VEVENT
DTSTART;VALUE=DATE:20260703
DTEND;VALUE=DATE:20260704
DTSTAMP:20260423T200908
CREATED:20260108T055407Z
LAST-MODIFIED:20260108T055407Z
UID:10001797-1783036800-1783123199@www.joka.golf
SUMMARY:Golfclub Lauterbach JOKA After-Work Trophy
DESCRIPTION:
URL:https://www.joka.golf/event/golfclub-lauterbach-joka-after-work-trophy-3/2026-07-03/
LOCATION:Golfclub Lauterbach\, Hofstr.9\, Lauterbach\, 36341\, Deutschland
CATEGORIES:Turniere,Turnierkalender
ATTACH;FMTTYPE=image/jpeg:https://www.joka.golf/wp-content/uploads/GC-Lauterbach-5.jpg
ORGANIZER;CN="Golf Emotion":MAILTO:info@golf-emotion.eu
END:VEVENT
BEGIN:VEVENT
DTSTART;VALUE=DATE:20260703
DTEND;VALUE=DATE:20260704
DTSTAMP:20260423T200908
CREATED:20260115T065126Z
LAST-MODIFIED:20260115T065126Z
UID:10001871-1783036800-1783123199@www.joka.golf
SUMMARY:Golfclub Thülsfelde JOKA After-Work Trophy
DESCRIPTION:
URL:https://www.joka.golf/event/golfclub-thuelsfelde-joka-after-work-trophy-2/2026-07-03/
LOCATION:Golfclub Thülsfelder Talsperre\, Mühlenweg 9\, Molbergen\, 49696\, Deutschland
CATEGORIES:Turniere,Turnierkalender
ATTACH;FMTTYPE=image/jpeg:https://www.joka.golf/wp-content/uploads/GC-Thuelsfelder-Talsperre-2.jpg
ORGANIZER;CN="Golf Emotion":MAILTO:info@golf-emotion.eu
END:VEVENT
BEGIN:VEVENT
DTSTART;VALUE=DATE:20260703
DTEND;VALUE=DATE:20260704
DTSTAMP:20260423T200908
CREATED:20260125T064023Z
LAST-MODIFIED:20260125T064023Z
UID:10001925-1783036800-1783123199@www.joka.golf
SUMMARY:Golfclub Gut Wissmannshof JOKA After-Work Trophy
DESCRIPTION:
URL:https://www.joka.golf/event/golfclub-gut-wissmannshof-joka-after-work-trophy/2026-07-03/
LOCATION:Golfclub Gut Wissmannshof\, Wissmannshof 1\, Staufenberg\, 34355\, Deutschland
CATEGORIES:Turniere,Turnierkalender
ATTACH;FMTTYPE=image/jpeg:https://www.joka.golf/wp-content/uploads/GC-Gut-Wissmannshof-5.jpg
ORGANIZER;CN="Golf Emotion":MAILTO:info@golf-emotion.eu
END:VEVENT
BEGIN:VEVENT
DTSTART;VALUE=DATE:20260705
DTEND;VALUE=DATE:20260706
DTSTAMP:20260423T200908
CREATED:20250127T171112Z
LAST-MODIFIED:20251216T135345Z
UID:10001648-1783209600-1783295999@www.joka.golf
SUMMARY:Golfclub Hamburg Gut Waldhof JOKA After-Work Trophy
DESCRIPTION:
URL:https://www.joka.golf/event/golfclub-hamburg-gut-waldhof-joka-after-work-trophy/2026-07-05/
LOCATION:Golfclub Hamburg Gut Waldhof\, Am Waldhof 3\, Kisdorf\, 24629\, Deutschland
CATEGORIES:Turniere,Turnierkalender
ATTACH;FMTTYPE=image/jpeg:https://www.joka.golf/wp-content/uploads/GC-Gut-Waldhof.jpg
ORGANIZER;CN="Golf Emotion":MAILTO:info@golf-emotion.eu
END:VEVENT
BEGIN:VEVENT
DTSTART;VALUE=DATE:20260705
DTEND;VALUE=DATE:20260706
DTSTAMP:20260423T200908
CREATED:20260212T085314Z
LAST-MODIFIED:20260212T085314Z
UID:10001980-1783209600-1783295999@www.joka.golf
SUMMARY:Golfclub Waldegg-Wiggensbach JOKA After-Work Trophy
DESCRIPTION:
URL:https://www.joka.golf/event/golfclub-waldegg-wiggensbach-joka-after-work-trophy-2/2026-07-05/
LOCATION:Golfclub Waldegg-Wiggensbach\, Waldegg 3\, Wiggensbach\, 87487\, Deutschland
CATEGORIES:Turniere,Turnierkalender
ATTACH;FMTTYPE=image/jpeg:https://www.joka.golf/wp-content/uploads/GC-Waldegg-Wiggensbach-3.jpg
ORGANIZER;CN="Golf Emotion":MAILTO:info@golf-emotion.eu
END:VEVENT
BEGIN:VEVENT
DTSTART;VALUE=DATE:20260706
DTEND;VALUE=DATE:20260707
DTSTAMP:20260423T200908
CREATED:20251216T125419Z
LAST-MODIFIED:20251216T125419Z
UID:10001608-1783296000-1783382399@www.joka.golf
SUMMARY:Golfclub Gudensberg JOKA After-Work Trophy
DESCRIPTION:
URL:https://www.joka.golf/event/golfclub-gudensberg-joka-after-work-trophy-2/2026-07-06/
LOCATION:Golfpark Gudensberg\, Gudensberg\, Kassel\, 34281\, Germany
CATEGORIES:Turniere,Turnierkalender
ATTACH;FMTTYPE=image/jpeg:https://www.joka.golf/wp-content/uploads/GC-Gudensberg-1.jpeg
ORGANIZER;CN="Golf Emotion":MAILTO:info@golf-emotion.eu
GEO:51.178114;9.3642206
END:VEVENT
BEGIN:VEVENT
DTSTART;VALUE=DATE:20260707
DTEND;VALUE=DATE:20260708
DTSTAMP:20260423T200908
CREATED:20251216T130531Z
LAST-MODIFIED:20251216T130531Z
UID:10001615-1783382400-1783468799@www.joka.golf
SUMMARY:Köln Golf JOKA After-Work Trophy
DESCRIPTION:
URL:https://www.joka.golf/event/koeln-golf-joka-after-work-trophy/2026-07-07/
LOCATION:KölnGolf\, Parallelweg 1\, Köln\, 50769\, Deutschland
CATEGORIES:Turniere,Turnierkalender
ATTACH;FMTTYPE=image/jpeg:https://www.joka.golf/wp-content/uploads/GC-KoelnGolf-.jpg
ORGANIZER;CN="Golf Emotion":MAILTO:info@golf-emotion.eu
END:VEVENT
BEGIN:VEVENT
DTSTART;VALUE=DATE:20260707
DTEND;VALUE=DATE:20260708
DTSTAMP:20260423T200908
CREATED:20260115T052938Z
LAST-MODIFIED:20260115T052938Z
UID:10001856-1783382400-1783468799@www.joka.golf
SUMMARY:Golfclub Hauptsmoorwald JOKA After-Work Trophy
DESCRIPTION:
URL:https://www.joka.golf/event/golfclub-hauptsmoorwald-joka-after-work-trophy/2026-07-07/
LOCATION:Golfclub Hauptsmoorwald\, Zollnerstraße\, Bamberg\, 96052\, Deutschland
CATEGORIES:Turniere,Turnierkalender
ATTACH;FMTTYPE=image/jpeg:https://www.joka.golf/wp-content/uploads/GC-Hauptsmoorwald-2.jpg
ORGANIZER;CN="Golf Emotion":MAILTO:info@golf-emotion.eu
END:VEVENT
BEGIN:VEVENT
DTSTART;VALUE=DATE:20260708
DTEND;VALUE=DATE:20260709
DTSTAMP:20260423T200908
CREATED:20251216T131038Z
LAST-MODIFIED:20251216T131038Z
UID:10001622-1783468800-1783555199@www.joka.golf
SUMMARY:Golfclub Munster JOKA After-Work Trophy
DESCRIPTION:
URL:https://www.joka.golf/event/golfclub-munster-joka-after-work-trophy/2026-07-08/
LOCATION:Golfclub Munster\, Kohlenbissen\, Munster\, 29633\, Germany
CATEGORIES:Turniere,Turnierkalender
ATTACH;FMTTYPE=image/jpeg:https://www.joka.golf/wp-content/uploads/GC-Munster-2.jpg
ORGANIZER;CN="Golf Emotion":MAILTO:info@golf-emotion.eu
END:VEVENT
BEGIN:VEVENT
DTSTART;VALUE=DATE:20260708
DTEND;VALUE=DATE:20260709
DTSTAMP:20260423T200908
CREATED:20251216T164044Z
LAST-MODIFIED:20251216T164044Z
UID:10001670-1783468800-1783555199@www.joka.golf
SUMMARY:Golfclub Mecklenburg-Strelitz JOKA After-Work Trophy
DESCRIPTION:
URL:https://www.joka.golf/event/golfclub-mecklenburg-strelitz-joka-after-work-trophy-3/2026-07-08/
LOCATION:Golfclub Mecklenburg-Strelitz\, Bornmühle 1a\, Groß Nemerow\, 17094\, Deutschland
CATEGORIES:Turniere,Turnierkalender
ATTACH;FMTTYPE=image/jpeg:https://www.joka.golf/wp-content/uploads/GC-Mecklenburg-Strelitz-4.jpg
ORGANIZER;CN="Golf Emotion":MAILTO:info@golf-emotion.eu
END:VEVENT
BEGIN:VEVENT
DTSTART;VALUE=DATE:20260708
DTEND;VALUE=DATE:20260709
DTSTAMP:20260423T200908
CREATED:20251217T051936Z
LAST-MODIFIED:20251217T051936Z
UID:10001677-1783468800-1783555199@www.joka.golf
SUMMARY:Golfclub Ruhpolding JOKA After-Work Trophy
DESCRIPTION:
URL:https://www.joka.golf/event/golfclub-ruhpolding-joka-after-work-trophy-3/2026-07-08/
LOCATION:Golfclub Ruhpolding\, Rauschbergstr.1a\, Ruhpolding\, 83324\, Deutschland
CATEGORIES:Turniere,Turnierkalender
ATTACH;FMTTYPE=image/jpeg:https://www.joka.golf/wp-content/uploads/GC-Ruhpolding-5.jpg
ORGANIZER;CN="Golf Emotion":MAILTO:info@golf-emotion.eu
END:VEVENT
BEGIN:VEVENT
DTSTART;VALUE=DATE:20260708
DTEND;VALUE=DATE:20260709
DTSTAMP:20260423T200908
CREATED:20251221T082622Z
LAST-MODIFIED:20251221T082622Z
UID:10001723-1783468800-1783555199@www.joka.golf
SUMMARY:Golfclub Wasserburg Anholt JOKA After-Work Trophy
DESCRIPTION:
URL:https://www.joka.golf/event/golfclub-wasserburg-anholt-joka-after-work-trophy/2026-07-08/
LOCATION:Golfclub Wasserburg Anholt\, Schloss 3\, Isselburg\, 46419\, Deutschland
CATEGORIES:Turniere,Turnierkalender
ATTACH;FMTTYPE=image/jpeg:https://www.joka.golf/wp-content/uploads/GC-Anholt.jpg
ORGANIZER;CN="Golf Emotion":MAILTO:info@golf-emotion.eu
END:VEVENT
BEGIN:VEVENT
DTSTART;VALUE=DATE:20260709
DTEND;VALUE=DATE:20260710
DTSTAMP:20260423T200908
CREATED:20240206T230000Z
LAST-MODIFIED:20260202T045400Z
UID:10001937-1783555200-1783641599@www.joka.golf
SUMMARY:Golfclub Gutshof JOKA After-Work Trophy 2
DESCRIPTION:
URL:https://www.joka.golf/event/golfclub-gutshof-joka-after-work-trophy-2/2026-07-09/
LOCATION:Golfclub Gutshof Papenburg\, Gutshofstr.141\, Papenburg\, 26871\, Deutschland
CATEGORIES:Turniere,Turnierkalender
ATTACH;FMTTYPE=image/jpeg:https://www.joka.golf/wp-content/uploads/GC-Gutshof-Papenburg-2.jpg
ORGANIZER;CN="Golf Emotion":MAILTO:info@golf-emotion.eu
END:VEVENT
BEGIN:VEVENT
DTSTART;VALUE=DATE:20260709
DTEND;VALUE=DATE:20260710
DTSTAMP:20260423T200908
CREATED:20260108T104323Z
LAST-MODIFIED:20260108T104323Z
UID:10001818-1783555200-1783641599@www.joka.golf
SUMMARY:Golfclub Curau JOKA After-Work Trophy
DESCRIPTION:
URL:https://www.joka.golf/event/golfclub-curau-joka-after-work-trophy-2/2026-07-09/
LOCATION:Golfclub Curau\, Malkendorferweg 18\, Stockelsdorf\, 23617\, Deutschland
CATEGORIES:Turniere,Turnierkalender
ATTACH;FMTTYPE=image/jpeg:https://www.joka.golf/wp-content/uploads/GC-Curau-2.jpeg
ORGANIZER;CN="Golf Emotion":MAILTO:info@golf-emotion.eu
END:VEVENT
BEGIN:VEVENT
DTSTART;VALUE=DATE:20260710
DTEND;VALUE=DATE:20260711
DTSTAMP:20260423T200908
CREATED:20240206T230000Z
LAST-MODIFIED:20251221T065750Z
UID:10001720-1783641600-1783727999@www.joka.golf
SUMMARY:Golfclub Burg Konradsheim JOKA After-Work Trophy
DESCRIPTION:
URL:https://www.joka.golf/event/golfclub-burg-konradsheim-joka-after-work-trophy/2026-07-10/
LOCATION:Golfclub Burg Konradsheim\, Am Golfplatz 1\, Erftstadt\, 50374\, Deutschland
CATEGORIES:Turniere,Turnierkalender
ATTACH;FMTTYPE=image/jpeg:https://www.joka.golf/wp-content/uploads/GC-Burg-Konradsheim.jpg
ORGANIZER;CN="Golf Emotion":MAILTO:info@golf-emotion.eu
END:VEVENT
BEGIN:VEVENT
DTSTART;VALUE=DATE:20260710
DTEND;VALUE=DATE:20260711
DTSTAMP:20260423T200908
CREATED:20240206T230000Z
LAST-MODIFIED:20251216T142637Z
UID:10001663-1783641600-1783727999@www.joka.golf
SUMMARY:Golfclub Plauen JOKA After-Wok Trophy
DESCRIPTION:
URL:https://www.joka.golf/event/golfclub-plauen-joka-after-wok-trophy-2/2026-07-10/
LOCATION:Golfclub Plauen\, Cossengrünerstr.\, Plauen\, 08547\, Deutschland
CATEGORIES:Turniere,Turnierkalender
ATTACH;FMTTYPE=image/jpeg:https://www.joka.golf/wp-content/uploads/GC-Plauen-2.jpg
ORGANIZER;CN="Golf Emotion":MAILTO:info@golf-emotion.eu
END:VEVENT
BEGIN:VEVENT
DTSTART;VALUE=DATE:20260710
DTEND;VALUE=DATE:20260711
DTSTAMP:20260423T200908
CREATED:20251216T124357Z
LAST-MODIFIED:20251216T124358Z
UID:10001591-1783641600-1783727999@www.joka.golf
SUMMARY:Golfclub Zum Fischland JOKA After-Work Trophy
DESCRIPTION:
URL:https://www.joka.golf/event/golfclub-zum-fischland-joka-after-work-trophy/2026-07-10/
LOCATION:Golfclub Zum Fischland\, Pappelalle 23a\, Ribnitz-Damgarten\, 18311\, Deutschland
CATEGORIES:Turniere,Turnierkalender
ATTACH;FMTTYPE=image/jpeg:https://www.joka.golf/wp-content/uploads/GC-Zum-Fischland.jpg
ORGANIZER;CN="Golf Emotion":MAILTO:info@golf-emotion.eu
END:VEVENT
END:VCALENDAR