BEGIN:VCALENDAR
VERSION:2.0
PRODID:-//JOKA Rules Tournament Series - ECPv6.15.11//NONSGML v1.0//EN
CALSCALE:GREGORIAN
METHOD:PUBLISH
X-WR-CALNAME:JOKA Rules Tournament Series
X-ORIGINAL-URL:https://www.joka.golf
X-WR-CALDESC:Veranstaltungen für JOKA Rules Tournament Series
REFRESH-INTERVAL;VALUE=DURATION:PT1H
X-Robots-Tag:noindex
X-PUBLISHED-TTL:PT1H
BEGIN:VTIMEZONE
TZID:Europe/Berlin
BEGIN:DAYLIGHT
TZOFFSETFROM:+0100
TZOFFSETTO:+0200
TZNAME:CEST
DTSTART:20250330T010000
END:DAYLIGHT
BEGIN:STANDARD
TZOFFSETFROM:+0200
TZOFFSETTO:+0100
TZNAME:CET
DTSTART:20251026T010000
END:STANDARD
BEGIN:DAYLIGHT
TZOFFSETFROM:+0100
TZOFFSETTO:+0200
TZNAME:CEST
DTSTART:20260329T010000
END:DAYLIGHT
BEGIN:STANDARD
TZOFFSETFROM:+0200
TZOFFSETTO:+0100
TZNAME:CET
DTSTART:20261025T010000
END:STANDARD
BEGIN:DAYLIGHT
TZOFFSETFROM:+0100
TZOFFSETTO:+0200
TZNAME:CEST
DTSTART:20270328T010000
END:DAYLIGHT
BEGIN:STANDARD
TZOFFSETFROM:+0200
TZOFFSETTO:+0100
TZNAME:CET
DTSTART:20271031T010000
END:STANDARD
END:VTIMEZONE
BEGIN:VEVENT
DTSTART;VALUE=DATE:20260704
DTEND;VALUE=DATE:20260705
DTSTAMP:20260422T073913
CREATED:20240206T230000Z
LAST-MODIFIED:20251216T095912Z
UID:10000971-1783123200-1783209599@www.joka.golf
SUMMARY:Golfclub Ruhpolding JOKA Matchday-Plus Tagesturnier
DESCRIPTION:
URL:https://www.joka.golf/event/golfclub-ruhpolding-joka-matchday-plus-tagesturnier/
LOCATION:Golfclub Ruhpolding\, Rauschbergstr.1a\, Ruhpolding\, 83324\, Deutschland
CATEGORIES:Turniere,Turnierkalender
ATTACH;FMTTYPE=image/jpeg:https://www.joka.golf/wp-content/uploads/GC-Ruhpolding-3-1.jpg
ORGANIZER;CN="Golf Emotion":MAILTO:info@golf-emotion.eu
END:VEVENT
BEGIN:VEVENT
DTSTART;VALUE=DATE:20260704
DTEND;VALUE=DATE:20260705
DTSTAMP:20260422T073913
CREATED:20240206T230000Z
LAST-MODIFIED:20251216T100347Z
UID:10000932-1783123200-1783209599@www.joka.golf
SUMMARY:West Golf JOKA Matchday-Plus Tagesturnier
DESCRIPTION:
URL:https://www.joka.golf/event/west-golf-joka-matchday-plus-tagesturnier/
LOCATION:West Golf\, Am Golfplatz 1\, Troisdorf\, 53844\, Deutschland
CATEGORIES:Turniere,Turnierkalender
ATTACH;FMTTYPE=image/jpeg:https://www.joka.golf/wp-content/uploads/GC-West-Golf-Troisdorf.jpg
ORGANIZER;CN="Golf Emotion":MAILTO:info@golf-emotion.eu
END:VEVENT
BEGIN:VEVENT
DTSTART;VALUE=DATE:20260705
DTEND;VALUE=DATE:20260706
DTSTAMP:20260422T073913
CREATED:20240206T230000Z
LAST-MODIFIED:20260123T120251Z
UID:10000683-1783209600-1783295999@www.joka.golf
SUMMARY:Golfclub Bad Salzuflen JOKA Matchday-Plus Tagesturnier
DESCRIPTION:
URL:https://www.joka.golf/event/golfclub-bad-salzuflen-joka-matchday-plus-tagesturnier/
LOCATION:Golfclub Bad Salzuflen\, Schwaghof 4\, Bad Salzuflen\, 32108\, Deutschland
CATEGORIES:Turniere,Turnierkalender
ATTACH;FMTTYPE=image/jpeg:https://www.joka.golf/wp-content/uploads/GC-Bad-Salzuflen.jpg
ORGANIZER;CN="Golf Emotion":MAILTO:info@golf-emotion.eu
END:VEVENT
BEGIN:VEVENT
DTSTART;VALUE=DATE:20260705
DTEND;VALUE=DATE:20260706
DTSTAMP:20260422T073913
CREATED:20240206T230000Z
LAST-MODIFIED:20260106T123638Z
UID:10001189-1783209600-1783295999@www.joka.golf
SUMMARY:Golfclub Bad Pyrmont JOKA Matchday-Plus 2er Texas-Scramble Tagesturnier
DESCRIPTION:
URL:https://www.joka.golf/event/golfclub-bad-pyrmont-joka-matchday-plus-2er-texas-scramble-tagesturnier/
LOCATION:Golfclub Bad Pyrmont\, Am Golfplatz 2\, Lügde\, 32676\, Deutschland
CATEGORIES:Turniere,Turnierkalender
ATTACH;FMTTYPE=image/jpeg:https://www.joka.golf/wp-content/uploads/GC-Bad-Pyrmont-1.jpg
ORGANIZER;CN="Golf Emotion":MAILTO:info@golf-emotion.eu
END:VEVENT
BEGIN:VEVENT
DTSTART;VALUE=DATE:20260705
DTEND;VALUE=DATE:20260706
DTSTAMP:20260422T073913
CREATED:20240206T230000Z
LAST-MODIFIED:20260201T044150Z
UID:10000900-1783209600-1783295999@www.joka.golf
SUMMARY:Golfclub Sülfeld JOKA 2er Texas-Scramble Tagesturnier
DESCRIPTION:
URL:https://www.joka.golf/event/golfclub-suelfeld-joka-matchday-plus-tagesturnier/
LOCATION:Golfclub Sülfeld\, Petersfelde 4a\, Sülfeld\, 23867\, Deutschland
CATEGORIES:Turniere,Turnierkalender
ATTACH;FMTTYPE=image/jpeg:https://www.joka.golf/wp-content/uploads/GC-Suelfeld-1.jpg
ORGANIZER;CN="Golf Emotion":MAILTO:info@golf-emotion.eu
END:VEVENT
BEGIN:VEVENT
DTSTART;VALUE=DATE:20260705
DTEND;VALUE=DATE:20260706
DTSTAMP:20260422T073913
CREATED:20240206T230000Z
LAST-MODIFIED:20260120T151512Z
UID:10001357-1783209600-1783295999@www.joka.golf
SUMMARY:Golfclub Leinetal-Einbeck JOKA Matchday-Plus 2er Texas-Scramble Tagesturnier
DESCRIPTION:
URL:https://www.joka.golf/event/golfclub-leinetal-einbeck-joka-matchday-plus-2er-texas-scramble-tagesturnier/
LOCATION:Golfclub Leinetal-Einbeck\, Am Holzgrund\, Einbeck\, 37574\, Deutschland
CATEGORIES:Turniere,Turnierkalender
ATTACH;FMTTYPE=image/jpeg:https://www.joka.golf/wp-content/uploads/GC-Einbeck-1.jpg
ORGANIZER;CN="Golf Emotion":MAILTO:info@golf-emotion.eu
END:VEVENT
BEGIN:VEVENT
DTSTART;VALUE=DATE:20260705
DTEND;VALUE=DATE:20260706
DTSTAMP:20260422T073913
CREATED:20250527T115557Z
LAST-MODIFIED:20251221T062647Z
UID:10001557-1783209600-1783295999@www.joka.golf
SUMMARY:Golfclub Winterberg JOKA 2er Texas Scramble Tagesturnier
DESCRIPTION:
URL:https://www.joka.golf/event/golfclub-winterberg-joka-2er-texas-scramble-tagesturnier/
LOCATION:Golfclub Winterberg\, In der Büre 20\, Winterberg\, Arnsberg\, 59955\, Germany
CATEGORIES:Turniere,Turnierkalender
ATTACH;FMTTYPE=image/jpeg:https://www.joka.golf/wp-content/uploads/GC-Winterberg.jpg
ORGANIZER;CN="Golf Emotion":MAILTO:info@golf-emotion.eu
GEO:51.2019352;8.5082135
X-APPLE-STRUCTURED-LOCATION;VALUE=URI;X-ADDRESS=Golfclub Winterberg In der Büre 20 Winterberg Arnsberg 59955 Germany;X-APPLE-RADIUS=500;X-TITLE=In der Büre 20:geo:8.5082135,51.2019352
END:VEVENT
BEGIN:VEVENT
DTSTART;VALUE=DATE:20260708
DTEND;VALUE=DATE:20260709
DTSTAMP:20260422T073913
CREATED:20260203T114011Z
LAST-MODIFIED:20260203T114012Z
UID:10001954-1783468800-1783555199@www.joka.golf
SUMMARY:Berliner Golfclub Gatow JOKA Vierer-Matchday Tagesturnier
DESCRIPTION:
URL:https://www.joka.golf/event/berliner-golfclub-gatow-joka-vierer-matchday-tagesturnier/2026-07-08/
LOCATION:Golfclub Gatow\, Sparneckerweg 100\, Berlin\, 14089\, Deutschland
CATEGORIES:Turniere,Turnierkalender
ATTACH;FMTTYPE=image/jpeg:https://www.joka.golf/wp-content/uploads/GC-Gatow-3.jpg
ORGANIZER;CN="Golf Emotion":MAILTO:info@golf-emotion.eu
END:VEVENT
BEGIN:VEVENT
DTSTART;VALUE=DATE:20260710
DTEND;VALUE=DATE:20260711
DTSTAMP:20260422T073913
CREATED:20240206T230000Z
LAST-MODIFIED:20260202T044704Z
UID:10000630-1783641600-1783727999@www.joka.golf
SUMMARY:Golfclub Gutshof JOKA Matchday-Plus Tagesturnier
DESCRIPTION:
URL:https://www.joka.golf/event/golfclub-gutshof-joka-matchday-plus-tagesturnier/
LOCATION:Golfclub Gutshof Papenburg\, Gutshofstr.141\, Papenburg\, 26871\, Deutschland
CATEGORIES:Turniere,Turnierkalender
ATTACH;FMTTYPE=image/jpeg:https://www.joka.golf/wp-content/uploads/GC-Gutshof-Papenburg.jpg
ORGANIZER;CN="Golf Emotion":MAILTO:info@golf-emotion.eu
END:VEVENT
BEGIN:VEVENT
DTSTART;VALUE=DATE:20260712
DTEND;VALUE=DATE:20260713
DTSTAMP:20260422T073913
CREATED:20240206T230000Z
LAST-MODIFIED:20260125T053928Z
UID:10000653-1783814400-1783900799@www.joka.golf
SUMMARY:Golfclub Düren JOKA Matchday-Plus Tagesturnier
DESCRIPTION:
URL:https://www.joka.golf/event/golfclub-dueren-joka-matchday-plus-tagesturnier-herren/
LOCATION:Golfclub Düren\, Am Golfplatz 2\, Düren\, 52355\, Deutschland
CATEGORIES:Turniere,Turnierkalender
ATTACH;FMTTYPE=image/jpeg:https://www.joka.golf/wp-content/uploads/GC-Dueren-1.jpg
ORGANIZER;CN="Golf Emotion":MAILTO:info@golf-emotion.eu
END:VEVENT
BEGIN:VEVENT
DTSTART;VALUE=DATE:20260712
DTEND;VALUE=DATE:20260713
DTSTAMP:20260422T073913
CREATED:20260125T102105Z
LAST-MODIFIED:20260125T102105Z
UID:10001929-1783814400-1783900799@www.joka.golf
SUMMARY:Golfclub Siegen-Olpe JOKA Matchday-Plus Tagesturnier
DESCRIPTION:
URL:https://www.joka.golf/event/golfclub-siegen-olpe-joka-matchday-plus-tagesturnier-2/
LOCATION:Golfclub Siegen-Olpe\, Am Golfplatz 1\, Wenden\, 57482\, Deutschland
CATEGORIES:Turniere,Turnierkalender
ATTACH;FMTTYPE=image/jpeg:https://www.joka.golf/wp-content/uploads/GC-Siegen-Olpe.jpg
ORGANIZER;CN="Golf Emotion":MAILTO:info@golf-emotion.eu
END:VEVENT
BEGIN:VEVENT
DTSTART;VALUE=DATE:20260712
DTEND;VALUE=DATE:20260713
DTSTAMP:20260422T073913
CREATED:20260206T112904Z
LAST-MODIFIED:20260206T112904Z
UID:10001967-1783814400-1783900799@www.joka.golf
SUMMARY:Golfclub Bad Wildungen JOKA 2er Texas-Scramble Tagesturnier
DESCRIPTION:
URL:https://www.joka.golf/event/golfclub-bad-wildungen-joka-2er-texas-scramble-tagesturnier/
LOCATION:Golfclub Bad Wildungen\, Talquellenweg 33\, Bad Wildungen\, 34537\, Deutschland
CATEGORIES:Turniere,Turnierkalender
ATTACH;FMTTYPE=image/jpeg:https://www.joka.golf/wp-content/uploads/GC-Bad-Wildungen.jpg
ORGANIZER;CN="Golf Emotion":MAILTO:info@golf-emotion.eu
END:VEVENT
BEGIN:VEVENT
DTSTART;VALUE=DATE:20260718
DTEND;VALUE=DATE:20260719
DTSTAMP:20260422T073913
CREATED:20240206T230000Z
LAST-MODIFIED:20260128T134222Z
UID:10000598-1784332800-1784419199@www.joka.golf
SUMMARY:Golfclub Markkleeberg JOKA Matchday-Plus Tagesturnier
DESCRIPTION:
URL:https://www.joka.golf/event/golfclub-markkleeberg-joka-matchday-plus-tagesturnier/
LOCATION:Golfclub Markkleeberg\, Mühlweg\, Markkleeberg\, 04416\, Deutschland
CATEGORIES:Turniere,Turnierkalender
ATTACH;FMTTYPE=image/jpeg:https://www.joka.golf/wp-content/uploads/GC-Markkleeberg-1.jpg
ORGANIZER;CN="Golf Emotion":MAILTO:info@golf-emotion.eu
END:VEVENT
BEGIN:VEVENT
DTSTART;VALUE=DATE:20260718
DTEND;VALUE=DATE:20260719
DTSTAMP:20260422T073913
CREATED:20240206T230000Z
LAST-MODIFIED:20260122T054922Z
UID:10001302-1784332800-1784419199@www.joka.golf
SUMMARY:Golfclub Segeberg JOKA Matchday-Plus 2er Texas-Scramble Tagesturnier
DESCRIPTION:
URL:https://www.joka.golf/event/golfclub-segeberg-joka-matchday-plus-2er-texas-scramble-tagesturnier/
LOCATION:Golfclub Segeberg\, Feldscheide 2\, Wensin\, 23827\, Deutschland
CATEGORIES:Turniere,Turnierkalender
ATTACH;FMTTYPE=image/jpeg:https://www.joka.golf/wp-content/uploads/GC-Segeberg-2.jpg
ORGANIZER;CN="Golf Emotion":MAILTO:info@golf-emotion.eu
END:VEVENT
BEGIN:VEVENT
DTSTART;VALUE=DATE:20260718
DTEND;VALUE=DATE:20260719
DTSTAMP:20260422T073913
CREATED:20240206T230000Z
LAST-MODIFIED:20260121T160343Z
UID:10001144-1784332800-1784419199@www.joka.golf
SUMMARY:Golfclub Der Lüderich JOKA Matchday-Plus Tagesturnier
DESCRIPTION:
URL:https://www.joka.golf/event/golfclub-der-luederich-joka-matchday-plus-tagesturnier/
LOCATION:Golfclub Am Lüderich\, Am Golfplatz 1\, Overath\, 51491\, Deutschland
CATEGORIES:Turniere,Turnierkalender
ATTACH;FMTTYPE=image/jpeg:https://www.joka.golf/wp-content/uploads/GC-Am-Luederich.jpg
ORGANIZER;CN="Golf Emotion":MAILTO:info@golf-emotion.eu
END:VEVENT
BEGIN:VEVENT
DTSTART;VALUE=DATE:20260718
DTEND;VALUE=DATE:20260719
DTSTAMP:20260422T073913
CREATED:20260128T044323Z
LAST-MODIFIED:20260128T044323Z
UID:10001933-1784332800-1784419199@www.joka.golf
SUMMARY:Golfclub Warnemünde JOKA Matchday-Plus Tagesturnier
DESCRIPTION:
URL:https://www.joka.golf/event/golfclub-warnemuende-joka-matchday-plus-tagesturnier-3/
LOCATION:Golfclub Warnemünde\, Warnemünde\, 18119\, Germany
CATEGORIES:Turniere,Turnierkalender
ATTACH;FMTTYPE=image/jpeg:https://www.joka.golf/wp-content/uploads/GC-Warnemuende.jpg
ORGANIZER;CN="Golf Emotion":MAILTO:info@golf-emotion.eu
END:VEVENT
BEGIN:VEVENT
DTSTART;VALUE=DATE:20260719
DTEND;VALUE=DATE:20260720
DTSTAMP:20260422T073913
CREATED:20260120T071211Z
LAST-MODIFIED:20260120T071211Z
UID:10001884-1784419200-1784505599@www.joka.golf
SUMMARY:Golfclub Gimborner Land JOKA Matchday-Plus Tagesturnier
DESCRIPTION:
URL:https://www.joka.golf/event/golfclub-gimborner-land-joka-matchday-plus-tagesturnier/
LOCATION:Golfclub Gimborner Land\, Kreuzstraße 10\, Gummersbach-Berghausen\, 51647\, Germany
CATEGORIES:Turniere,Turnierkalender
ATTACH;FMTTYPE=image/jpeg:https://www.joka.golf/wp-content/uploads/GC-Gimborner-Land-1.jpg
ORGANIZER;CN="Golf Emotion":MAILTO:info@golf-emotion.eu
END:VEVENT
BEGIN:VEVENT
DTSTART;VALUE=DATE:20260722
DTEND;VALUE=DATE:20260723
DTSTAMP:20260422T073913
CREATED:20240206T230000Z
LAST-MODIFIED:20251216T100945Z
UID:10000612-1784678400-1784764799@www.joka.golf
SUMMARY:Golfclub Wolfsburg JOKA Matchday-Plus Tagesturnier
DESCRIPTION:
URL:https://www.joka.golf/event/golfclub-wolfsburg-joka-after-work-trophy-2/
LOCATION:Golfclub Wolfsburg\, Oslosserweg 20\, Bokensdorf\, 38556\, Deutschland
CATEGORIES:Turniere,Turnierkalender
ATTACH;FMTTYPE=image/jpeg:https://www.joka.golf/wp-content/uploads/GC-Wolfsburg-3.jpg
ORGANIZER;CN="Golf Emotion":MAILTO:info@golf-emotion.eu
END:VEVENT
BEGIN:VEVENT
DTSTART;VALUE=DATE:20260725
DTEND;VALUE=DATE:20260726
DTSTAMP:20260422T073913
CREATED:20240206T230000Z
LAST-MODIFIED:20260121T160040Z
UID:10000625-1784937600-1785023999@www.joka.golf
SUMMARY:Golfclub Dresden-Elbflorenz JOKA 2er Texas-Scramble Tagesturnier
DESCRIPTION:
URL:https://www.joka.golf/event/golfclub-dresden-elbflorenz-joka-after-work-trophy-2/
LOCATION:Golfclub Dresden-Elbflorenz\, Ferdinand-von-Schill-Str.4a\, Bannewitz\, 1728\, Deutschland
CATEGORIES:Turniere,Turnierkalender
ATTACH;FMTTYPE=image/jpeg:https://www.joka.golf/wp-content/uploads/GC-Dresden-Elbflorenz-2.jpg
ORGANIZER;CN="Golf Emotion":MAILTO:info@golf-emotion.eu
END:VEVENT
BEGIN:VEVENT
DTSTART;VALUE=DATE:20260725
DTEND;VALUE=DATE:20260726
DTSTAMP:20260422T073913
CREATED:20240206T230000Z
LAST-MODIFIED:20251216T101113Z
UID:10000764-1784937600-1785023999@www.joka.golf
SUMMARY:Golfclub Magdeburg JOKA Matchday-Plus 2er Texas-Scramble Tagesturnier
DESCRIPTION:
URL:https://www.joka.golf/event/golfclub-magdeburg-joka-matchday-plus-2er-texas-scramble-tagesturnier/
LOCATION:Golfclub Magdeburg\, Herrenkrug 4\, Magdeburg\, 39114\, Deutschland
CATEGORIES:Turniere,Turnierkalender
ATTACH;FMTTYPE=image/jpeg:https://www.joka.golf/wp-content/uploads/GC-Magdeburg-3.jpg
ORGANIZER;CN="Golf Emotion":MAILTO:info@golf-emotion.eu
END:VEVENT
BEGIN:VEVENT
DTSTART;VALUE=DATE:20260725
DTEND;VALUE=DATE:20260726
DTSTAMP:20260422T073913
CREATED:20250107T165309Z
LAST-MODIFIED:20251216T101236Z
UID:10001083-1784937600-1785023999@www.joka.golf
SUMMARY:Golfclub Marienfeld JOKA Matchday-Plus 2er Texas-Scramble Tagesturnier
DESCRIPTION:
URL:https://www.joka.golf/event/golfclub-marienfeld-joka-matchday-plus-2er-texas-scramble-tagesturnier/
LOCATION:Golfclub Marienfeld\, Remse\, Harsewinkel\, Detmold\, 33428\, Germany
CATEGORIES:Turniere,Turnierkalender
ATTACH;FMTTYPE=image/jpeg:https://www.joka.golf/wp-content/uploads/GC-Marienfeld.jpeg
ORGANIZER;CN="Golf Emotion":MAILTO:info@golf-emotion.eu
GEO:51.9538291;8.2584705
X-APPLE-STRUCTURED-LOCATION;VALUE=URI;X-ADDRESS=Golfclub Marienfeld Remse Harsewinkel Detmold 33428 Germany;X-APPLE-RADIUS=500;X-TITLE=Remse:geo:8.2584705,51.9538291
END:VEVENT
BEGIN:VEVENT
DTSTART;VALUE=DATE:20260725
DTEND;VALUE=DATE:20260726
DTSTAMP:20260422T073913
CREATED:20251216T100158Z
LAST-MODIFIED:20251216T100158Z
UID:10001562-1784937600-1785023999@www.joka.golf
SUMMARY:Golfclub Ruhpolding JOKA Matchday-Plus 2er Texas-Scramble Tagesturnier
DESCRIPTION:
URL:https://www.joka.golf/event/golfclub-ruhpolding-joka-matchday-plus-2er-texas-scramble-tagesturnier/
LOCATION:Golfclub Ruhpolding\, Rauschbergstr.1a\, Ruhpolding\, 83324\, Deutschland
CATEGORIES:Turniere,Turnierkalender
ATTACH;FMTTYPE=image/jpeg:https://www.joka.golf/wp-content/uploads/GC-Ruhpolding-4.jpg
ORGANIZER;CN="Golf Emotion":MAILTO:info@golf-emotion.eu
END:VEVENT
BEGIN:VEVENT
DTSTART;VALUE=DATE:20260726
DTEND;VALUE=DATE:20260727
DTSTAMP:20260422T073913
CREATED:20240206T230000Z
LAST-MODIFIED:20251216T101431Z
UID:10000924-1785024000-1785110399@www.joka.golf
SUMMARY:Golfclub Osnabrück-Dütetal JOKA Matchday-Plus Tagesturnier
DESCRIPTION:
URL:https://www.joka.golf/event/golfclub-osnabrueck-duetetal-joka-matchday-plus-tagesturnier/
LOCATION:Golfclub Osnabrück-Dütetal\, Wersenerstr.17\, Lotte\, 49504\, Deutschland
CATEGORIES:Turniere,Turnierkalender
ATTACH;FMTTYPE=image/jpeg:https://www.joka.golf/wp-content/uploads/GC-Duetetal-1.jpg
ORGANIZER;CN="Golf Emotion":MAILTO:info@golf-emotion.eu
END:VEVENT
BEGIN:VEVENT
DTSTART;VALUE=DATE:20260726
DTEND;VALUE=DATE:20260727
DTSTAMP:20260422T073913
CREATED:20250311T143159Z
LAST-MODIFIED:20260122T062947Z
UID:10001506-1785024000-1785110399@www.joka.golf
SUMMARY:Golfclub Rickenbach JOKA Matchday-Plus Tagesturnier
DESCRIPTION:
URL:https://www.joka.golf/event/golfclub-rickenbach-joka-after-work-trophy-finale/
LOCATION:Golfclub Rickenbach\, Hennematt 20\, Rickenbach\, 79736\, Deutschland
CATEGORIES:Turniere,Turnierkalender
ATTACH;FMTTYPE=image/jpeg:https://www.joka.golf/wp-content/uploads/GC-Rickenbach-1.jpg
ORGANIZER;CN="Golf Emotion":MAILTO:info@golf-emotion.eu
END:VEVENT
END:VCALENDAR