BEGIN:VCALENDAR
VERSION:2.0
PRODID:-//JOKA Rules Tournament Series - ECPv6.15.11//NONSGML v1.0//EN
CALSCALE:GREGORIAN
METHOD:PUBLISH
X-ORIGINAL-URL:https://www.joka.golf
X-WR-CALDESC:Veranstaltungen für JOKA Rules Tournament Series
REFRESH-INTERVAL;VALUE=DURATION:PT1H
X-Robots-Tag:noindex
X-PUBLISHED-TTL:PT1H
BEGIN:VTIMEZONE
TZID:Europe/Berlin
BEGIN:DAYLIGHT
TZOFFSETFROM:+0100
TZOFFSETTO:+0200
TZNAME:CEST
DTSTART:20250330T010000
END:DAYLIGHT
BEGIN:STANDARD
TZOFFSETFROM:+0200
TZOFFSETTO:+0100
TZNAME:CET
DTSTART:20251026T010000
END:STANDARD
BEGIN:DAYLIGHT
TZOFFSETFROM:+0100
TZOFFSETTO:+0200
TZNAME:CEST
DTSTART:20260329T010000
END:DAYLIGHT
BEGIN:STANDARD
TZOFFSETFROM:+0200
TZOFFSETTO:+0100
TZNAME:CET
DTSTART:20261025T010000
END:STANDARD
BEGIN:DAYLIGHT
TZOFFSETFROM:+0100
TZOFFSETTO:+0200
TZNAME:CEST
DTSTART:20270328T010000
END:DAYLIGHT
BEGIN:STANDARD
TZOFFSETFROM:+0200
TZOFFSETTO:+0100
TZNAME:CET
DTSTART:20271031T010000
END:STANDARD
END:VTIMEZONE
BEGIN:VTIMEZONE
TZID:UTC
BEGIN:STANDARD
TZOFFSETFROM:+0000
TZOFFSETTO:+0000
TZNAME:UTC
DTSTART:20250101T000000
END:STANDARD
END:VTIMEZONE
BEGIN:VEVENT
DTSTART;VALUE=DATE:20260516
DTEND;VALUE=DATE:20260517
DTSTAMP:20260423T200917
CREATED:20240206T230000Z
LAST-MODIFIED:20251216T090218Z
UID:10001074-1778889600-1778975999@www.joka.golf
SUMMARY:Golfclub Munster JOKA Matchday-Plus Tagesturnier
DESCRIPTION:
URL:https://www.joka.golf/event/golfclub-munster-joka-matchday-plus-tagesturnier/
LOCATION:Golfclub Munster\, Kohlenbissen 55\, Munster\, 29633\, Deutschland
CATEGORIES:Turniere,Turnierkalender
ATTACH;FMTTYPE=image/jpeg:https://www.joka.golf/wp-content/uploads/GC-Munster-1.jpg
ORGANIZER;CN="Golf Emotion":MAILTO:info@golf-emotion.eu
END:VEVENT
BEGIN:VEVENT
DTSTART;VALUE=DATE:20260516
DTEND;VALUE=DATE:20260517
DTSTAMP:20260423T200917
CREATED:20250324T164623Z
LAST-MODIFIED:20260122T062635Z
UID:10001540-1778889600-1778975999@www.joka.golf
SUMMARY:Golfclub Rickenbach JOKA Matchday-Plus Tagesturnier
DESCRIPTION:
URL:https://www.joka.golf/event/golfclub-rickenbach-joka-2er-texas-scramble-tagesturnier/
LOCATION:Golfclub Rickenbach\, Hennematt 20\, Rickenbach\, 79736\, Deutschland
CATEGORIES:Turniere,Turnierkalender
ATTACH;FMTTYPE=image/jpeg:https://www.joka.golf/wp-content/uploads/GC-Rickenbach-1.jpg
ORGANIZER;CN="Golf Emotion":MAILTO:info@golf-emotion.eu
END:VEVENT
BEGIN:VEVENT
DTSTART;VALUE=DATE:20260516
DTEND;VALUE=DATE:20260517
DTSTAMP:20260423T200917
CREATED:20251221T083430Z
LAST-MODIFIED:20251221T083430Z
UID:10001726-1778889600-1778975999@www.joka.golf
SUMMARY:Golfclub Wasserburg Anholt JOKA 2er Texas-Scramble Tagesturnier
DESCRIPTION:
URL:https://www.joka.golf/event/golfclub-wasserburg-anholt-joka-2er-texas-scramble-tagesturnier/
LOCATION:Golfclub Wasserburg Anholt\, Schloss 3\, Isselburg\, 46419\, Deutschland
CATEGORIES:Turniere,Turnierkalender
ATTACH;FMTTYPE=image/jpeg:https://www.joka.golf/wp-content/uploads/GC-Anholt.jpg
ORGANIZER;CN="Golf Emotion":MAILTO:info@golf-emotion.eu
END:VEVENT
BEGIN:VEVENT
DTSTART;VALUE=DATE:20260523
DTEND;VALUE=DATE:20260524
DTSTAMP:20260423T200917
CREATED:20240206T230000Z
LAST-MODIFIED:20260212T083308Z
UID:10001470-1779494400-1779580799@www.joka.golf
SUMMARY:GC Waldegg-Wiggensbach JOKA Matchday-Plus 2er Texas-Scramble Tagesturnier
DESCRIPTION:
URL:https://www.joka.golf/event/gc-waldegg-wiggensbach-joka-matchday-plus-2er-texas-scramble-tagesturnier/
LOCATION:Golfclub Waldegg-Wiggensbach\, Waldegg 3\, Wiggensbach\, 87487\, Deutschland
CATEGORIES:Turniere,Turnierkalender
ATTACH;FMTTYPE=image/jpeg:https://www.joka.golf/wp-content/uploads/GC-Waldegg-Wiggensbach-1.jpg
ORGANIZER;CN="Golf Emotion":MAILTO:info@golf-emotion.eu
END:VEVENT
BEGIN:VEVENT
DTSTART;VALUE=DATE:20260523
DTEND;VALUE=DATE:20260524
DTSTAMP:20260423T200917
CREATED:20240206T230000Z
LAST-MODIFIED:20260107T124653Z
UID:10001117-1779494400-1779580799@www.joka.golf
SUMMARY:Golfclub Eisenach JOKA Matchday-Plus Tagesturnier
DESCRIPTION:
URL:https://www.joka.golf/event/golfclub-eisenach-joka-matchday-plus-tagesturnier/
LOCATION:Golfclub Eisenach\, Am Röderweg 3\, Hörselberg-Hainich\, 99820\, Deutschland
CATEGORIES:Turniere,Turnierkalender
ATTACH;FMTTYPE=image/jpeg:https://www.joka.golf/wp-content/uploads/GC-Eisenach-3.jpg
ORGANIZER;CN="Golf Emotion":MAILTO:info@golf-emotion.eu
END:VEVENT
BEGIN:VEVENT
DTSTART;VALUE=DATE:20260523
DTEND;VALUE=DATE:20260524
DTSTAMP:20260423T200917
CREATED:20240206T230000Z
LAST-MODIFIED:20260107T124814Z
UID:10001116-1779494400-1779580799@www.joka.golf
SUMMARY:Golfclub Eisenach JOKA Matchday-Plus 2er Texas-Scramble Tagesturnier
DESCRIPTION:
URL:https://www.joka.golf/event/golfclub-eisenach-joka-matchday-plus-2er-texas-scramble-tagesturnier/
LOCATION:Golfclub Eisenach\, Am Röderweg 3\, Hörselberg-Hainich\, 99820\, Deutschland
CATEGORIES:Turniere,Turnierkalender
ATTACH;FMTTYPE=image/jpeg:https://www.joka.golf/wp-content/uploads/GC-Eisenach-2.jpg
ORGANIZER;CN="Golf Emotion":MAILTO:info@golf-emotion.eu
END:VEVENT
BEGIN:VEVENT
DTSTART;VALUE=DATE:20260523
DTEND;VALUE=DATE:20260524
DTSTAMP:20260423T200917
CREATED:20251216T104454Z
LAST-MODIFIED:20251216T104454Z
UID:10001563-1779494400-1779580799@www.joka.golf
SUMMARY:Golfclub Mecklenburg-Strelitz JOKA Matchday-Plus Tagesturnier
DESCRIPTION:
URL:https://www.joka.golf/event/golfclub-mecklenburg-strelitz-joka-matchday-plus-tagesturnier/
LOCATION:Golfclub Mecklenburg-Strelitz\, Bornmühle 1a\, Groß Nemerow\, 17094\, Deutschland
CATEGORIES:Turniere,Turnierkalender
ATTACH;FMTTYPE=image/jpeg:https://www.joka.golf/wp-content/uploads/GC-Mecklenburg-Strelitz-3.jpg
ORGANIZER;CN="Golf Emotion":MAILTO:info@golf-emotion.eu
END:VEVENT
BEGIN:VEVENT
DTSTART;VALUE=DATE:20260523
DTEND;VALUE=DATE:20260524
DTSTAMP:20260423T200917
CREATED:20260128T043007Z
LAST-MODIFIED:20260128T043008Z
UID:10001931-1779494400-1779580799@www.joka.golf
SUMMARY:Golfclub Warnemünde JOKA Matchday-Plus Tagesturnier
DESCRIPTION:
URL:https://www.joka.golf/event/golfclub-warnemuende-joka-matchday-plus-tagesturnier/
LOCATION:Golfclub Warnemünde\, Warnemünde\, 18119\, Germany
CATEGORIES:Turniere,Turnierkalender
ATTACH;FMTTYPE=image/jpeg:https://www.joka.golf/wp-content/uploads/GC-Warnemuende.jpg
ORGANIZER;CN="Golf Emotion":MAILTO:info@golf-emotion.eu
END:VEVENT
BEGIN:VEVENT
DTSTART;VALUE=DATE:20260524
DTEND;VALUE=DATE:20260525
DTSTAMP:20260423T200917
CREATED:20260122T135831Z
LAST-MODIFIED:20260122T135831Z
UID:10001915-1779580800-1779667199@www.joka.golf
SUMMARY:Golfclub Schaumburg JOKA Matchday-Plus Tagesturnier
DESCRIPTION:
URL:https://www.joka.golf/event/golfclub-schaumburg-joka-matchday-plus-tagesturnier/
LOCATION:Golfclub Schaumburg\, Röserheide 2\, Obernkirchen\, 31683\, Deutschland
CATEGORIES:Turniere,Turnierkalender
ATTACH;FMTTYPE=image/jpeg:https://www.joka.golf/wp-content/uploads/GC-Schaumburg-1.jpg
ORGANIZER;CN="Golf Emotion":MAILTO:info@golf-emotion.eu
END:VEVENT
BEGIN:VEVENT
DTSTART;VALUE=DATE:20260525
DTEND;VALUE=DATE:20260526
DTSTAMP:20260423T200917
CREATED:20240206T230000Z
LAST-MODIFIED:20260107T160413Z
UID:10000703-1779667200-1779753599@www.joka.golf
SUMMARY:Golfclub Gera JOKA Matchday-Plus 2er Texas-Scramble Tagesturnier
DESCRIPTION:
URL:https://www.joka.golf/event/golfclub-gera-joka-matchday-plus-2er-texas-scramble-tagesturnier/
LOCATION:Golfclub Gera\, Am Schafteich 3\, Harth-Pöllnitz\, 07570\, Deutschland
CATEGORIES:Turniere,Turnierkalender
ATTACH;FMTTYPE=image/jpeg:https://www.joka.golf/wp-content/uploads/GC-Gera-2.jpg
ORGANIZER;CN="Golf Emotion":MAILTO:info@golf-emotion.eu
END:VEVENT
BEGIN:VEVENT
DTSTART;VALUE=DATE:20260525
DTEND;VALUE=DATE:20260526
DTSTAMP:20260423T200917
CREATED:20240206T230000Z
LAST-MODIFIED:20260108T103723Z
UID:10001167-1779667200-1779753599@www.joka.golf
SUMMARY:Golfclub Curau JOKA Matchday-Plus 2er Texas-Scramble Tagesturnier
DESCRIPTION:
URL:https://www.joka.golf/event/golfclub-curau-joka-matchday-plus-2er-texas-scramble-tagesturnier/
LOCATION:Golfclub Curau\, Malkendorferweg 18\, Stockelsdorf\, 23617\, Deutschland
CATEGORIES:Turniere,Turnierkalender
ATTACH;FMTTYPE=image/jpeg:https://www.joka.golf/wp-content/uploads/GC-Curau-1.jpeg
ORGANIZER;CN="Golf Emotion":MAILTO:info@golf-emotion.eu
END:VEVENT
BEGIN:VEVENT
DTSTART;VALUE=DATE:20260525
DTEND;VALUE=DATE:20260526
DTSTAMP:20260423T200917
CREATED:20240206T230000Z
LAST-MODIFIED:20251216T090603Z
UID:10000943-1779667200-1779753599@www.joka.golf
SUMMARY:Bad Vilbeler Golfclub Lindenhof JOKA Matchday-Plus Tagesturnier
DESCRIPTION:
URL:https://www.joka.golf/event/bad-vilbeler-golfclub-lindenhof-joka-matchday-plus-tagesturnier/
LOCATION:Golfclub Bad Vilbel\, Lindenhof 1\, Bad Vilbel\, 61118\, Deutschland
CATEGORIES:Turniere,Turnierkalender
ATTACH;FMTTYPE=image/jpeg:https://www.joka.golf/wp-content/uploads/GC-Bad-Vilbel-1.jpg
ORGANIZER;CN="Golf Emotion":MAILTO:info@golf-emotion.eu
END:VEVENT
BEGIN:VEVENT
DTSTART;VALUE=DATE:20260525
DTEND;VALUE=DATE:20260526
DTSTAMP:20260423T200917
CREATED:20240206T230000Z
LAST-MODIFIED:20251216T090757Z
UID:10001176-1779667200-1779753599@www.joka.golf
SUMMARY:Golfclub Harz JOKA Matchday-Plus 2er Texas-Scramble Tagesturnier
DESCRIPTION:
URL:https://www.joka.golf/event/golfclub-harz-joka-matchday-plus-2er-texas-scramble-tagesturnier/
LOCATION:Golfclub Harz\, Am Breitenberg 107\, Bad Harzburg\, 38667\, Deutschland
CATEGORIES:Turniere,Turnierkalender
ATTACH;FMTTYPE=image/jpeg:https://www.joka.golf/wp-content/uploads/GC-Harz-3.jpg
ORGANIZER;CN="Golf Emotion":MAILTO:info@golf-emotion.eu
END:VEVENT
BEGIN:VEVENT
DTSTART;VALUE=DATE:20260525
DTEND;VALUE=DATE:20260526
DTSTAMP:20260423T200917
CREATED:20260109T152802Z
LAST-MODIFIED:20260109T152802Z
UID:10001839-1779667200-1779753599@www.joka.golf
SUMMARY:Golfclub Salzgitter JOKA Matchday-Plus Tagesturnier
DESCRIPTION:
URL:https://www.joka.golf/event/golfclub-salzgitter-joka-matchday-plus-tagesturnier-2/
LOCATION:Golfclub Salzgitter\, Mahner Berg\, Salzgitter\, 38259\, Deutschland
CATEGORIES:Turniere,Turnierkalender
ATTACH;FMTTYPE=image/jpeg:https://www.joka.golf/wp-content/uploads/GC-Salzgitter-3.jpg
ORGANIZER;CN="Golf Emotion":MAILTO:info@golf-emotion.eu
END:VEVENT
BEGIN:VEVENT
DTSTART;VALUE=DATE:20260530
DTEND;VALUE=DATE:20260531
DTSTAMP:20260423T200917
CREATED:20240206T230000Z
LAST-MODIFIED:20251216T091133Z
UID:10000617-1780099200-1780185599@www.joka.golf
SUMMARY:Golfclub Plauen JOKA Matchday-Plus 2er Texas-Scramble Tagesturnier
DESCRIPTION:
URL:https://www.joka.golf/event/golfclub-plauen-joka-matchday-plus-2er-texas-scramble-tagesturnier/
LOCATION:Golfclub Plauen\, Cossengrünerstr.\, Plauen\, 08547\, Deutschland
CATEGORIES:Turniere,Turnierkalender
ATTACH;FMTTYPE=image/jpeg:https://www.joka.golf/wp-content/uploads/GC-Plauen-1.jpg
ORGANIZER;CN="Golf Emotion":MAILTO:info@golf-emotion.eu
END:VEVENT
BEGIN:VEVENT
DTSTART;VALUE=DATE:20260530
DTEND;VALUE=DATE:20260531
DTSTAMP:20260423T200917
CREATED:20240206T230000Z
LAST-MODIFIED:20251216T090943Z
UID:10000622-1780099200-1780185599@www.joka.golf
SUMMARY:Golfclub Kitzingen JOKA Matchday-Plus Tagesturnier
DESCRIPTION:
URL:https://www.joka.golf/event/golfclub-kitzingen-joka-matchday-plus-tagesturnier/
LOCATION:Golfclub Kitzingen\, Lailachweg 1\, Kitzingen\, 97318\, Deutschland
CATEGORIES:Turniere,Turnierkalender
ATTACH;FMTTYPE=image/jpeg:https://www.joka.golf/wp-content/uploads/GC-Kitzingen-1.jpg
ORGANIZER;CN="Golf Emotion":MAILTO:info@golf-emotion.eu
END:VEVENT
BEGIN:VEVENT
DTSTART;VALUE=DATE:20260530
DTEND;VALUE=DATE:20260531
DTSTAMP:20260423T200917
CREATED:20250129T060825Z
LAST-MODIFIED:20260108T063150Z
UID:10001372-1780099200-1780185599@www.joka.golf
SUMMARY:Golfclub Ravensberger Land JOKA 2er Texas-Scramble Tagesturnier
DESCRIPTION:
URL:https://www.joka.golf/event/golfclub-ravensberger-land-joka-2er-texas-scramble-tagesturnier/
LOCATION:Golfclub Ravensberger Land\, Südstraße 96\, Enger\, 32130\, Germany
CATEGORIES:Turniere,Turnierkalender
ATTACH;FMTTYPE=image/jpeg:https://www.joka.golf/wp-content/uploads/GC-Ravensberger-Land.jpeg
ORGANIZER;CN="Golf Emotion":MAILTO:info@golf-emotion.eu
GEO:52.1080616;8.5483874
X-APPLE-STRUCTURED-LOCATION;VALUE=URI;X-ADDRESS=Golfclub Ravensberger Land Südstraße 96 Enger 32130 Germany;X-APPLE-RADIUS=500;X-TITLE=Südstraße 96:geo:8.5483874,52.1080616
END:VEVENT
BEGIN:VEVENT
DTSTART;VALUE=DATE:20260530
DTEND;VALUE=DATE:20260531
DTSTAMP:20260423T200917
CREATED:20260128T041206Z
LAST-MODIFIED:20260128T041207Z
UID:10001930-1780099200-1780185599@www.joka.golf
SUMMARY:Golfclub Uhlenberg-Reken JOKA Matchday-Plus Tagesturnier
DESCRIPTION:
URL:https://www.joka.golf/event/golfclub-uhlenberg-reken-joka-matchday-plus-tagesturnier/
LOCATION:Golfclub Uhlenberg-Reken\, Uhlenberg 8\, Reken\, 48734\, Deutschland
CATEGORIES:Turniere,Turnierkalender
ATTACH;FMTTYPE=image/jpeg:https://www.joka.golf/wp-content/uploads/GC-Uhlenberg-Reken-1.jpg
ORGANIZER;CN="Golf Emotion":MAILTO:info@golf-emotion.eu
END:VEVENT
BEGIN:VEVENT
DTSTART;VALUE=DATE:20260531
DTEND;VALUE=DATE:20260601
DTSTAMP:20260423T200917
CREATED:20240206T230000Z
LAST-MODIFIED:20260107T152435Z
UID:10001096-1780185600-1780271999@www.joka.golf
SUMMARY:Golfclub Peine-Edemissen JOKA Matchday-Plus Tagesturnier
DESCRIPTION:
URL:https://www.joka.golf/event/golfclub-peine-edemissen-joka-matchday-plus-tagesturnier/
LOCATION:Golfclub Peine-Edemissen\, Dahlkampsweg 2\, Edemissen\, 31234\, Deutschland
CATEGORIES:Turniere,Turnierkalender
ATTACH;FMTTYPE=image/jpeg:https://www.joka.golf/wp-content/uploads/GC-Peine-Edemissen.jpg
ORGANIZER;CN="Golf Emotion":MAILTO:info@golf-emotion.eu
END:VEVENT
BEGIN:VEVENT
DTSTART;VALUE=DATE:20260603
DTEND;VALUE=DATE:20260604
DTSTAMP:20260423T200917
CREATED:20260203T114011Z
LAST-MODIFIED:20260203T114012Z
UID:10001953-1780444800-1780531199@www.joka.golf
SUMMARY:Berliner Golfclub Gatow JOKA Vierer-Matchday Tagesturnier
DESCRIPTION:
URL:https://www.joka.golf/event/berliner-golfclub-gatow-joka-vierer-matchday-tagesturnier/2026-06-03/
LOCATION:Golfclub Gatow\, Sparneckerweg 100\, Berlin\, 14089\, Deutschland
CATEGORIES:Turniere,Turnierkalender
ATTACH;FMTTYPE=image/jpeg:https://www.joka.golf/wp-content/uploads/GC-Gatow-3.jpg
ORGANIZER;CN="Golf Emotion":MAILTO:info@golf-emotion.eu
END:VEVENT
BEGIN:VEVENT
DTSTART;VALUE=DATE:20260607
DTEND;VALUE=DATE:20260608
DTSTAMP:20260423T200917
CREATED:20240206T230000Z
LAST-MODIFIED:20251220T061749Z
UID:10000624-1780790400-1780876799@www.joka.golf
SUMMARY:Golfclub Fulda-Rhön JOKA Matchday-Plus Tagesturnier
DESCRIPTION:
URL:https://www.joka.golf/event/golfclub-fulda-rhoen-joka-matchday-plus-tagesturnier/
LOCATION:Golfclub Fulda Rhön\, Am Golfplatz 35\, Hofbieber\, 36145\, Deutschland
CATEGORIES:Turniere,Turnierkalender
ATTACH;FMTTYPE=image/jpeg:https://www.joka.golf/wp-content/uploads/GC-Fulda-Rhoen-1.jpg
ORGANIZER;CN="Golf Emotion":MAILTO:info@golf-emotion.eu
END:VEVENT
BEGIN:VEVENT
DTSTART;VALUE=DATE:20260607
DTEND;VALUE=DATE:20260608
DTSTAMP:20260423T200917
CREATED:20250110T163314Z
LAST-MODIFIED:20260105T113926Z
UID:10001125-1780790400-1780876799@www.joka.golf
SUMMARY:Artland Golf JOKA Matchday-Plus 2er Texas-Scramble Tagesturnier
DESCRIPTION:
URL:https://www.joka.golf/event/artland-golf-joka-matchday-plus-2er-texas-scramble-tagesturnier/
LOCATION:Artland Golf\, Zum Golfplatz 23\, Ankum\, 49577\, Deutschland
CATEGORIES:Turniere,Turnierkalender
ATTACH;FMTTYPE=image/jpeg:https://www.joka.golf/wp-content/uploads/GC-Artland.jpg
ORGANIZER;CN="Golf Emotion":MAILTO:info@golf-emotion.eu
END:VEVENT
BEGIN:VEVENT
DTSTART;VALUE=DATE:20260607
DTEND;VALUE=DATE:20260608
DTSTAMP:20260423T200917
CREATED:20250527T115352Z
LAST-MODIFIED:20251221T062759Z
UID:10001556-1780790400-1780876799@www.joka.golf
SUMMARY:Golfclub Winterberg JOKA Matchday-Plus Tagesturnier
DESCRIPTION:
URL:https://www.joka.golf/event/golfclub-winterberg-joka-matchday-plus-tagesturnier/
LOCATION:Golfclub Winterberg\, In der Büre 20\, Winterberg\, Arnsberg\, 59955\, Germany
CATEGORIES:Turniere,Turnierkalender
ATTACH;FMTTYPE=image/jpeg:https://www.joka.golf/wp-content/uploads/GC-Winterberg.jpg
ORGANIZER;CN="Golf Emotion":MAILTO:info@golf-emotion.eu
GEO:51.2019352;8.5082135
X-APPLE-STRUCTURED-LOCATION;VALUE=URI;X-ADDRESS=Golfclub Winterberg In der Büre 20 Winterberg Arnsberg 59955 Germany;X-APPLE-RADIUS=500;X-TITLE=In der Büre 20:geo:8.5082135,51.2019352
END:VEVENT
BEGIN:VEVENT
DTSTART;VALUE=DATE:20260613
DTEND;VALUE=DATE:20260614
DTSTAMP:20260423T200917
CREATED:20240206T230000Z
LAST-MODIFIED:20251216T091534Z
UID:10001047-1781308800-1781395199@www.joka.golf
SUMMARY:Köln Golf JOKA Matchday-Plus Tagesturnier
DESCRIPTION:
URL:https://www.joka.golf/event/koeln-golf-joka-matchday-plus-tagesturnier/
LOCATION:KölnGolf\, Parallelweg 1\, Köln\, 50769\, Deutschland
CATEGORIES:Turniere,Turnierkalender
ATTACH;FMTTYPE=image/jpeg:https://www.joka.golf/wp-content/uploads/GC-KoelnGolf.jpg
ORGANIZER;CN="Golf Emotion":MAILTO:info@golf-emotion.eu
END:VEVENT
BEGIN:VEVENT
DTSTART;VALUE=DATE:20260613
DTEND;VALUE=DATE:20260614
DTSTAMP:20260423T200917
CREATED:20240206T230000Z
LAST-MODIFIED:20260125T055250Z
UID:10000619-1781308800-1781395199@www.joka.golf
SUMMARY:Golfclub Talsperre-Pöhl JOKA Matchday-Plus Tagesturnier
DESCRIPTION:
URL:https://www.joka.golf/event/golfclub-talsperre-poehl-joka-matchday-plus-tagesturnier/
LOCATION:Golfclub Talsperre Pöhl\, Voigtsgrüner Str. 20\, Pöhl\, 08543\, Deutschland
CATEGORIES:Turniere,Turnierkalender
ATTACH;FMTTYPE=image/jpeg:https://www.joka.golf/wp-content/uploads/GC-Talsperre-Poehl-1.jpg
ORGANIZER;CN="Golf Emotion":MAILTO:info@golf-emotion.eu
END:VEVENT
BEGIN:VEVENT
DTSTART;VALUE=DATE:20260613
DTEND;VALUE=DATE:20260614
DTSTAMP:20260423T200917
CREATED:20240206T230000Z
LAST-MODIFIED:20251216T093113Z
UID:10000973-1781308800-1781395199@www.joka.golf
SUMMARY:Golfclub Plauen JOKA Matchday-Plus Tagesturnier
DESCRIPTION:
URL:https://www.joka.golf/event/golfclub-plauen-joka-matchday-plus-tagesturnier/
LOCATION:Golfclub Plauen\, Cossengrünerstr.\, Plauen\, 08547\, Deutschland
CATEGORIES:Turniere,Turnierkalender
ATTACH;FMTTYPE=image/jpeg:https://www.joka.golf/wp-content/uploads/GC-Plauen-1.jpg
ORGANIZER;CN="Golf Emotion":MAILTO:info@golf-emotion.eu
END:VEVENT
BEGIN:VEVENT
DTSTART;VALUE=DATE:20260613
DTEND;VALUE=DATE:20260614
DTSTAMP:20260423T200917
CREATED:20240206T230000Z
LAST-MODIFIED:20260112T085115Z
UID:10000667-1781308800-1781395199@www.joka.golf
SUMMARY:Golfclub Isernhagen JOKA Matchday-Plus Tagesturnier
DESCRIPTION:
URL:https://www.joka.golf/event/golfclub-isernhagen-joka-matchday-plus-tagesturnier/
LOCATION:Golfclub Isernhagen\, Gut Lohne 22\, Isernhagen\, 30916\, Deutschland
CATEGORIES:Turniere,Turnierkalender
ATTACH;FMTTYPE=image/jpeg:https://www.joka.golf/wp-content/uploads/GC-Isernhagen.jpg
ORGANIZER;CN="Golf Emotion":MAILTO:info@golf-emotion.eu
END:VEVENT
BEGIN:VEVENT
DTSTART;VALUE=DATE:20260614
DTEND;VALUE=DATE:20260615
DTSTAMP:20260423T200917
CREATED:20240206T230000Z
LAST-MODIFIED:20251216T093711Z
UID:10001325-1781395200-1781481599@www.joka.golf
SUMMARY:Golfclub Bad Kissingen JOKA Matchday-Plus 2er Texas-Scramble Tagesturnier
DESCRIPTION:
URL:https://www.joka.golf/event/golfclub-bad-kissingen-joka-matchday-plus-2er-texas-scramble-tagesturnier/
LOCATION:Golfclub Bad Kissingen\, Euerdorferstr. 11d\, Bad Kissingen\, 97688\, Deutschland
CATEGORIES:Turniere,Turnierkalender
ATTACH;FMTTYPE=image/jpeg:https://www.joka.golf/wp-content/uploads/GC-Bad-Kissingen-2.jpg
ORGANIZER;CN="Golf Emotion":MAILTO:info@golf-emotion.eu
END:VEVENT
BEGIN:VEVENT
DTSTART;VALUE=DATE:20260614
DTEND;VALUE=DATE:20260615
DTSTAMP:20260423T200917
CREATED:20260128T043614Z
LAST-MODIFIED:20260128T043614Z
UID:10001932-1781395200-1781481599@www.joka.golf
SUMMARY:Golfclub Warnemünde JOKA Matchday-Plus Tagesturnier
DESCRIPTION:
URL:https://www.joka.golf/event/golfclub-warnemuende-joka-matchday-plus-tagesturnier-2/
LOCATION:Golfclub Warnemünde\, Warnemünde\, 18119\, Germany
CATEGORIES:Turniere,Turnierkalender
ATTACH;FMTTYPE=image/jpeg:https://www.joka.golf/wp-content/uploads/GC-Warnemuende.jpg
ORGANIZER;CN="Golf Emotion":MAILTO:info@golf-emotion.eu
END:VEVENT
BEGIN:VEVENT
DTSTART;VALUE=DATE:20260620
DTEND;VALUE=DATE:20260621
DTSTAMP:20260423T200917
CREATED:20240206T230000Z
LAST-MODIFIED:20260108T074645Z
UID:10001450-1781913600-1781999999@www.joka.golf
SUMMARY:Golfclub Lütetsburg JOKA Matchday-Plus 2er Texas-Scramble Tagesturnier
DESCRIPTION:
URL:https://www.joka.golf/event/golfclub-luetetsburg-joka-matchday-plus-2er-texas-scramble-tagesturnier/
LOCATION:Golfclub Schloss Lütetsburg\, Landstr.36\, Lütetsburg\, 26524\, Deutschland
CATEGORIES:Turniere,Turnierkalender
ATTACH;FMTTYPE=image/jpeg:https://www.joka.golf/wp-content/uploads/GC-Luetetsburg-3.jpg
ORGANIZER;CN="Golf Emotion":MAILTO:info@golf-emotion.eu
END:VEVENT
END:VCALENDAR