BEGIN:VCALENDAR
VERSION:2.0
PRODID:-//JOKA Rules Tournament Series - ECPv6.15.11//NONSGML v1.0//EN
CALSCALE:GREGORIAN
METHOD:PUBLISH
X-ORIGINAL-URL:https://www.joka.golf
X-WR-CALDESC:Veranstaltungen für JOKA Rules Tournament Series
REFRESH-INTERVAL;VALUE=DURATION:PT1H
X-Robots-Tag:noindex
X-PUBLISHED-TTL:PT1H
BEGIN:VTIMEZONE
TZID:Europe/Berlin
BEGIN:DAYLIGHT
TZOFFSETFROM:+0100
TZOFFSETTO:+0200
TZNAME:CEST
DTSTART:20250330T010000
END:DAYLIGHT
BEGIN:STANDARD
TZOFFSETFROM:+0200
TZOFFSETTO:+0100
TZNAME:CET
DTSTART:20251026T010000
END:STANDARD
BEGIN:DAYLIGHT
TZOFFSETFROM:+0100
TZOFFSETTO:+0200
TZNAME:CEST
DTSTART:20260329T010000
END:DAYLIGHT
BEGIN:STANDARD
TZOFFSETFROM:+0200
TZOFFSETTO:+0100
TZNAME:CET
DTSTART:20261025T010000
END:STANDARD
BEGIN:DAYLIGHT
TZOFFSETFROM:+0100
TZOFFSETTO:+0200
TZNAME:CEST
DTSTART:20270328T010000
END:DAYLIGHT
BEGIN:STANDARD
TZOFFSETFROM:+0200
TZOFFSETTO:+0100
TZNAME:CET
DTSTART:20271031T010000
END:STANDARD
END:VTIMEZONE
BEGIN:VTIMEZONE
TZID:UTC
BEGIN:STANDARD
TZOFFSETFROM:+0000
TZOFFSETTO:+0000
TZNAME:UTC
DTSTART:20250101T000000
END:STANDARD
END:VTIMEZONE
BEGIN:VEVENT
DTSTART;VALUE=DATE:20260419
DTEND;VALUE=DATE:20260420
DTSTAMP:20260421T225130
CREATED:20260202T133158Z
LAST-MODIFIED:20260202T133158Z
UID:10001946-1776556800-1776643199@www.joka.golf
SUMMARY:Golfclub Siegerland JOKA After-Work Trophy
DESCRIPTION:
URL:https://www.joka.golf/event/golfclub-siegerland-joka-after-work-trophy-5/2026-04-19/
LOCATION:Golfclub Siegerland\, Berghäuserweg\, Kreuztal\, 57223\, Deutschland
CATEGORIES:Turniere,Turnierkalender
ATTACH;FMTTYPE=image/jpeg:https://www.joka.golf/wp-content/uploads/GC-Siegerland-5.jpg
ORGANIZER;CN="Golf Emotion":MAILTO:info@golf-emotion.eu
END:VEVENT
BEGIN:VEVENT
DTSTART;VALUE=DATE:20260419
DTEND;VALUE=DATE:20260420
DTSTAMP:20260421T225130
CREATED:20240206T230000Z
LAST-MODIFIED:20251220T061907Z
UID:10001026-1776556800-1776643199@www.joka.golf
SUMMARY:Golfclub Fulda-Rhön JOKA Matchday-Plus 2er Texas-Scramble Tagesturnier
DESCRIPTION:
URL:https://www.joka.golf/event/golfclub-fulda-rhoen-joka-matchday-plus-2er-texas-scramble-tagesturnier/
LOCATION:Golfclub Fulda Rhön\, Am Golfplatz 35\, Hofbieber\, 36145\, Deutschland
CATEGORIES:Turniere,Turnierkalender
ATTACH;FMTTYPE=image/jpeg:https://www.joka.golf/wp-content/uploads/GC-Fulda-Rhoen-1.jpg
ORGANIZER;CN="Golf Emotion":MAILTO:info@golf-emotion.eu
END:VEVENT
BEGIN:VEVENT
DTSTART;VALUE=DATE:20260419
DTEND;VALUE=DATE:20260420
DTSTAMP:20260421T225130
CREATED:20240206T230000Z
LAST-MODIFIED:20260125T053804Z
UID:10001383-1776556800-1776643199@www.joka.golf
SUMMARY:Golfclub Düren JOKA 2er Texas-Scramble Tagesturnier
DESCRIPTION:
URL:https://www.joka.golf/event/golfclub-dueren-joka-after-work-trophy/
LOCATION:Golfclub Düren\, Am Golfplatz 2\, Düren\, 52355\, Deutschland
CATEGORIES:Turniere,Turnierkalender
ATTACH;FMTTYPE=image/jpeg:https://www.joka.golf/wp-content/uploads/GC-Dueren-3.jpg
ORGANIZER;CN="Golf Emotion":MAILTO:info@golf-emotion.eu
END:VEVENT
BEGIN:VEVENT
DTSTART;VALUE=DATE:20260419
DTEND;VALUE=DATE:20260420
DTSTAMP:20260421T225130
CREATED:20240206T230000Z
LAST-MODIFIED:20260120T151328Z
UID:10000646-1776556800-1776643199@www.joka.golf
SUMMARY:Golfclub Leinetal-Einbeck JOKA Matchday-Plus 2er Texas-Scramble Tagesturnier
DESCRIPTION:
URL:https://www.joka.golf/event/golfclub-leinetal-einbeck-joka-matchday-plus-2er-texas-scramble-tagesturnier-2/
LOCATION:Golfclub Leinetal-Einbeck\, Am Holzgrund\, Einbeck\, 37574\, Deutschland
CATEGORIES:Turniere,Turnierkalender
ATTACH;FMTTYPE=image/jpeg:https://www.joka.golf/wp-content/uploads/GC-Einbeck-1.jpg
ORGANIZER;CN="Golf Emotion":MAILTO:info@golf-emotion.eu
END:VEVENT
BEGIN:VEVENT
DTSTART;VALUE=DATE:20260419
DTEND;VALUE=DATE:20260420
DTSTAMP:20260421T225130
CREATED:20240206T230000Z
LAST-MODIFIED:20251224T072442Z
UID:10001392-1776556800-1776643199@www.joka.golf
SUMMARY:Lippischer Golfclub JOKA Matchday-Plus 2er Texas-Scramble Tagesturnier
DESCRIPTION:
URL:https://www.joka.golf/event/lippischer-golfclub-joka-matchday-plus-2er-texas-scramble-tagesturnier/
LOCATION:Lippischer Golfclub\, Huxoll 14\, Blomberg\, 32825\, Deutschland
CATEGORIES:Turniere,Turnierkalender
ATTACH;FMTTYPE=image/jpeg:https://www.joka.golf/wp-content/uploads/Lippischer-GC-Neu.jpg
ORGANIZER;CN="Golf Emotion":MAILTO:info@golf-emotion.eu
END:VEVENT
BEGIN:VEVENT
DTSTART;VALUE=DATE:20260418
DTEND;VALUE=DATE:20260419
DTSTAMP:20260421T225130
CREATED:20251216T081345Z
LAST-MODIFIED:20251216T081345Z
UID:10001558-1776470400-1776556799@www.joka.golf
SUMMARY:Golfclub Gut Rieden JOKA Matchday-Plus 2er Texas-Scramble Tagesturnier
DESCRIPTION:
URL:https://www.joka.golf/event/golfclub-gut-rieden-joka-matchday-plus-2er-texas-scramble-tagesturnier/
LOCATION:Golfclub Gut Rieden\, Gut Rieden\, Starnberg\, 82319\, Deutschland
CATEGORIES:Turniere,Turnierkalender
ATTACH;FMTTYPE=image/jpeg:https://www.joka.golf/wp-content/uploads/GC-Gut-Rieden-2.jpg
ORGANIZER;CN="Golf Emotion":MAILTO:info@golf-emotion.eu
END:VEVENT
BEGIN:VEVENT
DTSTART;VALUE=DATE:20260418
DTEND;VALUE=DATE:20260419
DTSTAMP:20260421T225130
CREATED:20240206T230000Z
LAST-MODIFIED:20251216T080846Z
UID:10001054-1776470400-1776556799@www.joka.golf
SUMMARY:Golfclub Erfurt JOKA Matchday-Plus 2er Texas-Scramble Tagesturnier
DESCRIPTION:
URL:https://www.joka.golf/event/golfclub-erfurt-joka-matchday-plus-2er-texas-scramble-tagesturnier/
LOCATION:Golfclub Erfurt\, Im Schaderoder Grund\, Erfurt-Schaderode\, 99090\, Deutschland
CATEGORIES:Turniere,Turnierkalender
ATTACH;FMTTYPE=image/jpeg:https://www.joka.golf/wp-content/uploads/GC-Erfurt-3.jpg
ORGANIZER;CN="Golf Emotion":MAILTO:info@golf-emotion.eu
END:VEVENT
BEGIN:VEVENT
DTSTART;VALUE=DATE:20260418
DTEND;VALUE=DATE:20260419
DTSTAMP:20260421T225130
CREATED:20240206T230000Z
LAST-MODIFIED:20260116T164611Z
UID:10000909-1776470400-1776556799@www.joka.golf
SUMMARY:Golfpark Leipzig JOKA Matchday-Plus 2er Texas-Scramble Tagesturnier
DESCRIPTION:
URL:https://www.joka.golf/event/golfpark-leipzig-joka-matchday-plus-2er-texas-scramble-tagesturnier/
LOCATION:Golfpark Leipzig\, Bergweg 10\, Leipzig\, 04356\, Deutschland
CATEGORIES:Turniere,Turnierkalender
ATTACH;FMTTYPE=image/jpeg:https://www.joka.golf/wp-content/uploads/Golfpark-Leipzig.jpg
ORGANIZER;CN="Golf Emotion":MAILTO:info@golf-emotion.eu
END:VEVENT
BEGIN:VEVENT
DTSTART;VALUE=DATE:20260417
DTEND;VALUE=DATE:20260418
DTSTAMP:20260421T225130
CREATED:20260120T152038Z
LAST-MODIFIED:20260120T152039Z
UID:10001888-1776384000-1776470399@www.joka.golf
SUMMARY:Golfclub Leinetal-Einbeck JOKA After-Work Trophy
DESCRIPTION:
URL:https://www.joka.golf/event/golfclub-leinetal-einbeck-joka-after-work-trophy-2/2026-04-17/
LOCATION:Golfclub Leinetal-Einbeck\, Am Holzgrund\, Einbeck\, 37574\, Deutschland
CATEGORIES:Turniere,Turnierkalender
ATTACH;FMTTYPE=image/jpeg:https://www.joka.golf/wp-content/uploads/GC-Einbeck-1.jpg
ORGANIZER;CN="Golf Emotion":MAILTO:info@golf-emotion.eu
END:VEVENT
BEGIN:VEVENT
DTSTART;VALUE=DATE:20260417
DTEND;VALUE=DATE:20260418
DTSTAMP:20260421T225130
CREATED:20260108T073116Z
LAST-MODIFIED:20260108T073117Z
UID:10001803-1776384000-1776470399@www.joka.golf
SUMMARY:Golfclub Burgwedel JOKA After-Work Trophy
DESCRIPTION:
URL:https://www.joka.golf/event/golfclub-burgwedel-joka-after-work-trophy/2026-04-17/
LOCATION:Golfclub Burgwedel\, Wettmarerstr. 13\, Burgwedel\, 30938\, Deutschland
CATEGORIES:Turniere,Turnierkalender
ATTACH;FMTTYPE=image/jpeg:https://www.joka.golf/wp-content/uploads/GC-Burgwedel-4.jpg
ORGANIZER;CN="Golf Emotion":MAILTO:info@golf-emotion.eu
END:VEVENT
BEGIN:VEVENT
DTSTART;VALUE=DATE:20260417
DTEND;VALUE=DATE:20260418
DTSTAMP:20260421T225130
CREATED:20260107T051648Z
LAST-MODIFIED:20260107T051649Z
UID:10001745-1776384000-1776470399@www.joka.golf
SUMMARY:Golfclub Emstal JOKA After-Work Trophy
DESCRIPTION:
URL:https://www.joka.golf/event/golfclub-emstal-joka-after-work-trophy-3/2026-04-17/
LOCATION:Golfclub Emstal
CATEGORIES:Turniere,Turnierkalender
ATTACH;FMTTYPE=image/jpeg:https://www.joka.golf/wp-content/uploads/GC-Emstal-3.jpg
ORGANIZER;CN="Golf Emotion":MAILTO:info@golf-emotion.eu
END:VEVENT
BEGIN:VEVENT
DTSTART;VALUE=DATE:20260417
DTEND;VALUE=DATE:20260418
DTSTAMP:20260421T225130
CREATED:20260106T124024Z
LAST-MODIFIED:20260106T124025Z
UID:10001732-1776384000-1776470399@www.joka.golf
SUMMARY:Golfclub Bad Pyrmont JOKA After Work Trophy
DESCRIPTION:
URL:https://www.joka.golf/event/golfclub-bad-pyrmont-joka-after-work-trophy/2026-04-17/
LOCATION:Golfclub Bad Pyrmont\, Am Golfplatz 2\, Lügde\, 32676\, Deutschland
CATEGORIES:Turniere,Turnierkalender
ATTACH;FMTTYPE=image/jpeg:https://www.joka.golf/wp-content/uploads/GC-Bad-Pyrmont-2.jpg
ORGANIZER;CN="Golf Emotion":MAILTO:info@golf-emotion.eu
END:VEVENT
BEGIN:VEVENT
DTSTART;VALUE=DATE:20260417
DTEND;VALUE=DATE:20260418
DTSTAMP:20260421T225130
CREATED:20251216T124357Z
LAST-MODIFIED:20251216T124358Z
UID:10001579-1776384000-1776470399@www.joka.golf
SUMMARY:Golfclub Zum Fischland JOKA After-Work Trophy
DESCRIPTION:
URL:https://www.joka.golf/event/golfclub-zum-fischland-joka-after-work-trophy/2026-04-17/
LOCATION:Golfclub Zum Fischland\, Pappelalle 23a\, Ribnitz-Damgarten\, 18311\, Deutschland
CATEGORIES:Turniere,Turnierkalender
ATTACH;FMTTYPE=image/jpeg:https://www.joka.golf/wp-content/uploads/GC-Zum-Fischland.jpg
ORGANIZER;CN="Golf Emotion":MAILTO:info@golf-emotion.eu
END:VEVENT
BEGIN:VEVENT
DTSTART;VALUE=DATE:20260417
DTEND;VALUE=DATE:20260418
DTSTAMP:20260421T225130
CREATED:20250130T105616Z
LAST-MODIFIED:20260116T170647Z
UID:10001876-1776384000-1776470399@www.joka.golf
SUMMARY:Golfclub Rehburg-Loccum JOKA After-Work Trophy
DESCRIPTION:
URL:https://www.joka.golf/event/golfclub-rehburg-loccum-joka-after-work-trophy-3/2026-04-17/
LOCATION:Golfclub Rehburg-Loccum\, Hormannshausen 2a\, Rehburg-Loccum\, 31547\, Deutschland
CATEGORIES:Turniere,Turnierkalender
ATTACH;FMTTYPE=image/jpeg:https://www.joka.golf/wp-content/uploads/GC-Rehburg-Loccum-4.jpg
ORGANIZER;CN="Golf Emotion":MAILTO:info@golf-emotion.eu
END:VEVENT
BEGIN:VEVENT
DTSTART;VALUE=DATE:20260417
DTEND;VALUE=DATE:20260418
DTSTAMP:20260421T225130
CREATED:20240206T230000Z
LAST-MODIFIED:20251221T065545Z
UID:10001717-1776384000-1776470399@www.joka.golf
SUMMARY:Golfclub Burg Konradsheim JOKA After-Work Trophy
DESCRIPTION:
URL:https://www.joka.golf/event/golfclub-burg-konradsheim-joka-after-work-trophy-3/2026-04-17/
LOCATION:Golfclub Burg Konradsheim\, Am Golfplatz 1\, Erftstadt\, 50374\, Deutschland
CATEGORIES:Turniere,Turnierkalender
ATTACH;FMTTYPE=image/jpeg:https://www.joka.golf/wp-content/uploads/GC-Burg-Konradsheim.jpg
ORGANIZER;CN="Golf Emotion":MAILTO:info@golf-emotion.eu
END:VEVENT
BEGIN:VEVENT
DTSTART;VALUE=DATE:20260416
DTEND;VALUE=DATE:20260417
DTSTAMP:20260421T225130
CREATED:20260109T153259Z
LAST-MODIFIED:20260109T153259Z
UID:10001841-1776297600-1776383999@www.joka.golf
SUMMARY:Golfclub Salzgitter JOKA After-Work Trophy
DESCRIPTION:
URL:https://www.joka.golf/event/golfclub-salzgitter-joka-after-work-trophy-2/2026-04-16/
LOCATION:Golfclub Salzgitter\, Mahner Berg\, Salzgitter\, 38259\, Deutschland
CATEGORIES:Turniere,Turnierkalender
ATTACH;FMTTYPE=image/jpeg:https://www.joka.golf/wp-content/uploads/GC-Salzgitter-3.jpg
ORGANIZER;CN="Golf Emotion":MAILTO:info@golf-emotion.eu
END:VEVENT
BEGIN:VEVENT
DTSTART;VALUE=DATE:20260415
DTEND;VALUE=DATE:20260416
DTSTAMP:20260421T225130
CREATED:20251216T131038Z
LAST-MODIFIED:20251216T131038Z
UID:10001616-1776211200-1776297599@www.joka.golf
SUMMARY:Golfclub Munster JOKA After-Work Trophy
DESCRIPTION:
URL:https://www.joka.golf/event/golfclub-munster-joka-after-work-trophy/2026-04-15/
LOCATION:Golfclub Munster\, Kohlenbissen\, Munster\, 29633\, Germany
CATEGORIES:Turniere,Turnierkalender
ATTACH;FMTTYPE=image/jpeg:https://www.joka.golf/wp-content/uploads/GC-Munster-2.jpg
ORGANIZER;CN="Golf Emotion":MAILTO:info@golf-emotion.eu
END:VEVENT
BEGIN:VEVENT
DTSTART;VALUE=DATE:20260415
DTEND;VALUE=DATE:20260416
DTSTAMP:20260421T225130
CREATED:20240206T230000Z
LAST-MODIFIED:20251224T053508Z
UID:10001043-1776211200-1776297599@www.joka.golf
SUMMARY:Golfclub Nümbrecht JOKA After-Work Trophy
DESCRIPTION:
URL:https://www.joka.golf/event/golfclub-nuembrecht-joka-after-work-trophy-2/
LOCATION:Golfclub Nümbrecht\, Höhenstr.40\, Nümbrecht\, 51588\, Deutschland
CATEGORIES:Turniere,Turnierkalender
ATTACH;FMTTYPE=image/jpeg:https://www.joka.golf/wp-content/uploads/GC-Nuembrecht-Neu.jpg
ORGANIZER;CN="Golf Emotion":MAILTO:info@golf-emotion.eu
END:VEVENT
BEGIN:VEVENT
DTSTART;VALUE=DATE:20260414
DTEND;VALUE=DATE:20260415
DTSTAMP:20260421T225130
CREATED:20251216T125957Z
LAST-MODIFIED:20251216T125957Z
UID:10001609-1776124800-1776211199@www.joka.golf
SUMMARY:Hamelner Golfclub JOKA After-Work Trophy
DESCRIPTION:
URL:https://www.joka.golf/event/hamelner-golfclub-joka-after-work-trophy/2026-04-14/
LOCATION:Hamelner Golfclub\, Schwöbber 8\, Aerzen\, 31855\, Deutschland
CATEGORIES:Turniere,Turnierkalender
ATTACH;FMTTYPE=image/jpeg:https://www.joka.golf/wp-content/uploads/GC-Hameln-1.jpg
ORGANIZER;CN="Golf Emotion":MAILTO:info@golf-emotion.eu
END:VEVENT
BEGIN:VEVENT
DTSTART;VALUE=DATE:20260414
DTEND;VALUE=DATE:20260415
DTSTAMP:20260421T225130
CREATED:20240206T230000Z
LAST-MODIFIED:20251216T130309Z
UID:10001612-1776124800-1776211199@www.joka.golf
SUMMARY:Köln Golf JOKA After-Work Trophy
DESCRIPTION:
URL:https://www.joka.golf/event/koeln-golf-joka-after-work-trophy-2/2026-04-14/
LOCATION:KölnGolf\, Parallelweg 1\, Köln\, 50769\, Deutschland
CATEGORIES:Turniere,Turnierkalender
ATTACH;FMTTYPE=image/jpeg:https://www.joka.golf/wp-content/uploads/GC-KoelnGolf.jpg
ORGANIZER;CN="Golf Emotion":MAILTO:info@golf-emotion.eu
END:VEVENT
BEGIN:VEVENT
DTSTART;VALUE=DATE:20260413
DTEND;VALUE=DATE:20260414
DTSTAMP:20260421T225130
CREATED:20251217T072456Z
LAST-MODIFIED:20251217T072456Z
UID:10001709-1776038400-1776124799@www.joka.golf
SUMMARY:Golfclub Erding-Grünbach JOKA After-Work Trophy
DESCRIPTION:
URL:https://www.joka.golf/event/golfclub-erding-gruenbach-joka-after-work-trophy/2026-04-13/
LOCATION:Golfclub Erding-Grünbach\, Kellerberg 13\, Grünbach\, 85461\, Germany
CATEGORIES:Turniere,Turnierkalender
ATTACH;FMTTYPE=image/jpeg:https://www.joka.golf/wp-content/uploads/GC-Erding-Gruenbach.jpg
ORGANIZER;CN="Golf Emotion":MAILTO:info@golf-emotion.eu
END:VEVENT
BEGIN:VEVENT
DTSTART;VALUE=DATE:20260413
DTEND;VALUE=DATE:20260414
DTSTAMP:20260421T225131
CREATED:20251216T125224Z
LAST-MODIFIED:20251216T125224Z
UID:10001603-1776038400-1776124799@www.joka.golf
SUMMARY:Golfclub Gudensberg JOKA After-Work Trophy
DESCRIPTION:
URL:https://www.joka.golf/event/golfclub-gudensberg-joka-after-work-trophy/2026-04-13/
LOCATION:Golfpark Gudensberg\, Gudensberg\, Kassel\, 34281\, Germany
CATEGORIES:Turniere,Turnierkalender
ATTACH;FMTTYPE=image/jpeg:https://www.joka.golf/wp-content/uploads/GC-Gudensberg-1.jpeg
ORGANIZER;CN="Golf Emotion":MAILTO:info@golf-emotion.eu
GEO:51.178114;9.3642206
END:VEVENT
BEGIN:VEVENT
DTSTART;VALUE=DATE:20260412
DTEND;VALUE=DATE:20260413
DTSTAMP:20260421T225131
CREATED:20260204T132900Z
LAST-MODIFIED:20260204T132900Z
UID:10001965-1775952000-1776038399@www.joka.golf
SUMMARY:Golfclub Schwanhof JOKA After-Work Trophy
DESCRIPTION:
URL:https://www.joka.golf/event/golfclub-schwanhof-joka-after-work-trophy/
LOCATION:Golfclub Schwanhof\, Klaus-Conrad-Allee 1\, Luhe-Wildenau\, 92706\, Deutschland
CATEGORIES:Turniere,Turnierkalender
ATTACH;FMTTYPE=image/jpeg:https://www.joka.golf/wp-content/uploads/GC-Schwanhof-2.jpg
ORGANIZER;CN="Golf Emotion":MAILTO:info@golf-emotion.eu
END:VEVENT
BEGIN:VEVENT
DTSTART;VALUE=DATE:20260412
DTEND;VALUE=DATE:20260413
DTSTAMP:20260421T225131
CREATED:20240206T230000Z
LAST-MODIFIED:20260120T151146Z
UID:10001349-1775952000-1776038399@www.joka.golf
SUMMARY:Golfclub Leinetal-Einbeck JOKA Matchday-Plus Tagesturnier
DESCRIPTION:
URL:https://www.joka.golf/event/golfclub-leinetal-einbeck-joka-matchday-plus-tagesturnier/
LOCATION:Golfclub Leinetal-Einbeck\, Am Holzgrund\, Einbeck\, 37574\, Deutschland
CATEGORIES:Turniere,Turnierkalender
ATTACH;FMTTYPE=image/jpeg:https://www.joka.golf/wp-content/uploads/GC-Leinetal-Einbeck-1.jpg
ORGANIZER;CN="Golf Emotion":MAILTO:info@golf-emotion.eu
END:VEVENT
BEGIN:VEVENT
DTSTART;VALUE=DATE:20260412
DTEND;VALUE=DATE:20260413
DTSTAMP:20260421T225131
CREATED:20240206T230000Z
LAST-MODIFIED:20251216T080248Z
UID:10000944-1775952000-1776038399@www.joka.golf
SUMMARY:Golfclub Kitzingen JOKA Matchday-Plus 2er Texas-Scramble Tagesturnier
DESCRIPTION:
URL:https://www.joka.golf/event/golfclub-kitzingen-joka-matchday-plus-2er-texas-scramble-tagesturnier/
LOCATION:Golfclub Kitzingen\, Lailachweg 1\, Kitzingen\, 97318\, Deutschland
CATEGORIES:Turniere,Turnierkalender
ATTACH;FMTTYPE=image/jpeg:https://www.joka.golf/wp-content/uploads/GC-Kitzingen-2.jpg
ORGANIZER;CN="Golf Emotion":MAILTO:info@golf-emotion.eu
END:VEVENT
BEGIN:VEVENT
DTSTART;VALUE=DATE:20260412
DTEND;VALUE=DATE:20260413
DTSTAMP:20260421T225131
CREATED:20240206T230000Z
LAST-MODIFIED:20251216T080447Z
UID:10001519-1775952000-1776038399@www.joka.golf
SUMMARY:Golfclub Wittgensteiner Land JOKA 2er Texas-Scramble Tagesturnier
DESCRIPTION:
URL:https://www.joka.golf/event/golfclub-wittgensteiner-land-joka-2er-texas-scramble-tagesturnier/
LOCATION:Golfclub Wittgensteiner Land\, Kappelenstr.10\, Bad Berleburg\, 57319\, Deutschland
CATEGORIES:Turniere,Turnierkalender
ATTACH;FMTTYPE=image/jpeg:https://www.joka.golf/wp-content/uploads/GC-Wittgensteiner-Land-2.jpg
ORGANIZER;CN="Golf Emotion":MAILTO:info@golf-emotion.eu
END:VEVENT
BEGIN:VEVENT
DTSTART;VALUE=DATE:20260411
DTEND;VALUE=DATE:20260412
DTSTAMP:20260421T225131
CREATED:20260207T175554Z
LAST-MODIFIED:20260207T175554Z
UID:10001974-1775865600-1775951999@www.joka.golf
SUMMARY:Golfclub Hassberge JOKA 2er Texas-Scramble Tagesturnier
DESCRIPTION:
URL:https://www.joka.golf/event/golfclub-hassberge-joka-2er-texas-scramble-tagesturnier/
LOCATION:Golfclub Haßberge\, Hainach-Neue Laube 1\, Ebelsbach\, Unterfranken\, 97500\, Germany
CATEGORIES:Turniere,Turnierkalender
ATTACH;FMTTYPE=image/jpeg:https://www.joka.golf/wp-content/uploads/GC-Hassberge.jpeg
ORGANIZER;CN="Golf Emotion":MAILTO:info@golf-emotion.eu
GEO:49.9971958;10.6518359
X-APPLE-STRUCTURED-LOCATION;VALUE=URI;X-ADDRESS=Golfclub Haßberge Hainach-Neue Laube 1 Ebelsbach Unterfranken 97500 Germany;X-APPLE-RADIUS=500;X-TITLE=Hainach-Neue Laube 1:geo:10.6518359,49.9971958
END:VEVENT
BEGIN:VEVENT
DTSTART;VALUE=DATE:20260411
DTEND;VALUE=DATE:20260412
DTSTAMP:20260421T225131
CREATED:20240206T230000Z
LAST-MODIFIED:20260202T132908Z
UID:10001420-1775865600-1775951999@www.joka.golf
SUMMARY:Golfclub Siegerland JOKA After-Work Trophy
DESCRIPTION:
URL:https://www.joka.golf/event/golfclub-siegerland-joka-after-work-trophy/
LOCATION:Golfclub Siegerland\, Berghäuserweg\, Kreuztal\, 57223\, Deutschland
CATEGORIES:Turniere,Turnierkalender
ATTACH;FMTTYPE=image/jpeg:https://www.joka.golf/wp-content/uploads/GC-Siegerland-2.jpg
ORGANIZER;CN="Golf Emotion":MAILTO:info@golf-emotion.eu
END:VEVENT
BEGIN:VEVENT
DTSTART;VALUE=DATE:20260410
DTEND;VALUE=DATE:20260411
DTSTAMP:20260421T225131
CREATED:20251216T124357Z
LAST-MODIFIED:20251216T124358Z
UID:10001578-1775779200-1775865599@www.joka.golf
SUMMARY:Golfclub Zum Fischland JOKA After-Work Trophy
DESCRIPTION:
URL:https://www.joka.golf/event/golfclub-zum-fischland-joka-after-work-trophy/2026-04-10/
LOCATION:Golfclub Zum Fischland\, Pappelalle 23a\, Ribnitz-Damgarten\, 18311\, Deutschland
CATEGORIES:Turniere,Turnierkalender
ATTACH;FMTTYPE=image/jpeg:https://www.joka.golf/wp-content/uploads/GC-Zum-Fischland.jpg
ORGANIZER;CN="Golf Emotion":MAILTO:info@golf-emotion.eu
END:VEVENT
BEGIN:VEVENT
DTSTART;VALUE=DATE:20260410
DTEND;VALUE=DATE:20260411
DTSTAMP:20260421T225131
CREATED:20240206T230000Z
LAST-MODIFIED:20260108T060700Z
UID:10001388-1775779200-1775865599@www.joka.golf
SUMMARY:Golfclub Bad Wildungen JOKA After-Work Trophy
DESCRIPTION:
URL:https://www.joka.golf/event/golfclub-bad-wildungen-joka-after-work-trophy/
LOCATION:Golfclub Bad Wildungen\, Talquellenweg 33\, Bad Wildungen\, 34537\, Deutschland
CATEGORIES:Turniere,Turnierkalender
ATTACH;FMTTYPE=image/jpeg:https://www.joka.golf/wp-content/uploads/GC-Bad-Wildungen.jpg
ORGANIZER;CN="Golf Emotion":MAILTO:info@golf-emotion.eu
END:VEVENT
END:VCALENDAR