BEGIN:VCALENDAR
VERSION:2.0
PRODID:-//JOKA Rules Tournament Series - ECPv6.15.11//NONSGML v1.0//EN
CALSCALE:GREGORIAN
METHOD:PUBLISH
X-WR-CALNAME:JOKA Rules Tournament Series
X-ORIGINAL-URL:https://www.joka.golf
X-WR-CALDESC:Veranstaltungen für JOKA Rules Tournament Series
REFRESH-INTERVAL;VALUE=DURATION:PT1H
X-Robots-Tag:noindex
X-PUBLISHED-TTL:PT1H
BEGIN:VTIMEZONE
TZID:Europe/Berlin
BEGIN:DAYLIGHT
TZOFFSETFROM:+0100
TZOFFSETTO:+0200
TZNAME:CEST
DTSTART:20250330T010000
END:DAYLIGHT
BEGIN:STANDARD
TZOFFSETFROM:+0200
TZOFFSETTO:+0100
TZNAME:CET
DTSTART:20251026T010000
END:STANDARD
BEGIN:DAYLIGHT
TZOFFSETFROM:+0100
TZOFFSETTO:+0200
TZNAME:CEST
DTSTART:20260329T010000
END:DAYLIGHT
BEGIN:STANDARD
TZOFFSETFROM:+0200
TZOFFSETTO:+0100
TZNAME:CET
DTSTART:20261025T010000
END:STANDARD
BEGIN:DAYLIGHT
TZOFFSETFROM:+0100
TZOFFSETTO:+0200
TZNAME:CEST
DTSTART:20270328T010000
END:DAYLIGHT
BEGIN:STANDARD
TZOFFSETFROM:+0200
TZOFFSETTO:+0100
TZNAME:CET
DTSTART:20271031T010000
END:STANDARD
END:VTIMEZONE
BEGIN:VEVENT
DTSTART;VALUE=DATE:20260528
DTEND;VALUE=DATE:20260529
DTSTAMP:20260419T224738
CREATED:20260207T055308Z
LAST-MODIFIED:20260207T055308Z
UID:10001968-1779926400-1780012799@www.joka.golf
SUMMARY:Golf am Haus Amecke JOKA After-Work Trophy
DESCRIPTION:
URL:https://www.joka.golf/event/golf-am-haus-amecke-joka-after-work-trophy/2026-05-28/
LOCATION:Golf am Haus Amecke\, Haus Amecke\, Sundern\, 59846\, Deutschland
CATEGORIES:Turniere,Turnierkalender
ATTACH;FMTTYPE=image/jpeg:https://www.joka.golf/wp-content/uploads/GC-Amecke-1.jpeg
ORGANIZER;CN="Golf Emotion":MAILTO:info@golf-emotion.eu
END:VEVENT
BEGIN:VEVENT
DTSTART;VALUE=DATE:20260618
DTEND;VALUE=DATE:20260619
DTSTAMP:20260419T224738
CREATED:20260207T055308Z
LAST-MODIFIED:20260207T055308Z
UID:10001969-1781740800-1781827199@www.joka.golf
SUMMARY:Golf am Haus Amecke JOKA After-Work Trophy
DESCRIPTION:
URL:https://www.joka.golf/event/golf-am-haus-amecke-joka-after-work-trophy/2026-06-18/
LOCATION:Golf am Haus Amecke\, Haus Amecke\, Sundern\, 59846\, Deutschland
CATEGORIES:Turniere,Turnierkalender
ATTACH;FMTTYPE=image/jpeg:https://www.joka.golf/wp-content/uploads/GC-Amecke-1.jpeg
ORGANIZER;CN="Golf Emotion":MAILTO:info@golf-emotion.eu
END:VEVENT
BEGIN:VEVENT
DTSTART;VALUE=DATE:20260702
DTEND;VALUE=DATE:20260703
DTSTAMP:20260419T224738
CREATED:20260207T055500Z
LAST-MODIFIED:20260207T055501Z
UID:10001970-1782950400-1783036799@www.joka.golf
SUMMARY:Golf am Haus Amecke JOKA After-Work Trophy
DESCRIPTION:
URL:https://www.joka.golf/event/golf-am-haus-amecke-joka-after-work-trophy-2/2026-07-02/
LOCATION:Golf am Haus Amecke\, Haus Amecke\, Sundern\, 59846\, Deutschland
CATEGORIES:Turniere,Turnierkalender
ATTACH;FMTTYPE=image/jpeg:https://www.joka.golf/wp-content/uploads/GC-Amecke-1.jpeg
ORGANIZER;CN="Golf Emotion":MAILTO:info@golf-emotion.eu
END:VEVENT
BEGIN:VEVENT
DTSTART;VALUE=DATE:20260723
DTEND;VALUE=DATE:20260724
DTSTAMP:20260419T224738
CREATED:20260207T055500Z
LAST-MODIFIED:20260207T055501Z
UID:10001971-1784764800-1784851199@www.joka.golf
SUMMARY:Golf am Haus Amecke JOKA After-Work Trophy
DESCRIPTION:
URL:https://www.joka.golf/event/golf-am-haus-amecke-joka-after-work-trophy-2/2026-07-23/
LOCATION:Golf am Haus Amecke\, Haus Amecke\, Sundern\, 59846\, Deutschland
CATEGORIES:Turniere,Turnierkalender
ATTACH;FMTTYPE=image/jpeg:https://www.joka.golf/wp-content/uploads/GC-Amecke-1.jpeg
ORGANIZER;CN="Golf Emotion":MAILTO:info@golf-emotion.eu
END:VEVENT
BEGIN:VEVENT
DTSTART;VALUE=DATE:20260806
DTEND;VALUE=DATE:20260807
DTSTAMP:20260419T224738
CREATED:20260207T055652Z
LAST-MODIFIED:20260207T055653Z
UID:10001972-1785974400-1786060799@www.joka.golf
SUMMARY:Golf am Haus Amecke JOKA After-Work Trophy
DESCRIPTION:
URL:https://www.joka.golf/event/golf-am-haus-amecke-joka-after-work-trophy-3/2026-08-06/
LOCATION:Golf am Haus Amecke\, Haus Amecke\, Sundern\, 59846\, Deutschland
CATEGORIES:Turniere,Turnierkalender
ATTACH;FMTTYPE=image/jpeg:https://www.joka.golf/wp-content/uploads/GC-Amecke-1.jpeg
ORGANIZER;CN="Golf Emotion":MAILTO:info@golf-emotion.eu
END:VEVENT
BEGIN:VEVENT
DTSTART;VALUE=DATE:20260820
DTEND;VALUE=DATE:20260821
DTSTAMP:20260419T224738
CREATED:20260207T055652Z
LAST-MODIFIED:20260207T055653Z
UID:10001973-1787184000-1787270399@www.joka.golf
SUMMARY:Golf am Haus Amecke JOKA After-Work Trophy
DESCRIPTION:
URL:https://www.joka.golf/event/golf-am-haus-amecke-joka-after-work-trophy-3/2026-08-20/
LOCATION:Golf am Haus Amecke\, Haus Amecke\, Sundern\, 59846\, Deutschland
CATEGORIES:Turniere,Turnierkalender
ATTACH;FMTTYPE=image/jpeg:https://www.joka.golf/wp-content/uploads/GC-Amecke-1.jpeg
ORGANIZER;CN="Golf Emotion":MAILTO:info@golf-emotion.eu
END:VEVENT
BEGIN:VEVENT
DTSTART;VALUE=DATE:20260910
DTEND;VALUE=DATE:20260911
DTSTAMP:20260419T224738
CREATED:20240206T230000Z
LAST-MODIFIED:20260207T055100Z
UID:10000730-1788998400-1789084799@www.joka.golf
SUMMARY:Golf am Haus Amecke JOKA After-Work Trophy -Finale-
DESCRIPTION:
URL:https://www.joka.golf/event/golf-am-haus-amecke-joka-after-work-trophy-finale/
LOCATION:Golf am Haus Amecke\, Haus Amecke\, Sundern\, 59846\, Deutschland
CATEGORIES:Turniere,Turnierkalender
ATTACH;FMTTYPE=image/jpeg:https://www.joka.golf/wp-content/uploads/GC-Amecke.jpeg
ORGANIZER;CN="Golf Emotion":MAILTO:info@golf-emotion.eu
END:VEVENT
END:VCALENDAR