BEGIN:VCALENDAR
VERSION:2.0
PRODID:-//JOKA Rules Tournament Series - ECPv6.15.11//NONSGML v1.0//EN
CALSCALE:GREGORIAN
METHOD:PUBLISH
X-ORIGINAL-URL:https://www.joka.golf
X-WR-CALDESC:Veranstaltungen für JOKA Rules Tournament Series
REFRESH-INTERVAL;VALUE=DURATION:PT1H
X-Robots-Tag:noindex
X-PUBLISHED-TTL:PT1H
BEGIN:VTIMEZONE
TZID:Europe/Berlin
BEGIN:DAYLIGHT
TZOFFSETFROM:+0100
TZOFFSETTO:+0200
TZNAME:CEST
DTSTART:20250330T010000
END:DAYLIGHT
BEGIN:STANDARD
TZOFFSETFROM:+0200
TZOFFSETTO:+0100
TZNAME:CET
DTSTART:20251026T010000
END:STANDARD
BEGIN:DAYLIGHT
TZOFFSETFROM:+0100
TZOFFSETTO:+0200
TZNAME:CEST
DTSTART:20260329T010000
END:DAYLIGHT
BEGIN:STANDARD
TZOFFSETFROM:+0200
TZOFFSETTO:+0100
TZNAME:CET
DTSTART:20261025T010000
END:STANDARD
BEGIN:DAYLIGHT
TZOFFSETFROM:+0100
TZOFFSETTO:+0200
TZNAME:CEST
DTSTART:20270328T010000
END:DAYLIGHT
BEGIN:STANDARD
TZOFFSETFROM:+0200
TZOFFSETTO:+0100
TZNAME:CET
DTSTART:20271031T010000
END:STANDARD
END:VTIMEZONE
BEGIN:VEVENT
DTSTART;VALUE=DATE:20260502
DTEND;VALUE=DATE:20260503
DTSTAMP:20260420T030803
CREATED:20260122T065154Z
LAST-MODIFIED:20260122T065155Z
UID:10001909-1777680000-1777766399@www.joka.golf
SUMMARY:Golfclub Berchtesgaden JOKA Matchday-Plus 2er Texas Scramble Tagesturnier
DESCRIPTION:
URL:https://www.joka.golf/event/golfclub-berchtesgaden-joka-matchday-plus-2er-texas-scramble-tagesturnier/
LOCATION:Golfclub Berchtesgaden\, Salzbergstraße 33\, Berchtesgaden\, 83471\, Germany
CATEGORIES:Turniere,Turnierkalender
ATTACH;FMTTYPE=image/jpeg:https://www.joka.golf/wp-content/uploads/GC-Berchtesgaden-2.jpg
ORGANIZER;CN="Golf Emotion":MAILTO:info@golf-emotion.eu
END:VEVENT
BEGIN:VEVENT
DTSTART;VALUE=DATE:20260529
DTEND;VALUE=DATE:20260530
DTSTAMP:20260420T030803
CREATED:20260122T070349Z
LAST-MODIFIED:20260122T070350Z
UID:10001911-1780012800-1780099199@www.joka.golf
SUMMARY:Golfclub Berchtesgaden JOKA After-Work Trophy
DESCRIPTION:
URL:https://www.joka.golf/event/golfclub-berchtesgaden-joka-after-work-trophy/
LOCATION:Golfclub Berchtesgaden\, Salzbergstraße 33\, Berchtesgaden\, 83471\, Germany
CATEGORIES:Turniere,Turnierkalender
ATTACH;FMTTYPE=image/jpeg:https://www.joka.golf/wp-content/uploads/GC-Berchtesgaden-.jpg
ORGANIZER;CN="Golf Emotion":MAILTO:info@golf-emotion.eu
END:VEVENT
BEGIN:VEVENT
DTSTART;VALUE=DATE:20260626
DTEND;VALUE=DATE:20260627
DTSTAMP:20260420T030803
CREATED:20260122T070542Z
LAST-MODIFIED:20260122T070542Z
UID:10001912-1782432000-1782518399@www.joka.golf
SUMMARY:Golfclub Berchtesgaden JOKA After-Work Trophy
DESCRIPTION:
URL:https://www.joka.golf/event/golfclub-berchtesgaden-joka-after-work-trophy-2/
LOCATION:Golfclub Berchtesgaden\, Salzbergstraße 33\, Berchtesgaden\, 83471\, Germany
CATEGORIES:Turniere,Turnierkalender
ATTACH;FMTTYPE=image/jpeg:https://www.joka.golf/wp-content/uploads/GC-Berchtesgaden-.jpg
ORGANIZER;CN="Golf Emotion":MAILTO:info@golf-emotion.eu
END:VEVENT
BEGIN:VEVENT
DTSTART;VALUE=DATE:20260724
DTEND;VALUE=DATE:20260725
DTSTAMP:20260420T030803
CREATED:20260122T070742Z
LAST-MODIFIED:20260122T070742Z
UID:10001913-1784851200-1784937599@www.joka.golf
SUMMARY:Golfclub Berchtesgaden JOKA After-Work Trophy
DESCRIPTION:
URL:https://www.joka.golf/event/golfclub-berchtesgaden-joka-after-work-trophy-3/
LOCATION:Golfclub Berchtesgaden\, Salzbergstraße 33\, Berchtesgaden\, 83471\, Germany
CATEGORIES:Turniere,Turnierkalender
ATTACH;FMTTYPE=image/jpeg:https://www.joka.golf/wp-content/uploads/GC-Berchtesgaden-.jpg
ORGANIZER;CN="Golf Emotion":MAILTO:info@golf-emotion.eu
END:VEVENT
BEGIN:VEVENT
DTSTART;VALUE=DATE:20260821
DTEND;VALUE=DATE:20260822
DTSTAMP:20260420T030803
CREATED:20260122T070952Z
LAST-MODIFIED:20260122T070952Z
UID:10001914-1787270400-1787356799@www.joka.golf
SUMMARY:Golfclub Berchtesgaden JOKA After-Work Trophy -Finale-
DESCRIPTION:
URL:https://www.joka.golf/event/golfclub-berchtesgaden-joka-after-work-trophy-finale/
LOCATION:Golfclub Berchtesgaden\, Salzbergstraße 33\, Berchtesgaden\, 83471\, Germany
CATEGORIES:Turniere,Turnierkalender
ATTACH;FMTTYPE=image/jpeg:https://www.joka.golf/wp-content/uploads/GC-Berchtesgaden-.jpg
ORGANIZER;CN="Golf Emotion":MAILTO:info@golf-emotion.eu
END:VEVENT
BEGIN:VEVENT
DTSTART;VALUE=DATE:20260912
DTEND;VALUE=DATE:20260913
DTSTAMP:20260420T030803
CREATED:20260122T065357Z
LAST-MODIFIED:20260122T065357Z
UID:10001910-1789171200-1789257599@www.joka.golf
SUMMARY:Golfclub Berchtesgaden JOKA Matchday-Plus 2er Texas Scramble Tagesturnier
DESCRIPTION:
URL:https://www.joka.golf/event/golfclub-berchtesgaden-joka-matchday-plus-2er-texas-scramble-tagesturnier-2/
LOCATION:Golfclub Berchtesgaden\, Salzbergstraße 33\, Berchtesgaden\, 83471\, Germany
CATEGORIES:Turniere,Turnierkalender
ATTACH;FMTTYPE=image/jpeg:https://www.joka.golf/wp-content/uploads/GC-Berchtesgaden-2.jpg
ORGANIZER;CN="Golf Emotion":MAILTO:info@golf-emotion.eu
END:VEVENT
END:VCALENDAR