BEGIN:VCALENDAR
VERSION:2.0
PRODID:-//JOKA Rules Tournament Series - ECPv6.15.11//NONSGML v1.0//EN
CALSCALE:GREGORIAN
METHOD:PUBLISH
X-WR-CALNAME:JOKA Rules Tournament Series
X-ORIGINAL-URL:https://www.joka.golf
X-WR-CALDESC:Veranstaltungen für JOKA Rules Tournament Series
REFRESH-INTERVAL;VALUE=DURATION:PT1H
X-Robots-Tag:noindex
X-PUBLISHED-TTL:PT1H
BEGIN:VTIMEZONE
TZID:Europe/Berlin
BEGIN:DAYLIGHT
TZOFFSETFROM:+0100
TZOFFSETTO:+0200
TZNAME:CEST
DTSTART:20250330T010000
END:DAYLIGHT
BEGIN:STANDARD
TZOFFSETFROM:+0200
TZOFFSETTO:+0100
TZNAME:CET
DTSTART:20251026T010000
END:STANDARD
BEGIN:DAYLIGHT
TZOFFSETFROM:+0100
TZOFFSETTO:+0200
TZNAME:CEST
DTSTART:20260329T010000
END:DAYLIGHT
BEGIN:STANDARD
TZOFFSETFROM:+0200
TZOFFSETTO:+0100
TZNAME:CET
DTSTART:20261025T010000
END:STANDARD
BEGIN:DAYLIGHT
TZOFFSETFROM:+0100
TZOFFSETTO:+0200
TZNAME:CEST
DTSTART:20270328T010000
END:DAYLIGHT
BEGIN:STANDARD
TZOFFSETFROM:+0200
TZOFFSETTO:+0100
TZNAME:CET
DTSTART:20271031T010000
END:STANDARD
END:VTIMEZONE
BEGIN:VEVENT
DTSTART;VALUE=DATE:20260507
DTEND;VALUE=DATE:20260508
DTSTAMP:20260419T190846
CREATED:20260108T104106Z
LAST-MODIFIED:20260108T104106Z
UID:10001814-1778112000-1778198399@www.joka.golf
SUMMARY:Golfclub Curau JOKA After-Work Trophy
DESCRIPTION:
URL:https://www.joka.golf/event/golfclub-curau-joka-after-work-trophy/2026-05-07/
LOCATION:Golfclub Curau\, Malkendorferweg 18\, Stockelsdorf\, 23617\, Deutschland
CATEGORIES:Turniere,Turnierkalender
ATTACH;FMTTYPE=image/jpeg:https://www.joka.golf/wp-content/uploads/GC-Curau-2.jpeg
ORGANIZER;CN="Golf Emotion":MAILTO:info@golf-emotion.eu
END:VEVENT
BEGIN:VEVENT
DTSTART;VALUE=DATE:20260528
DTEND;VALUE=DATE:20260529
DTSTAMP:20260419T190846
CREATED:20260108T104106Z
LAST-MODIFIED:20260108T104106Z
UID:10001815-1779926400-1780012799@www.joka.golf
SUMMARY:Golfclub Curau JOKA After-Work Trophy
DESCRIPTION:
URL:https://www.joka.golf/event/golfclub-curau-joka-after-work-trophy/2026-05-28/
LOCATION:Golfclub Curau\, Malkendorferweg 18\, Stockelsdorf\, 23617\, Deutschland
CATEGORIES:Turniere,Turnierkalender
ATTACH;FMTTYPE=image/jpeg:https://www.joka.golf/wp-content/uploads/GC-Curau-2.jpeg
ORGANIZER;CN="Golf Emotion":MAILTO:info@golf-emotion.eu
END:VEVENT
BEGIN:VEVENT
DTSTART;VALUE=DATE:20260611
DTEND;VALUE=DATE:20260612
DTSTAMP:20260419T190846
CREATED:20260108T104323Z
LAST-MODIFIED:20260108T104323Z
UID:10001816-1781136000-1781222399@www.joka.golf
SUMMARY:Golfclub Curau JOKA After-Work Trophy
DESCRIPTION:
URL:https://www.joka.golf/event/golfclub-curau-joka-after-work-trophy-2/2026-06-11/
LOCATION:Golfclub Curau\, Malkendorferweg 18\, Stockelsdorf\, 23617\, Deutschland
CATEGORIES:Turniere,Turnierkalender
ATTACH;FMTTYPE=image/jpeg:https://www.joka.golf/wp-content/uploads/GC-Curau-2.jpeg
ORGANIZER;CN="Golf Emotion":MAILTO:info@golf-emotion.eu
END:VEVENT
BEGIN:VEVENT
DTSTART;VALUE=DATE:20260625
DTEND;VALUE=DATE:20260626
DTSTAMP:20260419T190846
CREATED:20260108T104323Z
LAST-MODIFIED:20260108T104323Z
UID:10001817-1782345600-1782431999@www.joka.golf
SUMMARY:Golfclub Curau JOKA After-Work Trophy
DESCRIPTION:
URL:https://www.joka.golf/event/golfclub-curau-joka-after-work-trophy-2/2026-06-25/
LOCATION:Golfclub Curau\, Malkendorferweg 18\, Stockelsdorf\, 23617\, Deutschland
CATEGORIES:Turniere,Turnierkalender
ATTACH;FMTTYPE=image/jpeg:https://www.joka.golf/wp-content/uploads/GC-Curau-2.jpeg
ORGANIZER;CN="Golf Emotion":MAILTO:info@golf-emotion.eu
END:VEVENT
BEGIN:VEVENT
DTSTART;VALUE=DATE:20260709
DTEND;VALUE=DATE:20260710
DTSTAMP:20260419T190846
CREATED:20260108T104323Z
LAST-MODIFIED:20260108T104323Z
UID:10001818-1783555200-1783641599@www.joka.golf
SUMMARY:Golfclub Curau JOKA After-Work Trophy
DESCRIPTION:
URL:https://www.joka.golf/event/golfclub-curau-joka-after-work-trophy-2/2026-07-09/
LOCATION:Golfclub Curau\, Malkendorferweg 18\, Stockelsdorf\, 23617\, Deutschland
CATEGORIES:Turniere,Turnierkalender
ATTACH;FMTTYPE=image/jpeg:https://www.joka.golf/wp-content/uploads/GC-Curau-2.jpeg
ORGANIZER;CN="Golf Emotion":MAILTO:info@golf-emotion.eu
END:VEVENT
BEGIN:VEVENT
DTSTART;VALUE=DATE:20260723
DTEND;VALUE=DATE:20260724
DTSTAMP:20260419T190846
CREATED:20260108T104323Z
LAST-MODIFIED:20260108T104323Z
UID:10001819-1784764800-1784851199@www.joka.golf
SUMMARY:Golfclub Curau JOKA After-Work Trophy
DESCRIPTION:
URL:https://www.joka.golf/event/golfclub-curau-joka-after-work-trophy-2/2026-07-23/
LOCATION:Golfclub Curau\, Malkendorferweg 18\, Stockelsdorf\, 23617\, Deutschland
CATEGORIES:Turniere,Turnierkalender
ATTACH;FMTTYPE=image/jpeg:https://www.joka.golf/wp-content/uploads/GC-Curau-2.jpeg
ORGANIZER;CN="Golf Emotion":MAILTO:info@golf-emotion.eu
END:VEVENT
BEGIN:VEVENT
DTSTART;VALUE=DATE:20260806
DTEND;VALUE=DATE:20260807
DTSTAMP:20260419T190846
CREATED:20260108T104323Z
LAST-MODIFIED:20260108T104323Z
UID:10001820-1785974400-1786060799@www.joka.golf
SUMMARY:Golfclub Curau JOKA After-Work Trophy
DESCRIPTION:
URL:https://www.joka.golf/event/golfclub-curau-joka-after-work-trophy-2/2026-08-06/
LOCATION:Golfclub Curau\, Malkendorferweg 18\, Stockelsdorf\, 23617\, Deutschland
CATEGORIES:Turniere,Turnierkalender
ATTACH;FMTTYPE=image/jpeg:https://www.joka.golf/wp-content/uploads/GC-Curau-2.jpeg
ORGANIZER;CN="Golf Emotion":MAILTO:info@golf-emotion.eu
END:VEVENT
END:VCALENDAR