BEGIN:VCALENDAR
VERSION:2.0
PRODID:-//JOKA Rules Tournament Series - ECPv6.15.11//NONSGML v1.0//EN
CALSCALE:GREGORIAN
METHOD:PUBLISH
X-ORIGINAL-URL:https://www.joka.golf
X-WR-CALDESC:Veranstaltungen für JOKA Rules Tournament Series
REFRESH-INTERVAL;VALUE=DURATION:PT1H
X-Robots-Tag:noindex
X-PUBLISHED-TTL:PT1H
BEGIN:VTIMEZONE
TZID:Europe/Berlin
BEGIN:DAYLIGHT
TZOFFSETFROM:+0100
TZOFFSETTO:+0200
TZNAME:CEST
DTSTART:20250330T010000
END:DAYLIGHT
BEGIN:STANDARD
TZOFFSETFROM:+0200
TZOFFSETTO:+0100
TZNAME:CET
DTSTART:20251026T010000
END:STANDARD
BEGIN:DAYLIGHT
TZOFFSETFROM:+0100
TZOFFSETTO:+0200
TZNAME:CEST
DTSTART:20260329T010000
END:DAYLIGHT
BEGIN:STANDARD
TZOFFSETFROM:+0200
TZOFFSETTO:+0100
TZNAME:CET
DTSTART:20261025T010000
END:STANDARD
BEGIN:DAYLIGHT
TZOFFSETFROM:+0100
TZOFFSETTO:+0200
TZNAME:CEST
DTSTART:20270328T010000
END:DAYLIGHT
BEGIN:STANDARD
TZOFFSETFROM:+0200
TZOFFSETTO:+0100
TZNAME:CET
DTSTART:20271031T010000
END:STANDARD
END:VTIMEZONE
BEGIN:VEVENT
DTSTART;VALUE=DATE:20260424
DTEND;VALUE=DATE:20260425
DTSTAMP:20260420T024904
CREATED:20260203T123003Z
LAST-MODIFIED:20260203T123003Z
UID:10001957-1776988800-1777075199@www.joka.golf
SUMMARY:Golfclub Gifhorn JOKA After-Work Trophy
DESCRIPTION:
URL:https://www.joka.golf/event/golfclub-gifhorn-joka-after-work-trophy/2026-04-24/
LOCATION:Golfclub Gifhorn\, Wilscher Weg\, Gifhorn\, 38518\, Germany
CATEGORIES:Turniere,Turnierkalender
ATTACH;FMTTYPE=image/jpeg:https://www.joka.golf/wp-content/uploads/GC-Gifhorn-2.jpg
ORGANIZER;CN="Golf Emotion":MAILTO:info@golf-emotion.eu
END:VEVENT
BEGIN:VEVENT
DTSTART;VALUE=DATE:20260522
DTEND;VALUE=DATE:20260523
DTSTAMP:20260420T024904
CREATED:20260203T123003Z
LAST-MODIFIED:20260203T123003Z
UID:10001958-1779408000-1779494399@www.joka.golf
SUMMARY:Golfclub Gifhorn JOKA After-Work Trophy
DESCRIPTION:
URL:https://www.joka.golf/event/golfclub-gifhorn-joka-after-work-trophy/2026-05-22/
LOCATION:Golfclub Gifhorn\, Wilscher Weg\, Gifhorn\, 38518\, Germany
CATEGORIES:Turniere,Turnierkalender
ATTACH;FMTTYPE=image/jpeg:https://www.joka.golf/wp-content/uploads/GC-Gifhorn-2.jpg
ORGANIZER;CN="Golf Emotion":MAILTO:info@golf-emotion.eu
END:VEVENT
BEGIN:VEVENT
DTSTART;VALUE=DATE:20260626
DTEND;VALUE=DATE:20260627
DTSTAMP:20260420T024904
CREATED:20260203T123157Z
LAST-MODIFIED:20260203T123157Z
UID:10001959-1782432000-1782518399@www.joka.golf
SUMMARY:Golfclub Gifhorn JOKA After-Work Trophy
DESCRIPTION:
URL:https://www.joka.golf/event/golfclub-gifhorn-joka-after-work-trophy-2/2026-06-26/
LOCATION:Golfclub Gifhorn\, Wilscher Weg\, Gifhorn\, 38518\, Germany
CATEGORIES:Turniere,Turnierkalender
ATTACH;FMTTYPE=image/jpeg:https://www.joka.golf/wp-content/uploads/GC-Gifhorn-2.jpg
ORGANIZER;CN="Golf Emotion":MAILTO:info@golf-emotion.eu
END:VEVENT
BEGIN:VEVENT
DTSTART;VALUE=DATE:20260710
DTEND;VALUE=DATE:20260711
DTSTAMP:20260420T024904
CREATED:20260203T123157Z
LAST-MODIFIED:20260203T123157Z
UID:10001960-1783641600-1783727999@www.joka.golf
SUMMARY:Golfclub Gifhorn JOKA After-Work Trophy
DESCRIPTION:
URL:https://www.joka.golf/event/golfclub-gifhorn-joka-after-work-trophy-2/2026-07-10/
LOCATION:Golfclub Gifhorn\, Wilscher Weg\, Gifhorn\, 38518\, Germany
CATEGORIES:Turniere,Turnierkalender
ATTACH;FMTTYPE=image/jpeg:https://www.joka.golf/wp-content/uploads/GC-Gifhorn-2.jpg
ORGANIZER;CN="Golf Emotion":MAILTO:info@golf-emotion.eu
END:VEVENT
BEGIN:VEVENT
DTSTART;VALUE=DATE:20260821
DTEND;VALUE=DATE:20260822
DTSTAMP:20260420T024904
CREATED:20260203T123321Z
LAST-MODIFIED:20260203T123321Z
UID:10001961-1787270400-1787356799@www.joka.golf
SUMMARY:Golfclub Gifhorn JOKA After-Work Trophy
DESCRIPTION:
URL:https://www.joka.golf/event/golfclub-gifhorn-joka-after-work-trophy-3/
LOCATION:Golfclub Gifhorn\, Wilscher Weg\, Gifhorn\, 38518\, Germany
CATEGORIES:Turniere,Turnierkalender
ATTACH;FMTTYPE=image/jpeg:https://www.joka.golf/wp-content/uploads/GC-Gifhorn-2.jpg
ORGANIZER;CN="Golf Emotion":MAILTO:info@golf-emotion.eu
END:VEVENT
BEGIN:VEVENT
DTSTART;VALUE=DATE:20260911
DTEND;VALUE=DATE:20260912
DTSTAMP:20260420T024904
CREATED:20260203T123504Z
LAST-MODIFIED:20260203T123504Z
UID:10001962-1789084800-1789171199@www.joka.golf
SUMMARY:Golfclub Gifhorn JOKA After-Work Trophy -Finale-
DESCRIPTION:
URL:https://www.joka.golf/event/golfclub-gifhorn-joka-after-work-trophy-finale/
LOCATION:Golfclub Gifhorn\, Wilscher Weg\, Gifhorn\, 38518\, Germany
CATEGORIES:Turniere,Turnierkalender
ATTACH;FMTTYPE=image/jpeg:https://www.joka.golf/wp-content/uploads/GC-Gifhorn-2.jpg
ORGANIZER;CN="Golf Emotion":MAILTO:info@golf-emotion.eu
END:VEVENT
END:VCALENDAR