BEGIN:VCALENDAR
VERSION:2.0
PRODID:-//JOKA Rules Tournament Series - ECPv6.15.11//NONSGML v1.0//EN
CALSCALE:GREGORIAN
METHOD:PUBLISH
X-ORIGINAL-URL:https://www.joka.golf
X-WR-CALDESC:Veranstaltungen für JOKA Rules Tournament Series
REFRESH-INTERVAL;VALUE=DURATION:PT1H
X-Robots-Tag:noindex
X-PUBLISHED-TTL:PT1H
BEGIN:VTIMEZONE
TZID:Europe/Berlin
BEGIN:DAYLIGHT
TZOFFSETFROM:+0100
TZOFFSETTO:+0200
TZNAME:CEST
DTSTART:20250330T010000
END:DAYLIGHT
BEGIN:STANDARD
TZOFFSETFROM:+0200
TZOFFSETTO:+0100
TZNAME:CET
DTSTART:20251026T010000
END:STANDARD
BEGIN:DAYLIGHT
TZOFFSETFROM:+0100
TZOFFSETTO:+0200
TZNAME:CEST
DTSTART:20260329T010000
END:DAYLIGHT
BEGIN:STANDARD
TZOFFSETFROM:+0200
TZOFFSETTO:+0100
TZNAME:CET
DTSTART:20261025T010000
END:STANDARD
BEGIN:DAYLIGHT
TZOFFSETFROM:+0100
TZOFFSETTO:+0200
TZNAME:CEST
DTSTART:20270328T010000
END:DAYLIGHT
BEGIN:STANDARD
TZOFFSETFROM:+0200
TZOFFSETTO:+0100
TZNAME:CET
DTSTART:20271031T010000
END:STANDARD
END:VTIMEZONE
BEGIN:VEVENT
DTSTART;VALUE=DATE:20260508
DTEND;VALUE=DATE:20260509
DTSTAMP:20260422T100022
CREATED:20251224T053801Z
LAST-MODIFIED:20251224T053801Z
UID:10001727-1778198400-1778284799@www.joka.golf
SUMMARY:Golfclub Nümbrecht JOKA After-Work Trophy
DESCRIPTION:
URL:https://www.joka.golf/event/golfclub-nuembrecht-joka-after-work-trophy/2026-05-08/
LOCATION:Golfclub Nümbrecht\, Höhenstr.40\, Nümbrecht\, 51588\, Deutschland
CATEGORIES:Turniere,Turnierkalender
ATTACH;FMTTYPE=image/jpeg:https://www.joka.golf/wp-content/uploads/GC-Nuembrecht-Neu-2.jpg
ORGANIZER;CN="Golf Emotion":MAILTO:info@golf-emotion.eu
END:VEVENT
BEGIN:VEVENT
DTSTART;VALUE=DATE:20260605
DTEND;VALUE=DATE:20260606
DTSTAMP:20260422T100022
CREATED:20251224T053801Z
LAST-MODIFIED:20251224T053801Z
UID:10001728-1780617600-1780703999@www.joka.golf
SUMMARY:Golfclub Nümbrecht JOKA After-Work Trophy
DESCRIPTION:
URL:https://www.joka.golf/event/golfclub-nuembrecht-joka-after-work-trophy/2026-06-05/
LOCATION:Golfclub Nümbrecht\, Höhenstr.40\, Nümbrecht\, 51588\, Deutschland
CATEGORIES:Turniere,Turnierkalender
ATTACH;FMTTYPE=image/jpeg:https://www.joka.golf/wp-content/uploads/GC-Nuembrecht-Neu-2.jpg
ORGANIZER;CN="Golf Emotion":MAILTO:info@golf-emotion.eu
END:VEVENT
BEGIN:VEVENT
DTSTART;VALUE=DATE:20260626
DTEND;VALUE=DATE:20260627
DTSTAMP:20260422T100022
CREATED:20251224T054010Z
LAST-MODIFIED:20251224T054011Z
UID:10001729-1782432000-1782518399@www.joka.golf
SUMMARY:Golfclub Nümbrecht JOKA After-Work Trophy
DESCRIPTION:
URL:https://www.joka.golf/event/golfclub-nuembrecht-joka-after-work-trophy-3/2026-06-26/
LOCATION:Golfclub Nümbrecht\, Höhenstr.40\, Nümbrecht\, 51588\, Deutschland
CATEGORIES:Turniere,Turnierkalender
ATTACH;FMTTYPE=image/jpeg:https://www.joka.golf/wp-content/uploads/GC-Nuembrecht-Neu-2.jpg
ORGANIZER;CN="Golf Emotion":MAILTO:info@golf-emotion.eu
END:VEVENT
BEGIN:VEVENT
DTSTART;VALUE=DATE:20260710
DTEND;VALUE=DATE:20260711
DTSTAMP:20260422T100022
CREATED:20251224T054010Z
LAST-MODIFIED:20251224T054011Z
UID:10001730-1783641600-1783727999@www.joka.golf
SUMMARY:Golfclub Nümbrecht JOKA After-Work Trophy
DESCRIPTION:
URL:https://www.joka.golf/event/golfclub-nuembrecht-joka-after-work-trophy-3/2026-07-10/
LOCATION:Golfclub Nümbrecht\, Höhenstr.40\, Nümbrecht\, 51588\, Deutschland
CATEGORIES:Turniere,Turnierkalender
ATTACH;FMTTYPE=image/jpeg:https://www.joka.golf/wp-content/uploads/GC-Nuembrecht-Neu-2.jpg
ORGANIZER;CN="Golf Emotion":MAILTO:info@golf-emotion.eu
END:VEVENT
BEGIN:VEVENT
DTSTART;VALUE=DATE:20260814
DTEND;VALUE=DATE:20260815
DTSTAMP:20260422T100022
CREATED:20250106T091232Z
LAST-MODIFIED:20251224T053331Z
UID:10001046-1786665600-1786751999@www.joka.golf
SUMMARY:Golfclub Nümbrecht JOKA After-Work Trophy
DESCRIPTION:
URL:https://www.joka.golf/event/golfclub-nuembrecht-joka-after-work-trophy-4/
LOCATION:Golfclub Nümbrecht\, Höhenstr.40\, Nümbrecht\, 51588\, Deutschland
CATEGORIES:Turniere,Turnierkalender
ATTACH;FMTTYPE=image/jpeg:https://www.joka.golf/wp-content/uploads/GC-Nuembrecht-Neu-1.jpg
ORGANIZER;CN="Golf Emotion":MAILTO:info@golf-emotion.eu
END:VEVENT
END:VCALENDAR