BEGIN:VCALENDAR
VERSION:2.0
PRODID:-//JOKA Rules Tournament Series - ECPv6.15.11//NONSGML v1.0//EN
CALSCALE:GREGORIAN
METHOD:PUBLISH
X-ORIGINAL-URL:https://www.joka.golf
X-WR-CALDESC:Veranstaltungen für JOKA Rules Tournament Series
REFRESH-INTERVAL;VALUE=DURATION:PT1H
X-Robots-Tag:noindex
X-PUBLISHED-TTL:PT1H
BEGIN:VTIMEZONE
TZID:Europe/Berlin
BEGIN:DAYLIGHT
TZOFFSETFROM:+0100
TZOFFSETTO:+0200
TZNAME:CEST
DTSTART:20250330T010000
END:DAYLIGHT
BEGIN:STANDARD
TZOFFSETFROM:+0200
TZOFFSETTO:+0100
TZNAME:CET
DTSTART:20251026T010000
END:STANDARD
BEGIN:DAYLIGHT
TZOFFSETFROM:+0100
TZOFFSETTO:+0200
TZNAME:CEST
DTSTART:20260329T010000
END:DAYLIGHT
BEGIN:STANDARD
TZOFFSETFROM:+0200
TZOFFSETTO:+0100
TZNAME:CET
DTSTART:20261025T010000
END:STANDARD
BEGIN:DAYLIGHT
TZOFFSETFROM:+0100
TZOFFSETTO:+0200
TZNAME:CEST
DTSTART:20270328T010000
END:DAYLIGHT
BEGIN:STANDARD
TZOFFSETFROM:+0200
TZOFFSETTO:+0100
TZNAME:CET
DTSTART:20271031T010000
END:STANDARD
END:VTIMEZONE
BEGIN:VEVENT
DTSTART;VALUE=DATE:20260515
DTEND;VALUE=DATE:20260516
DTSTAMP:20260420T181130
CREATED:20250130T105616Z
LAST-MODIFIED:20260116T170647Z
UID:10001877-1778803200-1778889599@www.joka.golf
SUMMARY:Golfclub Rehburg-Loccum JOKA After-Work Trophy
DESCRIPTION:
URL:https://www.joka.golf/event/golfclub-rehburg-loccum-joka-after-work-trophy-3/2026-05-15/
LOCATION:Golfclub Rehburg-Loccum\, Hormannshausen 2a\, Rehburg-Loccum\, 31547\, Deutschland
CATEGORIES:Turniere,Turnierkalender
ATTACH;FMTTYPE=image/jpeg:https://www.joka.golf/wp-content/uploads/GC-Rehburg-Loccum-4.jpg
ORGANIZER;CN="Golf Emotion":MAILTO:info@golf-emotion.eu
END:VEVENT
BEGIN:VEVENT
DTSTART;VALUE=DATE:20260612
DTEND;VALUE=DATE:20260613
DTSTAMP:20260420T181130
CREATED:20250130T105616Z
LAST-MODIFIED:20260116T170647Z
UID:10001878-1781222400-1781308799@www.joka.golf
SUMMARY:Golfclub Rehburg-Loccum JOKA After-Work Trophy
DESCRIPTION:
URL:https://www.joka.golf/event/golfclub-rehburg-loccum-joka-after-work-trophy-3/2026-06-12/
LOCATION:Golfclub Rehburg-Loccum\, Hormannshausen 2a\, Rehburg-Loccum\, 31547\, Deutschland
CATEGORIES:Turniere,Turnierkalender
ATTACH;FMTTYPE=image/jpeg:https://www.joka.golf/wp-content/uploads/GC-Rehburg-Loccum-4.jpg
ORGANIZER;CN="Golf Emotion":MAILTO:info@golf-emotion.eu
END:VEVENT
BEGIN:VEVENT
DTSTART;VALUE=DATE:20260626
DTEND;VALUE=DATE:20260627
DTSTAMP:20260420T181130
CREATED:20250130T105444Z
LAST-MODIFIED:20260116T170856Z
UID:10001879-1782432000-1782518399@www.joka.golf
SUMMARY:Golfclub Rehburg-Loccum JOKA After-Work Trophy
DESCRIPTION:
URL:https://www.joka.golf/event/golfclub-rehburg-loccum-joka-after-work-trophy/2026-06-26/
LOCATION:Golfclub Rehburg-Loccum\, Hormannshausen 2a\, Rehburg-Loccum\, 31547\, Deutschland
CATEGORIES:Turniere,Turnierkalender
ATTACH;FMTTYPE=image/jpeg:https://www.joka.golf/wp-content/uploads/GC-Rehburg-Loccum-4.jpg
ORGANIZER;CN="Golf Emotion":MAILTO:info@golf-emotion.eu
END:VEVENT
BEGIN:VEVENT
DTSTART;VALUE=DATE:20260703
DTEND;VALUE=DATE:20260704
DTSTAMP:20260420T181130
CREATED:20250130T105444Z
LAST-MODIFIED:20260116T170856Z
UID:10001880-1783036800-1783123199@www.joka.golf
SUMMARY:Golfclub Rehburg-Loccum JOKA After-Work Trophy
DESCRIPTION:
URL:https://www.joka.golf/event/golfclub-rehburg-loccum-joka-after-work-trophy/2026-07-03/
LOCATION:Golfclub Rehburg-Loccum\, Hormannshausen 2a\, Rehburg-Loccum\, 31547\, Deutschland
CATEGORIES:Turniere,Turnierkalender
ATTACH;FMTTYPE=image/jpeg:https://www.joka.golf/wp-content/uploads/GC-Rehburg-Loccum-4.jpg
ORGANIZER;CN="Golf Emotion":MAILTO:info@golf-emotion.eu
END:VEVENT
END:VCALENDAR