BEGIN:VCALENDAR
VERSION:2.0
PRODID:-//JOKA Rules Tournament Series - ECPv6.15.11//NONSGML v1.0//EN
CALSCALE:GREGORIAN
METHOD:PUBLISH
X-ORIGINAL-URL:https://www.joka.golf
X-WR-CALDESC:Veranstaltungen für JOKA Rules Tournament Series
REFRESH-INTERVAL;VALUE=DURATION:PT1H
X-Robots-Tag:noindex
X-PUBLISHED-TTL:PT1H
BEGIN:VTIMEZONE
TZID:Europe/Berlin
BEGIN:DAYLIGHT
TZOFFSETFROM:+0100
TZOFFSETTO:+0200
TZNAME:CEST
DTSTART:20250330T010000
END:DAYLIGHT
BEGIN:STANDARD
TZOFFSETFROM:+0200
TZOFFSETTO:+0100
TZNAME:CET
DTSTART:20251026T010000
END:STANDARD
BEGIN:DAYLIGHT
TZOFFSETFROM:+0100
TZOFFSETTO:+0200
TZNAME:CEST
DTSTART:20260329T010000
END:DAYLIGHT
BEGIN:STANDARD
TZOFFSETFROM:+0200
TZOFFSETTO:+0100
TZNAME:CET
DTSTART:20261025T010000
END:STANDARD
BEGIN:DAYLIGHT
TZOFFSETFROM:+0100
TZOFFSETTO:+0200
TZNAME:CEST
DTSTART:20270328T010000
END:DAYLIGHT
BEGIN:STANDARD
TZOFFSETFROM:+0200
TZOFFSETTO:+0100
TZNAME:CET
DTSTART:20271031T010000
END:STANDARD
END:VTIMEZONE
BEGIN:VEVENT
DTSTART;VALUE=DATE:20260516
DTEND;VALUE=DATE:20260517
DTSTAMP:20260420T144537
CREATED:20250324T164623Z
LAST-MODIFIED:20260122T062635Z
UID:10001540-1778889600-1778975999@www.joka.golf
SUMMARY:Golfclub Rickenbach JOKA Matchday-Plus Tagesturnier
DESCRIPTION:
URL:https://www.joka.golf/event/golfclub-rickenbach-joka-2er-texas-scramble-tagesturnier/
LOCATION:Golfclub Rickenbach\, Hennematt 20\, Rickenbach\, 79736\, Deutschland
CATEGORIES:Turniere,Turnierkalender
ATTACH;FMTTYPE=image/jpeg:https://www.joka.golf/wp-content/uploads/GC-Rickenbach-1.jpg
ORGANIZER;CN="Golf Emotion":MAILTO:info@golf-emotion.eu
END:VEVENT
BEGIN:VEVENT
DTSTART;VALUE=DATE:20260627
DTEND;VALUE=DATE:20260628
DTSTAMP:20260420T144537
CREATED:20250324T164802Z
LAST-MODIFIED:20260122T062801Z
UID:10001541-1782518400-1782604799@www.joka.golf
SUMMARY:Golfclub Rickenbach JOKA Matchday-Plus Tagesturnier
DESCRIPTION:
URL:https://www.joka.golf/event/golfclub-rickenbach-joka-2er-texas-scramble-tagesturnier-2/
LOCATION:Golfclub Rickenbach\, Hennematt 20\, Rickenbach\, 79736\, Deutschland
CATEGORIES:Turniere,Turnierkalender
ATTACH;FMTTYPE=image/jpeg:https://www.joka.golf/wp-content/uploads/GC-Rickenbach-1.jpg
ORGANIZER;CN="Golf Emotion":MAILTO:info@golf-emotion.eu
END:VEVENT
BEGIN:VEVENT
DTSTART;VALUE=DATE:20260726
DTEND;VALUE=DATE:20260727
DTSTAMP:20260420T144537
CREATED:20250311T143159Z
LAST-MODIFIED:20260122T062947Z
UID:10001506-1785024000-1785110399@www.joka.golf
SUMMARY:Golfclub Rickenbach JOKA Matchday-Plus Tagesturnier
DESCRIPTION:
URL:https://www.joka.golf/event/golfclub-rickenbach-joka-after-work-trophy-finale/
LOCATION:Golfclub Rickenbach\, Hennematt 20\, Rickenbach\, 79736\, Deutschland
CATEGORIES:Turniere,Turnierkalender
ATTACH;FMTTYPE=image/jpeg:https://www.joka.golf/wp-content/uploads/GC-Rickenbach-1.jpg
ORGANIZER;CN="Golf Emotion":MAILTO:info@golf-emotion.eu
END:VEVENT
BEGIN:VEVENT
DTSTART;VALUE=DATE:20260809
DTEND;VALUE=DATE:20260810
DTSTAMP:20260420T144537
CREATED:20260122T063132Z
LAST-MODIFIED:20260122T063132Z
UID:10001908-1786233600-1786319999@www.joka.golf
SUMMARY:Golfclub Rickenbach JOKA Matchday-Plus Tagesturnier
DESCRIPTION:
URL:https://www.joka.golf/event/golfclub-rickenbach-joka-matchday-plus-tagesturnier/
LOCATION:Golfclub Rickenbach\, Hennematt 20\, Rickenbach\, 79736\, Deutschland
CATEGORIES:Turniere,Turnierkalender
ATTACH;FMTTYPE=image/jpeg:https://www.joka.golf/wp-content/uploads/GC-Rickenbach-1.jpg
ORGANIZER;CN="Golf Emotion":MAILTO:info@golf-emotion.eu
END:VEVENT
END:VCALENDAR