BEGIN:VCALENDAR
VERSION:2.0
PRODID:-//JOKA Rules Tournament Series - ECPv6.15.11//NONSGML v1.0//EN
CALSCALE:GREGORIAN
METHOD:PUBLISH
X-ORIGINAL-URL:https://www.joka.golf
X-WR-CALDESC:Veranstaltungen für JOKA Rules Tournament Series
REFRESH-INTERVAL;VALUE=DURATION:PT1H
X-Robots-Tag:noindex
X-PUBLISHED-TTL:PT1H
BEGIN:VTIMEZONE
TZID:Europe/Berlin
BEGIN:DAYLIGHT
TZOFFSETFROM:+0100
TZOFFSETTO:+0200
TZNAME:CEST
DTSTART:20250330T010000
END:DAYLIGHT
BEGIN:STANDARD
TZOFFSETFROM:+0200
TZOFFSETTO:+0100
TZNAME:CET
DTSTART:20251026T010000
END:STANDARD
BEGIN:DAYLIGHT
TZOFFSETFROM:+0100
TZOFFSETTO:+0200
TZNAME:CEST
DTSTART:20260329T010000
END:DAYLIGHT
BEGIN:STANDARD
TZOFFSETFROM:+0200
TZOFFSETTO:+0100
TZNAME:CET
DTSTART:20261025T010000
END:STANDARD
BEGIN:DAYLIGHT
TZOFFSETFROM:+0100
TZOFFSETTO:+0200
TZNAME:CEST
DTSTART:20270328T010000
END:DAYLIGHT
BEGIN:STANDARD
TZOFFSETFROM:+0200
TZOFFSETTO:+0100
TZNAME:CET
DTSTART:20271031T010000
END:STANDARD
END:VTIMEZONE
BEGIN:VEVENT
DTSTART;VALUE=DATE:20260506
DTEND;VALUE=DATE:20260507
DTSTAMP:20260419T195250
CREATED:20251217T051416Z
LAST-MODIFIED:20251217T051416Z
UID:10001671-1778025600-1778111999@www.joka.golf
SUMMARY:Golfclub Ruhpolding JOKA After-Work Trophy
DESCRIPTION:
URL:https://www.joka.golf/event/golfclub-ruhpolding-joka-after-work-trophy/2026-05-06/
LOCATION:Golfclub Ruhpolding\, Rauschbergstr.1a\, Ruhpolding\, 83324\, Deutschland
CATEGORIES:Turniere,Turnierkalender
ATTACH;FMTTYPE=image/jpeg:https://www.joka.golf/wp-content/uploads/GC-Ruhpolding-5.jpg
ORGANIZER;CN="Golf Emotion":MAILTO:info@golf-emotion.eu
END:VEVENT
BEGIN:VEVENT
DTSTART;VALUE=DATE:20260515
DTEND;VALUE=DATE:20260516
DTSTAMP:20260419T195250
CREATED:20251217T051720Z
LAST-MODIFIED:20251217T051720Z
UID:10001673-1778803200-1778889599@www.joka.golf
SUMMARY:Golfclub Ruhpolding JOKA After-Work Trophy
DESCRIPTION:
URL:https://www.joka.golf/event/golfclub-ruhpolding-joka-after-work-trophy-2/2026-05-15/
LOCATION:Golfclub Ruhpolding\, Rauschbergstr.1a\, Ruhpolding\, 83324\, Deutschland
CATEGORIES:Turniere,Turnierkalender
ATTACH;FMTTYPE=image/jpeg:https://www.joka.golf/wp-content/uploads/GC-Ruhpolding-5.jpg
ORGANIZER;CN="Golf Emotion":MAILTO:info@golf-emotion.eu
END:VEVENT
BEGIN:VEVENT
DTSTART;VALUE=DATE:20260527
DTEND;VALUE=DATE:20260528
DTSTAMP:20260419T195250
CREATED:20251217T051416Z
LAST-MODIFIED:20251217T051416Z
UID:10001672-1779840000-1779926399@www.joka.golf
SUMMARY:Golfclub Ruhpolding JOKA After-Work Trophy
DESCRIPTION:
URL:https://www.joka.golf/event/golfclub-ruhpolding-joka-after-work-trophy/2026-05-27/
LOCATION:Golfclub Ruhpolding\, Rauschbergstr.1a\, Ruhpolding\, 83324\, Deutschland
CATEGORIES:Turniere,Turnierkalender
ATTACH;FMTTYPE=image/jpeg:https://www.joka.golf/wp-content/uploads/GC-Ruhpolding-5.jpg
ORGANIZER;CN="Golf Emotion":MAILTO:info@golf-emotion.eu
END:VEVENT
BEGIN:VEVENT
DTSTART;VALUE=DATE:20260610
DTEND;VALUE=DATE:20260611
DTSTAMP:20260419T195250
CREATED:20251217T051936Z
LAST-MODIFIED:20251217T051936Z
UID:10001675-1781049600-1781135999@www.joka.golf
SUMMARY:Golfclub Ruhpolding JOKA After-Work Trophy
DESCRIPTION:
URL:https://www.joka.golf/event/golfclub-ruhpolding-joka-after-work-trophy-3/2026-06-10/
LOCATION:Golfclub Ruhpolding\, Rauschbergstr.1a\, Ruhpolding\, 83324\, Deutschland
CATEGORIES:Turniere,Turnierkalender
ATTACH;FMTTYPE=image/jpeg:https://www.joka.golf/wp-content/uploads/GC-Ruhpolding-5.jpg
ORGANIZER;CN="Golf Emotion":MAILTO:info@golf-emotion.eu
END:VEVENT
BEGIN:VEVENT
DTSTART;VALUE=DATE:20260619
DTEND;VALUE=DATE:20260620
DTSTAMP:20260419T195250
CREATED:20251217T051720Z
LAST-MODIFIED:20251217T051720Z
UID:10001674-1781827200-1781913599@www.joka.golf
SUMMARY:Golfclub Ruhpolding JOKA After-Work Trophy
DESCRIPTION:
URL:https://www.joka.golf/event/golfclub-ruhpolding-joka-after-work-trophy-2/2026-06-19/
LOCATION:Golfclub Ruhpolding\, Rauschbergstr.1a\, Ruhpolding\, 83324\, Deutschland
CATEGORIES:Turniere,Turnierkalender
ATTACH;FMTTYPE=image/jpeg:https://www.joka.golf/wp-content/uploads/GC-Ruhpolding-5.jpg
ORGANIZER;CN="Golf Emotion":MAILTO:info@golf-emotion.eu
END:VEVENT
BEGIN:VEVENT
DTSTART;VALUE=DATE:20260624
DTEND;VALUE=DATE:20260625
DTSTAMP:20260419T195250
CREATED:20251217T051936Z
LAST-MODIFIED:20251217T051936Z
UID:10001676-1782259200-1782345599@www.joka.golf
SUMMARY:Golfclub Ruhpolding JOKA After-Work Trophy
DESCRIPTION:
URL:https://www.joka.golf/event/golfclub-ruhpolding-joka-after-work-trophy-3/2026-06-24/
LOCATION:Golfclub Ruhpolding\, Rauschbergstr.1a\, Ruhpolding\, 83324\, Deutschland
CATEGORIES:Turniere,Turnierkalender
ATTACH;FMTTYPE=image/jpeg:https://www.joka.golf/wp-content/uploads/GC-Ruhpolding-5.jpg
ORGANIZER;CN="Golf Emotion":MAILTO:info@golf-emotion.eu
END:VEVENT
BEGIN:VEVENT
DTSTART;VALUE=DATE:20260708
DTEND;VALUE=DATE:20260709
DTSTAMP:20260419T195250
CREATED:20251217T051936Z
LAST-MODIFIED:20251217T051936Z
UID:10001677-1783468800-1783555199@www.joka.golf
SUMMARY:Golfclub Ruhpolding JOKA After-Work Trophy
DESCRIPTION:
URL:https://www.joka.golf/event/golfclub-ruhpolding-joka-after-work-trophy-3/2026-07-08/
LOCATION:Golfclub Ruhpolding\, Rauschbergstr.1a\, Ruhpolding\, 83324\, Deutschland
CATEGORIES:Turniere,Turnierkalender
ATTACH;FMTTYPE=image/jpeg:https://www.joka.golf/wp-content/uploads/GC-Ruhpolding-5.jpg
ORGANIZER;CN="Golf Emotion":MAILTO:info@golf-emotion.eu
END:VEVENT
BEGIN:VEVENT
DTSTART;VALUE=DATE:20260717
DTEND;VALUE=DATE:20260718
DTSTAMP:20260419T195250
CREATED:20251217T052202Z
LAST-MODIFIED:20251217T052202Z
UID:10001678-1784246400-1784332799@www.joka.golf
SUMMARY:Golfclub Ruhpolding JOKA After-Work Trophy
DESCRIPTION:
URL:https://www.joka.golf/event/golfclub-ruhpolding-joka-after-work-trophy-4/
LOCATION:Golfclub Ruhpolding\, Rauschbergstr.1a\, Ruhpolding\, 83324\, Deutschland
CATEGORIES:Turniere,Turnierkalender
ATTACH;FMTTYPE=image/jpeg:https://www.joka.golf/wp-content/uploads/GC-Ruhpolding-5.jpg
ORGANIZER;CN="Golf Emotion":MAILTO:info@golf-emotion.eu
END:VEVENT
BEGIN:VEVENT
DTSTART;VALUE=DATE:20260725
DTEND;VALUE=DATE:20260726
DTSTAMP:20260419T195250
CREATED:20251216T100158Z
LAST-MODIFIED:20251216T100158Z
UID:10001562-1784937600-1785023999@www.joka.golf
SUMMARY:Golfclub Ruhpolding JOKA Matchday-Plus 2er Texas-Scramble Tagesturnier
DESCRIPTION:
URL:https://www.joka.golf/event/golfclub-ruhpolding-joka-matchday-plus-2er-texas-scramble-tagesturnier/
LOCATION:Golfclub Ruhpolding\, Rauschbergstr.1a\, Ruhpolding\, 83324\, Deutschland
CATEGORIES:Turniere,Turnierkalender
ATTACH;FMTTYPE=image/jpeg:https://www.joka.golf/wp-content/uploads/GC-Ruhpolding-4.jpg
ORGANIZER;CN="Golf Emotion":MAILTO:info@golf-emotion.eu
END:VEVENT
BEGIN:VEVENT
DTSTART;VALUE=DATE:20260729
DTEND;VALUE=DATE:20260730
DTSTAMP:20260419T195250
CREATED:20251217T052407Z
LAST-MODIFIED:20251217T052407Z
UID:10001679-1785283200-1785369599@www.joka.golf
SUMMARY:Golfclub Ruhpolding JOKA After-Work Trophy
DESCRIPTION:
URL:https://www.joka.golf/event/golfclub-ruhpolding-joka-after-work-trophy-5/2026-07-29/
LOCATION:Golfclub Ruhpolding\, Rauschbergstr.1a\, Ruhpolding\, 83324\, Deutschland
CATEGORIES:Turniere,Turnierkalender
ATTACH;FMTTYPE=image/jpeg:https://www.joka.golf/wp-content/uploads/GC-Ruhpolding-5.jpg
ORGANIZER;CN="Golf Emotion":MAILTO:info@golf-emotion.eu
END:VEVENT
BEGIN:VEVENT
DTSTART;VALUE=DATE:20260812
DTEND;VALUE=DATE:20260813
DTSTAMP:20260419T195250
CREATED:20251217T052407Z
LAST-MODIFIED:20251217T052407Z
UID:10001680-1786492800-1786579199@www.joka.golf
SUMMARY:Golfclub Ruhpolding JOKA After-Work Trophy
DESCRIPTION:
URL:https://www.joka.golf/event/golfclub-ruhpolding-joka-after-work-trophy-5/2026-08-12/
LOCATION:Golfclub Ruhpolding\, Rauschbergstr.1a\, Ruhpolding\, 83324\, Deutschland
CATEGORIES:Turniere,Turnierkalender
ATTACH;FMTTYPE=image/jpeg:https://www.joka.golf/wp-content/uploads/GC-Ruhpolding-5.jpg
ORGANIZER;CN="Golf Emotion":MAILTO:info@golf-emotion.eu
END:VEVENT
BEGIN:VEVENT
DTSTART;VALUE=DATE:20260826
DTEND;VALUE=DATE:20260827
DTSTAMP:20260419T195250
CREATED:20251217T052407Z
LAST-MODIFIED:20251217T052407Z
UID:10001681-1787702400-1787788799@www.joka.golf
SUMMARY:Golfclub Ruhpolding JOKA After-Work Trophy
DESCRIPTION:
URL:https://www.joka.golf/event/golfclub-ruhpolding-joka-after-work-trophy-5/2026-08-26/
LOCATION:Golfclub Ruhpolding\, Rauschbergstr.1a\, Ruhpolding\, 83324\, Deutschland
CATEGORIES:Turniere,Turnierkalender
ATTACH;FMTTYPE=image/jpeg:https://www.joka.golf/wp-content/uploads/GC-Ruhpolding-5.jpg
ORGANIZER;CN="Golf Emotion":MAILTO:info@golf-emotion.eu
END:VEVENT
END:VCALENDAR