BEGIN:VCALENDAR
VERSION:2.0
PRODID:-//JOKA Rules Tournament Series - ECPv6.15.11//NONSGML v1.0//EN
CALSCALE:GREGORIAN
METHOD:PUBLISH
X-WR-CALNAME:JOKA Rules Tournament Series
X-ORIGINAL-URL:https://www.joka.golf
X-WR-CALDESC:Veranstaltungen für JOKA Rules Tournament Series
REFRESH-INTERVAL;VALUE=DURATION:PT1H
X-Robots-Tag:noindex
X-PUBLISHED-TTL:PT1H
BEGIN:VTIMEZONE
TZID:Europe/Berlin
BEGIN:DAYLIGHT
TZOFFSETFROM:+0100
TZOFFSETTO:+0200
TZNAME:CEST
DTSTART:20250330T010000
END:DAYLIGHT
BEGIN:STANDARD
TZOFFSETFROM:+0200
TZOFFSETTO:+0100
TZNAME:CET
DTSTART:20251026T010000
END:STANDARD
BEGIN:DAYLIGHT
TZOFFSETFROM:+0100
TZOFFSETTO:+0200
TZNAME:CEST
DTSTART:20260329T010000
END:DAYLIGHT
BEGIN:STANDARD
TZOFFSETFROM:+0200
TZOFFSETTO:+0100
TZNAME:CET
DTSTART:20261025T010000
END:STANDARD
BEGIN:DAYLIGHT
TZOFFSETFROM:+0100
TZOFFSETTO:+0200
TZNAME:CEST
DTSTART:20270328T010000
END:DAYLIGHT
BEGIN:STANDARD
TZOFFSETFROM:+0200
TZOFFSETTO:+0100
TZNAME:CET
DTSTART:20271031T010000
END:STANDARD
END:VTIMEZONE
BEGIN:VEVENT
DTSTART;VALUE=DATE:20260423
DTEND;VALUE=DATE:20260424
DTSTAMP:20260419T152138
CREATED:20260109T153259Z
LAST-MODIFIED:20260109T153259Z
UID:10001842-1776902400-1776988799@www.joka.golf
SUMMARY:Golfclub Salzgitter JOKA After-Work Trophy
DESCRIPTION:
URL:https://www.joka.golf/event/golfclub-salzgitter-joka-after-work-trophy-2/2026-04-23/
LOCATION:Golfclub Salzgitter\, Mahner Berg\, Salzgitter\, 38259\, Deutschland
CATEGORIES:Turniere,Turnierkalender
ATTACH;FMTTYPE=image/jpeg:https://www.joka.golf/wp-content/uploads/GC-Salzgitter-3.jpg
ORGANIZER;CN="Golf Emotion":MAILTO:info@golf-emotion.eu
END:VEVENT
BEGIN:VEVENT
DTSTART;VALUE=DATE:20260525
DTEND;VALUE=DATE:20260526
DTSTAMP:20260419T152138
CREATED:20260109T152802Z
LAST-MODIFIED:20260109T152802Z
UID:10001839-1779667200-1779753599@www.joka.golf
SUMMARY:Golfclub Salzgitter JOKA Matchday-Plus Tagesturnier
DESCRIPTION:
URL:https://www.joka.golf/event/golfclub-salzgitter-joka-matchday-plus-tagesturnier-2/
LOCATION:Golfclub Salzgitter\, Mahner Berg\, Salzgitter\, 38259\, Deutschland
CATEGORIES:Turniere,Turnierkalender
ATTACH;FMTTYPE=image/jpeg:https://www.joka.golf/wp-content/uploads/GC-Salzgitter-3.jpg
ORGANIZER;CN="Golf Emotion":MAILTO:info@golf-emotion.eu
END:VEVENT
BEGIN:VEVENT
DTSTART;VALUE=DATE:20260611
DTEND;VALUE=DATE:20260612
DTSTAMP:20260419T152138
CREATED:20260109T153058Z
LAST-MODIFIED:20260109T153058Z
UID:10001840-1781136000-1781222399@www.joka.golf
SUMMARY:Golfclub Salzgitter JOKA After-Work Trophy
DESCRIPTION:
URL:https://www.joka.golf/event/golfclub-salzgitter-joka-after-work-trophy/
LOCATION:Golfclub Salzgitter\, Mahner Berg\, Salzgitter\, 38259\, Deutschland
CATEGORIES:Turniere,Turnierkalender
ATTACH;FMTTYPE=image/jpeg:https://www.joka.golf/wp-content/uploads/GC-Salzgitter-3.jpg
ORGANIZER;CN="Golf Emotion":MAILTO:info@golf-emotion.eu
END:VEVENT
BEGIN:VEVENT
DTSTART;VALUE=DATE:20260618
DTEND;VALUE=DATE:20260619
DTSTAMP:20260419T152138
CREATED:20250105T151847Z
LAST-MODIFIED:20260109T152912Z
UID:10000955-1781740800-1781827199@www.joka.golf
SUMMARY:Golfclub Salzgitter JOKA After-Work Trophy -Finale-
DESCRIPTION:
URL:https://www.joka.golf/event/golfclub-salzgitter-joka-after-work-trophy-finale/
LOCATION:Golfclub Salzgitter\, Mahner Berg\, Salzgitter\, 38259\, Deutschland
CATEGORIES:Turniere,Turnierkalender
ATTACH;FMTTYPE=image/jpeg:https://www.joka.golf/wp-content/uploads/GC-Salzgitter-2.jpg
ORGANIZER;CN="Golf Emotion":MAILTO:info@golf-emotion.eu
END:VEVENT
END:VCALENDAR