BEGIN:VCALENDAR
VERSION:2.0
PRODID:-//JOKA Rules Tournament Series - ECPv6.15.11//NONSGML v1.0//EN
CALSCALE:GREGORIAN
METHOD:PUBLISH
X-ORIGINAL-URL:https://www.joka.golf
X-WR-CALDESC:Veranstaltungen für JOKA Rules Tournament Series
REFRESH-INTERVAL;VALUE=DURATION:PT1H
X-Robots-Tag:noindex
X-PUBLISHED-TTL:PT1H
BEGIN:VTIMEZONE
TZID:Europe/Berlin
BEGIN:DAYLIGHT
TZOFFSETFROM:+0100
TZOFFSETTO:+0200
TZNAME:CEST
DTSTART:20250330T010000
END:DAYLIGHT
BEGIN:STANDARD
TZOFFSETFROM:+0200
TZOFFSETTO:+0100
TZNAME:CET
DTSTART:20251026T010000
END:STANDARD
BEGIN:DAYLIGHT
TZOFFSETFROM:+0100
TZOFFSETTO:+0200
TZNAME:CEST
DTSTART:20260329T010000
END:DAYLIGHT
BEGIN:STANDARD
TZOFFSETFROM:+0200
TZOFFSETTO:+0100
TZNAME:CET
DTSTART:20261025T010000
END:STANDARD
BEGIN:DAYLIGHT
TZOFFSETFROM:+0100
TZOFFSETTO:+0200
TZNAME:CEST
DTSTART:20270328T010000
END:DAYLIGHT
BEGIN:STANDARD
TZOFFSETFROM:+0200
TZOFFSETTO:+0100
TZNAME:CET
DTSTART:20271031T010000
END:STANDARD
END:VTIMEZONE
BEGIN:VEVENT
DTSTART;VALUE=DATE:20260620
DTEND;VALUE=DATE:20260621
DTSTAMP:20260419T235308
CREATED:20240206T230000Z
LAST-MODIFIED:20260108T074645Z
UID:10001450-1781913600-1781999999@www.joka.golf
SUMMARY:Golfclub Lütetsburg JOKA Matchday-Plus 2er Texas-Scramble Tagesturnier
DESCRIPTION:
URL:https://www.joka.golf/event/golfclub-luetetsburg-joka-matchday-plus-2er-texas-scramble-tagesturnier/
LOCATION:Golfclub Schloss Lütetsburg\, Landstr.36\, Lütetsburg\, 26524\, Deutschland
CATEGORIES:Turniere,Turnierkalender
ATTACH;FMTTYPE=image/jpeg:https://www.joka.golf/wp-content/uploads/GC-Luetetsburg-3.jpg
ORGANIZER;CN="Golf Emotion":MAILTO:info@golf-emotion.eu
END:VEVENT
BEGIN:VEVENT
DTSTART;VALUE=DATE:20260801
DTEND;VALUE=DATE:20260802
DTSTAMP:20260419T235308
CREATED:20240206T230000Z
LAST-MODIFIED:20260108T074532Z
UID:10000600-1785542400-1785628799@www.joka.golf
SUMMARY:Golfclub Lütetsburg JOKA Matchday-Plus Tagesturnier
DESCRIPTION:
URL:https://www.joka.golf/event/golfclub-luetetsburg-joka-matchday-plus-tagesturnier/
LOCATION:Golfclub Schloss Lütetsburg\, Landstr.36\, Lütetsburg\, 26524\, Deutschland
CATEGORIES:Turniere,Turnierkalender
ATTACH;FMTTYPE=image/jpeg:https://www.joka.golf/wp-content/uploads/GC-Luetetsburg-1.jpg
ORGANIZER;CN="Golf Emotion":MAILTO:info@golf-emotion.eu
END:VEVENT
BEGIN:VEVENT
DTSTART;VALUE=DATE:20260805
DTEND;VALUE=DATE:20260806
DTSTAMP:20260419T235308
CREATED:20240206T230000Z
LAST-MODIFIED:20260108T074752Z
UID:10000672-1785888000-1785974399@www.joka.golf
SUMMARY:Golfclub Lütetsburg JOKA After Work -HeMiGo- Finale
DESCRIPTION:
URL:https://www.joka.golf/event/golfclub-luetetsburg-joka-after-work-hemigo-finale/
LOCATION:Golfclub Schloss Lütetsburg\, Landstr.36\, Lütetsburg\, 26524\, Deutschland
CATEGORIES:Turniere,Turnierkalender
ATTACH;FMTTYPE=image/jpeg:https://www.joka.golf/wp-content/uploads/GC-Luetetsburg-2.jpg
ORGANIZER;CN="Golf Emotion":MAILTO:info@golf-emotion.eu
END:VEVENT
END:VCALENDAR