BEGIN:VCALENDAR
VERSION:2.0
PRODID:-//JOKA Rules Tournament Series - ECPv6.15.11//NONSGML v1.0//EN
CALSCALE:GREGORIAN
METHOD:PUBLISH
X-WR-CALNAME:JOKA Rules Tournament Series
X-ORIGINAL-URL:https://www.joka.golf
X-WR-CALDESC:Veranstaltungen für JOKA Rules Tournament Series
REFRESH-INTERVAL;VALUE=DURATION:PT1H
X-Robots-Tag:noindex
X-PUBLISHED-TTL:PT1H
BEGIN:VTIMEZONE
TZID:Europe/Berlin
BEGIN:DAYLIGHT
TZOFFSETFROM:+0100
TZOFFSETTO:+0200
TZNAME:CEST
DTSTART:20250330T010000
END:DAYLIGHT
BEGIN:STANDARD
TZOFFSETFROM:+0200
TZOFFSETTO:+0100
TZNAME:CET
DTSTART:20251026T010000
END:STANDARD
BEGIN:DAYLIGHT
TZOFFSETFROM:+0100
TZOFFSETTO:+0200
TZNAME:CEST
DTSTART:20260329T010000
END:DAYLIGHT
BEGIN:STANDARD
TZOFFSETFROM:+0200
TZOFFSETTO:+0100
TZNAME:CET
DTSTART:20261025T010000
END:STANDARD
BEGIN:DAYLIGHT
TZOFFSETFROM:+0100
TZOFFSETTO:+0200
TZNAME:CEST
DTSTART:20270328T010000
END:DAYLIGHT
BEGIN:STANDARD
TZOFFSETFROM:+0200
TZOFFSETTO:+0100
TZNAME:CET
DTSTART:20271031T010000
END:STANDARD
END:VTIMEZONE
BEGIN:VEVENT
DTSTART;VALUE=DATE:20260425
DTEND;VALUE=DATE:20260426
DTSTAMP:20260419T190836
CREATED:20240206T230000Z
LAST-MODIFIED:20260204T132713Z
UID:10001296-1777075200-1777161599@www.joka.golf
SUMMARY:Golfclub Schwanhof JOKA After-Work Trophy
DESCRIPTION:
URL:https://www.joka.golf/event/golfclub-schwanhof-joka-after-work-trophy-2/
LOCATION:Golfclub Schwanhof\, Klaus-Conrad-Allee 1\, Luhe-Wildenau\, 92706\, Deutschland
CATEGORIES:Turniere,Turnierkalender
ATTACH;FMTTYPE=image/jpeg:https://www.joka.golf/wp-content/uploads/GC-Schwanhof-2.jpg
ORGANIZER;CN="Golf Emotion":MAILTO:info@golf-emotion.eu
END:VEVENT
BEGIN:VEVENT
DTSTART;VALUE=DATE:20260531
DTEND;VALUE=DATE:20260601
DTSTAMP:20260419T190836
CREATED:20240206T230000Z
LAST-MODIFIED:20260204T132601Z
UID:10001963-1780185600-1780271999@www.joka.golf
SUMMARY:Golfclub Schwanhof JOKA After-Work Trophy
DESCRIPTION:
URL:https://www.joka.golf/event/golfclub-schwanhof-joka-after-work-trophy-3/2026-05-31/
LOCATION:Golfclub Schwanhof\, Klaus-Conrad-Allee 1\, Luhe-Wildenau\, 92706\, Deutschland
CATEGORIES:Turniere,Turnierkalender
ATTACH;FMTTYPE=image/jpeg:https://www.joka.golf/wp-content/uploads/GC-Schwanhof-2.jpg
ORGANIZER;CN="Golf Emotion":MAILTO:info@golf-emotion.eu
END:VEVENT
BEGIN:VEVENT
DTSTART;VALUE=DATE:20260628
DTEND;VALUE=DATE:20260629
DTSTAMP:20260419T190836
CREATED:20240206T230000Z
LAST-MODIFIED:20260204T132601Z
UID:10001964-1782604800-1782691199@www.joka.golf
SUMMARY:Golfclub Schwanhof JOKA After-Work Trophy
DESCRIPTION:
URL:https://www.joka.golf/event/golfclub-schwanhof-joka-after-work-trophy-3/2026-06-28/
LOCATION:Golfclub Schwanhof\, Klaus-Conrad-Allee 1\, Luhe-Wildenau\, 92706\, Deutschland
CATEGORIES:Turniere,Turnierkalender
ATTACH;FMTTYPE=image/jpeg:https://www.joka.golf/wp-content/uploads/GC-Schwanhof-2.jpg
ORGANIZER;CN="Golf Emotion":MAILTO:info@golf-emotion.eu
END:VEVENT
BEGIN:VEVENT
DTSTART;VALUE=DATE:20260821
DTEND;VALUE=DATE:20260822
DTSTAMP:20260419T190836
CREATED:20240206T230000Z
LAST-MODIFIED:20260204T132434Z
UID:10000719-1787270400-1787356799@www.joka.golf
SUMMARY:Golfclub Schwanhof JOKA After-Work Trophy -Finale-
DESCRIPTION:
URL:https://www.joka.golf/event/golfclub-schwanhof-joka-after-work-trophy-finale/
LOCATION:Golfclub Schwanhof\, Klaus-Conrad-Allee 1\, Luhe-Wildenau\, 92706\, Deutschland
CATEGORIES:Turniere,Turnierkalender
ATTACH;FMTTYPE=image/jpeg:https://www.joka.golf/wp-content/uploads/GC_Schwanhof-1.jpg
ORGANIZER;CN="Golf Emotion":MAILTO:info@golf-emotion.eu
END:VEVENT
BEGIN:VEVENT
DTSTART;VALUE=DATE:20261009
DTEND;VALUE=DATE:20261010
DTSTAMP:20260419T190836
CREATED:20240206T230000Z
LAST-MODIFIED:20251216T055351Z
UID:10000578-1791504000-1791590399@www.joka.golf
SUMMARY:JOKA Deutschlandfinale im Golfclub Schwanhof
DESCRIPTION:
URL:https://www.joka.golf/event/joka-deutschlandfinale-im-golfclub-schwanhof/
LOCATION:Golfclub Schwanhof\, Klaus-Conrad-Allee 1\, Luhe-Wildenau\, 92706\, Deutschland
CATEGORIES:Deutschlandfinale,Turniere,Turnierkalender
ATTACH;FMTTYPE=image/jpeg:https://www.joka.golf/wp-content/uploads/GC_Schwanhof-1.jpg
ORGANIZER;CN="Golf Emotion":MAILTO:info@golf-emotion.eu
END:VEVENT
END:VCALENDAR