BEGIN:VCALENDAR
VERSION:2.0
PRODID:-//JOKA Rules Tournament Series - ECPv6.15.11//NONSGML v1.0//EN
CALSCALE:GREGORIAN
METHOD:PUBLISH
X-ORIGINAL-URL:https://www.joka.golf
X-WR-CALDESC:Veranstaltungen für JOKA Rules Tournament Series
REFRESH-INTERVAL;VALUE=DURATION:PT1H
X-Robots-Tag:noindex
X-PUBLISHED-TTL:PT1H
BEGIN:VTIMEZONE
TZID:Europe/Berlin
BEGIN:DAYLIGHT
TZOFFSETFROM:+0100
TZOFFSETTO:+0200
TZNAME:CEST
DTSTART:20250330T010000
END:DAYLIGHT
BEGIN:STANDARD
TZOFFSETFROM:+0200
TZOFFSETTO:+0100
TZNAME:CET
DTSTART:20251026T010000
END:STANDARD
BEGIN:DAYLIGHT
TZOFFSETFROM:+0100
TZOFFSETTO:+0200
TZNAME:CEST
DTSTART:20260329T010000
END:DAYLIGHT
BEGIN:STANDARD
TZOFFSETFROM:+0200
TZOFFSETTO:+0100
TZNAME:CET
DTSTART:20261025T010000
END:STANDARD
BEGIN:DAYLIGHT
TZOFFSETFROM:+0100
TZOFFSETTO:+0200
TZNAME:CEST
DTSTART:20270328T010000
END:DAYLIGHT
BEGIN:STANDARD
TZOFFSETFROM:+0200
TZOFFSETTO:+0100
TZNAME:CET
DTSTART:20271031T010000
END:STANDARD
END:VTIMEZONE
BEGIN:VEVENT
DTSTART;VALUE=DATE:20260513
DTEND;VALUE=DATE:20260514
DTSTAMP:20260420T183800
CREATED:20251221T082622Z
LAST-MODIFIED:20251221T082622Z
UID:10001721-1778630400-1778716799@www.joka.golf
SUMMARY:Golfclub Wasserburg Anholt JOKA After-Work Trophy
DESCRIPTION:
URL:https://www.joka.golf/event/golfclub-wasserburg-anholt-joka-after-work-trophy/2026-05-13/
LOCATION:Golfclub Wasserburg Anholt\, Schloss 3\, Isselburg\, 46419\, Deutschland
CATEGORIES:Turniere,Turnierkalender
ATTACH;FMTTYPE=image/jpeg:https://www.joka.golf/wp-content/uploads/GC-Anholt.jpg
ORGANIZER;CN="Golf Emotion":MAILTO:info@golf-emotion.eu
END:VEVENT
BEGIN:VEVENT
DTSTART;VALUE=DATE:20260516
DTEND;VALUE=DATE:20260517
DTSTAMP:20260420T183800
CREATED:20251221T083430Z
LAST-MODIFIED:20251221T083430Z
UID:10001726-1778889600-1778975999@www.joka.golf
SUMMARY:Golfclub Wasserburg Anholt JOKA 2er Texas-Scramble Tagesturnier
DESCRIPTION:
URL:https://www.joka.golf/event/golfclub-wasserburg-anholt-joka-2er-texas-scramble-tagesturnier/
LOCATION:Golfclub Wasserburg Anholt\, Schloss 3\, Isselburg\, 46419\, Deutschland
CATEGORIES:Turniere,Turnierkalender
ATTACH;FMTTYPE=image/jpeg:https://www.joka.golf/wp-content/uploads/GC-Anholt.jpg
ORGANIZER;CN="Golf Emotion":MAILTO:info@golf-emotion.eu
END:VEVENT
BEGIN:VEVENT
DTSTART;VALUE=DATE:20260610
DTEND;VALUE=DATE:20260611
DTSTAMP:20260420T183800
CREATED:20251221T082622Z
LAST-MODIFIED:20251221T082622Z
UID:10001722-1781049600-1781135999@www.joka.golf
SUMMARY:Golfclub Wasserburg Anholt JOKA After-Work Trophy
DESCRIPTION:
URL:https://www.joka.golf/event/golfclub-wasserburg-anholt-joka-after-work-trophy/2026-06-10/
LOCATION:Golfclub Wasserburg Anholt\, Schloss 3\, Isselburg\, 46419\, Deutschland
CATEGORIES:Turniere,Turnierkalender
ATTACH;FMTTYPE=image/jpeg:https://www.joka.golf/wp-content/uploads/GC-Anholt.jpg
ORGANIZER;CN="Golf Emotion":MAILTO:info@golf-emotion.eu
END:VEVENT
BEGIN:VEVENT
DTSTART;VALUE=DATE:20260708
DTEND;VALUE=DATE:20260709
DTSTAMP:20260420T183800
CREATED:20251221T082622Z
LAST-MODIFIED:20251221T082622Z
UID:10001723-1783468800-1783555199@www.joka.golf
SUMMARY:Golfclub Wasserburg Anholt JOKA After-Work Trophy
DESCRIPTION:
URL:https://www.joka.golf/event/golfclub-wasserburg-anholt-joka-after-work-trophy/2026-07-08/
LOCATION:Golfclub Wasserburg Anholt\, Schloss 3\, Isselburg\, 46419\, Deutschland
CATEGORIES:Turniere,Turnierkalender
ATTACH;FMTTYPE=image/jpeg:https://www.joka.golf/wp-content/uploads/GC-Anholt.jpg
ORGANIZER;CN="Golf Emotion":MAILTO:info@golf-emotion.eu
END:VEVENT
BEGIN:VEVENT
DTSTART;VALUE=DATE:20260812
DTEND;VALUE=DATE:20260813
DTSTAMP:20260420T183800
CREATED:20251221T082852Z
LAST-MODIFIED:20251221T082852Z
UID:10001724-1786492800-1786579199@www.joka.golf
SUMMARY:Golfclub Wasserburg Anholt JOKA After-Work Trophy
DESCRIPTION:
URL:https://www.joka.golf/event/golfclub-wasserburg-anholt-joka-after-work-trophy-2/
LOCATION:Golfclub Wasserburg Anholt\, Schloss 3\, Isselburg\, 46419\, Deutschland
CATEGORIES:Turniere,Turnierkalender
ATTACH;FMTTYPE=image/jpeg:https://www.joka.golf/wp-content/uploads/GC-Anholt.jpg
ORGANIZER;CN="Golf Emotion":MAILTO:info@golf-emotion.eu
END:VEVENT
BEGIN:VEVENT
DTSTART;VALUE=DATE:20260902
DTEND;VALUE=DATE:20260903
DTSTAMP:20260420T183800
CREATED:20251221T083119Z
LAST-MODIFIED:20251221T083119Z
UID:10001725-1788307200-1788393599@www.joka.golf
SUMMARY:Golfclub Wasserburg Anholt JOKA After-Work Trophy -Finale-
DESCRIPTION:
URL:https://www.joka.golf/event/golfclub-wasserburg-anholt-joka-after-work-trophy-finale/
LOCATION:Golfclub Wasserburg Anholt\, Schloss 3\, Isselburg\, 46419\, Deutschland
CATEGORIES:Turniere,Turnierkalender
ATTACH;FMTTYPE=image/jpeg:https://www.joka.golf/wp-content/uploads/GC-Anholt.jpg
ORGANIZER;CN="Golf Emotion":MAILTO:info@golf-emotion.eu
END:VEVENT
END:VCALENDAR