BEGIN:VCALENDAR
VERSION:2.0
PRODID:-//JOKA Rules Tournament Series - ECPv6.15.11//NONSGML v1.0//EN
CALSCALE:GREGORIAN
METHOD:PUBLISH
X-ORIGINAL-URL:https://www.joka.golf
X-WR-CALDESC:Veranstaltungen für JOKA Rules Tournament Series
REFRESH-INTERVAL;VALUE=DURATION:PT1H
X-Robots-Tag:noindex
X-PUBLISHED-TTL:PT1H
BEGIN:VTIMEZONE
TZID:Europe/Berlin
BEGIN:DAYLIGHT
TZOFFSETFROM:+0100
TZOFFSETTO:+0200
TZNAME:CEST
DTSTART:20250330T010000
END:DAYLIGHT
BEGIN:STANDARD
TZOFFSETFROM:+0200
TZOFFSETTO:+0100
TZNAME:CET
DTSTART:20251026T010000
END:STANDARD
BEGIN:DAYLIGHT
TZOFFSETFROM:+0100
TZOFFSETTO:+0200
TZNAME:CEST
DTSTART:20260329T010000
END:DAYLIGHT
BEGIN:STANDARD
TZOFFSETFROM:+0200
TZOFFSETTO:+0100
TZNAME:CET
DTSTART:20261025T010000
END:STANDARD
BEGIN:DAYLIGHT
TZOFFSETFROM:+0100
TZOFFSETTO:+0200
TZNAME:CEST
DTSTART:20270328T010000
END:DAYLIGHT
BEGIN:STANDARD
TZOFFSETFROM:+0200
TZOFFSETTO:+0100
TZNAME:CET
DTSTART:20271031T010000
END:STANDARD
END:VTIMEZONE
BEGIN:VEVENT
DTSTART;VALUE=DATE:20260526
DTEND;VALUE=DATE:20260527
DTSTAMP:20260420T100946
CREATED:20260115T054234Z
LAST-MODIFIED:20260121T174319Z
UID:10001892-1779753600-1779839999@www.joka.golf
SUMMARY:Open.9 Golf Eichenried JOKA After-Work Trophy
DESCRIPTION:
URL:https://www.joka.golf/event/open-9-golf-eichenried-joka-after-work-trophy/2026-05-26/
LOCATION:Open-9 Golf Eichenried\, Schönstraße\, Moosinning\, Oberbayern\, 85452\, Germany
CATEGORIES:Turniere,Turnierkalender
ATTACH;FMTTYPE=image/jpeg:https://www.joka.golf/wp-content/uploads/Open.9-Golf-Eichenried.jpeg
ORGANIZER;CN="Golf Emotion":MAILTO:info@golf-emotion.eu
GEO:48.2710685;11.7569127
X-APPLE-STRUCTURED-LOCATION;VALUE=URI;X-ADDRESS=Open-9 Golf Eichenried Schönstraße Moosinning Oberbayern 85452 Germany;X-APPLE-RADIUS=500;X-TITLE=Schönstraße:geo:11.7569127,48.2710685
END:VEVENT
BEGIN:VEVENT
DTSTART;VALUE=DATE:20260616
DTEND;VALUE=DATE:20260617
DTSTAMP:20260420T100946
CREATED:20260115T054234Z
LAST-MODIFIED:20260121T174319Z
UID:10001860-1781568000-1781654399@www.joka.golf
SUMMARY:Open.9 Golf Eichenried JOKA After-Work Trophy
DESCRIPTION:
URL:https://www.joka.golf/event/open-9-golf-eichenried-joka-after-work-trophy/2026-06-16/
LOCATION:Open-9 Golf Eichenried\, Schönstraße\, Moosinning\, Oberbayern\, 85452\, Germany
CATEGORIES:Turniere,Turnierkalender
ATTACH;FMTTYPE=image/jpeg:https://www.joka.golf/wp-content/uploads/Open.9-Golf-Eichenried.jpeg
ORGANIZER;CN="Golf Emotion":MAILTO:info@golf-emotion.eu
GEO:48.2710685;11.7569127
X-APPLE-STRUCTURED-LOCATION;VALUE=URI;X-ADDRESS=Open-9 Golf Eichenried Schönstraße Moosinning Oberbayern 85452 Germany;X-APPLE-RADIUS=500;X-TITLE=Schönstraße:geo:11.7569127,48.2710685
END:VEVENT
BEGIN:VEVENT
DTSTART;VALUE=DATE:20260721
DTEND;VALUE=DATE:20260722
DTSTAMP:20260420T100946
CREATED:20260121T174528Z
LAST-MODIFIED:20260121T174528Z
UID:10001893-1784592000-1784678399@www.joka.golf
SUMMARY:Open.9 Golf Eichenried JOKA After-Work Trophy
DESCRIPTION:
URL:https://www.joka.golf/event/open-9-golf-eichenried-joka-after-work-trophy-3/
LOCATION:Open-9 Golf Eichenried\, Schönstraße\, Moosinning\, Oberbayern\, 85452\, Germany
CATEGORIES:Turniere,Turnierkalender
ATTACH;FMTTYPE=image/jpeg:https://www.joka.golf/wp-content/uploads/Open.9-Golf-Eichenried.jpeg
ORGANIZER;CN="Golf Emotion":MAILTO:info@golf-emotion.eu
GEO:48.2710685;11.7569127
X-APPLE-STRUCTURED-LOCATION;VALUE=URI;X-ADDRESS=Open-9 Golf Eichenried Schönstraße Moosinning Oberbayern 85452 Germany;X-APPLE-RADIUS=500;X-TITLE=Schönstraße:geo:11.7569127,48.2710685
END:VEVENT
BEGIN:VEVENT
DTSTART;VALUE=DATE:20260818
DTEND;VALUE=DATE:20260819
DTSTAMP:20260420T100946
CREATED:20250106T140105Z
LAST-MODIFIED:20260115T053957Z
UID:10001068-1787011200-1787097599@www.joka.golf
SUMMARY:Open.9 Golf Eichenried JOKA After-Work Trophy
DESCRIPTION:
URL:https://www.joka.golf/event/open-9-golf-eichenried-joka-after-work-trophy-2/
LOCATION:Open-9 Golf Eichenried\, Schönstraße\, Moosinning\, Oberbayern\, 85452\, Germany
CATEGORIES:Turniere,Turnierkalender
ATTACH;FMTTYPE=image/jpeg:https://www.joka.golf/wp-content/uploads/Open.9-Golf-Eichenried.jpeg
ORGANIZER;CN="Golf Emotion":MAILTO:info@golf-emotion.eu
GEO:48.2710685;11.7569127
X-APPLE-STRUCTURED-LOCATION;VALUE=URI;X-ADDRESS=Open-9 Golf Eichenried Schönstraße Moosinning Oberbayern 85452 Germany;X-APPLE-RADIUS=500;X-TITLE=Schönstraße:geo:11.7569127,48.2710685
END:VEVENT
BEGIN:VEVENT
DTSTART;VALUE=DATE:20260901
DTEND;VALUE=DATE:20260902
DTSTAMP:20260420T100946
CREATED:20250106T140250Z
LAST-MODIFIED:20260115T053849Z
UID:10001069-1788220800-1788307199@www.joka.golf
SUMMARY:Open.9 Golf Eichenried JOKA After-Work Trophy -Finale-
DESCRIPTION:
URL:https://www.joka.golf/event/open-9-golf-eichenried-joka-after-work-trophy-finale/
LOCATION:Open-9 Golf Eichenried\, Schönstraße\, Moosinning\, Oberbayern\, 85452\, Germany
CATEGORIES:Turniere,Turnierkalender
ATTACH;FMTTYPE=image/jpeg:https://www.joka.golf/wp-content/uploads/Open.9-Golf-Eichenried.jpeg
ORGANIZER;CN="Golf Emotion":MAILTO:info@golf-emotion.eu
GEO:48.2710685;11.7569127
X-APPLE-STRUCTURED-LOCATION;VALUE=URI;X-ADDRESS=Open-9 Golf Eichenried Schönstraße Moosinning Oberbayern 85452 Germany;X-APPLE-RADIUS=500;X-TITLE=Schönstraße:geo:11.7569127,48.2710685
END:VEVENT
END:VCALENDAR