BEGIN:VCALENDAR
VERSION:2.0
PRODID:-//JOKA Rules Tournament Series - ECPv6.15.11//NONSGML v1.0//EN
CALSCALE:GREGORIAN
METHOD:PUBLISH
X-WR-CALNAME:JOKA Rules Tournament Series
X-ORIGINAL-URL:https://www.joka.golf
X-WR-CALDESC:Veranstaltungen für JOKA Rules Tournament Series
REFRESH-INTERVAL;VALUE=DURATION:PT1H
X-Robots-Tag:noindex
X-PUBLISHED-TTL:PT1H
BEGIN:VTIMEZONE
TZID:Europe/Berlin
BEGIN:DAYLIGHT
TZOFFSETFROM:+0100
TZOFFSETTO:+0200
TZNAME:CEST
DTSTART:20250330T010000
END:DAYLIGHT
BEGIN:STANDARD
TZOFFSETFROM:+0200
TZOFFSETTO:+0100
TZNAME:CET
DTSTART:20251026T010000
END:STANDARD
BEGIN:DAYLIGHT
TZOFFSETFROM:+0100
TZOFFSETTO:+0200
TZNAME:CEST
DTSTART:20260329T010000
END:DAYLIGHT
BEGIN:STANDARD
TZOFFSETFROM:+0200
TZOFFSETTO:+0100
TZNAME:CET
DTSTART:20261025T010000
END:STANDARD
BEGIN:DAYLIGHT
TZOFFSETFROM:+0100
TZOFFSETTO:+0200
TZNAME:CEST
DTSTART:20270328T010000
END:DAYLIGHT
BEGIN:STANDARD
TZOFFSETFROM:+0200
TZOFFSETTO:+0100
TZNAME:CET
DTSTART:20271031T010000
END:STANDARD
END:VTIMEZONE
BEGIN:VEVENT
DTSTART;VALUE=DATE:20260423
DTEND;VALUE=DATE:20260424
DTSTAMP:20260419T150917
CREATED:20240206T230000Z
LAST-MODIFIED:20251216T121450Z
UID:10001571-1776902400-1776988799@www.joka.golf
SUMMARY:West Golf JOKA After-Work Trophy
DESCRIPTION:
URL:https://www.joka.golf/event/west-golf-joka-after-work-trophy-3/2026-04-23/
LOCATION:West Golf\, Am Golfplatz 1\, Troisdorf\, 53844\, Deutschland
CATEGORIES:Turniere,Turnierkalender
ATTACH;FMTTYPE=image/jpeg:https://www.joka.golf/wp-content/uploads/GC-West-Golf-Troisdorf-4.jpg
ORGANIZER;CN="Golf Emotion":MAILTO:info@golf-emotion.eu
END:VEVENT
BEGIN:VEVENT
DTSTART;VALUE=DATE:20260507
DTEND;VALUE=DATE:20260508
DTSTAMP:20260419T150917
CREATED:20240206T230000Z
LAST-MODIFIED:20251216T121450Z
UID:10001572-1778112000-1778198399@www.joka.golf
SUMMARY:West Golf JOKA After-Work Trophy
DESCRIPTION:
URL:https://www.joka.golf/event/west-golf-joka-after-work-trophy-3/2026-05-07/
LOCATION:West Golf\, Am Golfplatz 1\, Troisdorf\, 53844\, Deutschland
CATEGORIES:Turniere,Turnierkalender
ATTACH;FMTTYPE=image/jpeg:https://www.joka.golf/wp-content/uploads/GC-West-Golf-Troisdorf-4.jpg
ORGANIZER;CN="Golf Emotion":MAILTO:info@golf-emotion.eu
END:VEVENT
BEGIN:VEVENT
DTSTART;VALUE=DATE:20260702
DTEND;VALUE=DATE:20260703
DTSTAMP:20260419T150917
CREATED:20240206T230000Z
LAST-MODIFIED:20251216T122755Z
UID:10001575-1782950400-1783036799@www.joka.golf
SUMMARY:West Golf JOKA After-Work Trophy
DESCRIPTION:
URL:https://www.joka.golf/event/west-golf-joka-after-work-trophy-4/2026-07-02/
LOCATION:West Golf\, Am Golfplatz 1\, Troisdorf\, 53844\, Deutschland
CATEGORIES:Turniere,Turnierkalender
ATTACH;FMTTYPE=image/jpeg:https://www.joka.golf/wp-content/uploads/GC-West-Golf-Troisdorf-4.jpg
ORGANIZER;CN="Golf Emotion":MAILTO:info@golf-emotion.eu
END:VEVENT
BEGIN:VEVENT
DTSTART;VALUE=DATE:20260704
DTEND;VALUE=DATE:20260705
DTSTAMP:20260419T150917
CREATED:20240206T230000Z
LAST-MODIFIED:20251216T100347Z
UID:10000932-1783123200-1783209599@www.joka.golf
SUMMARY:West Golf JOKA Matchday-Plus Tagesturnier
DESCRIPTION:
URL:https://www.joka.golf/event/west-golf-joka-matchday-plus-tagesturnier/
LOCATION:West Golf\, Am Golfplatz 1\, Troisdorf\, 53844\, Deutschland
CATEGORIES:Turniere,Turnierkalender
ATTACH;FMTTYPE=image/jpeg:https://www.joka.golf/wp-content/uploads/GC-West-Golf-Troisdorf.jpg
ORGANIZER;CN="Golf Emotion":MAILTO:info@golf-emotion.eu
END:VEVENT
BEGIN:VEVENT
DTSTART;VALUE=DATE:20260716
DTEND;VALUE=DATE:20260717
DTSTAMP:20260419T150917
CREATED:20240206T230000Z
LAST-MODIFIED:20251216T122755Z
UID:10001576-1784160000-1784246399@www.joka.golf
SUMMARY:West Golf JOKA After-Work Trophy
DESCRIPTION:
URL:https://www.joka.golf/event/west-golf-joka-after-work-trophy-4/2026-07-16/
LOCATION:West Golf\, Am Golfplatz 1\, Troisdorf\, 53844\, Deutschland
CATEGORIES:Turniere,Turnierkalender
ATTACH;FMTTYPE=image/jpeg:https://www.joka.golf/wp-content/uploads/GC-West-Golf-Troisdorf-4.jpg
ORGANIZER;CN="Golf Emotion":MAILTO:info@golf-emotion.eu
END:VEVENT
BEGIN:VEVENT
DTSTART;VALUE=DATE:20260827
DTEND;VALUE=DATE:20260828
DTSTAMP:20260419T150917
CREATED:20240206T230000Z
LAST-MODIFIED:20251216T121053Z
UID:10000709-1787788800-1787875199@www.joka.golf
SUMMARY:West Golf JOKA After-Work Trophy -Finale-
DESCRIPTION:
URL:https://www.joka.golf/event/west-golf-joka-after-work-trophy-finale/
LOCATION:West Golf\, Am Golfplatz 1\, Troisdorf\, 53844\, Deutschland
CATEGORIES:Turniere,Turnierkalender
ATTACH;FMTTYPE=image/jpeg:https://www.joka.golf/wp-content/uploads/GC-West-Golf-Troisdorf.jpg
ORGANIZER;CN="Golf Emotion":MAILTO:info@golf-emotion.eu
END:VEVENT
END:VCALENDAR